{"text_format":"2","workbook":"xlsx","n_sheets":10,"sheets":["Kõik","Maakond","Tegevusala","Koond","Seveso","Luba","EKTL","Tegevusala+Maakond","Kustutatud","Peatatud"],"not_rendered":{"charts":11,"images":0,"macros":0,"external_links":0,"defined_names":1,"comments":1,"pivot_tables":0},"unopened":[],"bounds":{"document_bytes":16777216,"sheet_cells":100000,"run_cost":"one","rows_first":2000,"rows_last":500,"rows_between":2000,"halvings":0,"cell_chars":16384,"cell_head_chars":4096},"cells_cut":0,"cells_raw":0,"read":"whole","date_system":"1900"}

{"sheet":"Kõik","index":0,"n_rows":230,"n_cols":36,"rows_kept":230,"cut":false,"hidden":false,"merged":[]}
[{"$nulls":35},"Lisa 2"]
[{"$nulls":35},"Ohutusjärelevalve valdkonna kemikaaliohutuse "]
[{"$nulls":35},"kontrolli teenuse ohuprognoosi hindamine ning "]
[{"$nulls":35},"uue ohuprognoosi kinnitamine juurde"]
["Interaktiivne A-B-C tabel ohtlike kemikaalide käitlemiskohti puudutava informatsiooniga"]
[]
["Käitis","kommentaarid","KAT","EKTL","Tegevus","Seveso","Maakond","Linn","Vald","Küla","Aadress","Oht","Domino","TL asi","TL kp","RA asi","RA kp","HOLP asi","HOLP kp","OTS asi","OTS kp","OA asi","OA kp","Luba","Loa nr","Loa kp","e-mail","JVIS","PA",2015,"2016","2017","2018","2019","2020","2021"]
["Agrochema Eesti OÜ Jõgeva Agrokeskus",null,"B",null,"Väetised","väetiste tootmine ja ladustamine","Jõgevamaa","Jõgeva",null,null,"Turu 7a",null,null,"15-1487","2016-11-17","15-1487","2016-09-01","13-1043","2013-05-08","15-1487","2015-10-14",null,null,"KemS","OKK-02-11","2011-11-24","agro@agrochemaeesti.ee ","2015-08-13","2016-09-27","TJA/PA","PA",null,"TJA","PA",null,"TJA"]
["Airok OÜ",null,"C",null,"Gaas","keemiatööstuskäitised - tööstusgaasid","Viljandimaa","Viljandi",null,null,"Pärnu mnt 24a",465,null,"12-0444","2012-08-08","13-0757","2013-06-06","13-0757","2013-11-07",{"$nulls":4},"KemS","OKK-10-14","2014-03-24","airok@airok.eu ","2013-05-09","2016-10-11",null,"PA",null,"TJA",null,null,"PA"]
["Airok OÜ - Fra Mare Thalasso Spa",null,"C",null,"Gaas","vedelgaasi ladustamine","Läänemaa","Haapsalu",null,null,"Ranna tee 2",399,null,"15-1318","2015-09-11","15-1318","2016-05-16","15-1318","2015-09-08",{"$nulls":4},"Taotlus","taotlus sees","2015-09-04","airok@airok.eu ","2015-09-09",null,"TJA",null,"PA",null,null,"TJA"]
["Akzo Nobel Baltics AS",null,"C","x","Värvid","üldine kemikaalide tootmine (eespool nimetamata)","Raplamaa","Rapla",null,null,"Kastani 7",200,null,"12-1274","2012-05-25","12-1274","2012-10-19","12-1274","2015-06-29",{"$nulls":4},"THS","L.KKL.RA-19253","2003-11-14","es@sadolin.ee ","2015-03-19","2013-07-12","TJA","PA","PA",null,null,"TJA/PA"]
["Alexela Energia AS",null,"A",null,"Gaas","vedelgaasi ladustamine","Tartumaa",null,"Kambja","Vana-Kuuste","Kolga",639,null,"16-0912","2016-05-27","14-0995","2015-04-29","14-0995","2015-07-27",null,null,"14-0995","2015-04-29","KemS","OKK-18-11","2011-11-28","info@alexelaenergia.ee","2016-08-23","2015-04-21","PA","TJA","PA","TJA","PA","TJA","PA"]
["Alexela Energia AS - Agromax OÜ viljakuivati",null,"C",null,"Gaas","vedelgaasi ladustamine","Tartumaa",null,"Haasvala","Tõõraste","Reola purustusplats",392,null,"14-1613","2016-05-20","14-1613","2015-04-24","14-1613","2016-04-28",{"$nulls":4},"KemS","OKK-05-16","2016-05-24","info@alexelaenergia.ee",null,"2015-10-23","PA",{"$nulls":4},"PA"]
["Alexela Energia AS - Anton Peeki Undi Talu viljakuivati",null,"C",null,"Gaas","vedelgaasi ladustamine","Viljandimaa",null,"Tarvastu","Mõnnaste","Undi-Kuivati",392,null,"14-1613","2016-05-25","14-1613","2015-02-17","14-1613","2016-04-28",{"$nulls":4},"KemS","OKK-08-16","2016-05-27","info@alexelaenergia.ee",null,"2015-11-12","PA",{"$nulls":4},"PA"]
["Alexela Energia AS - HTM Grupp OÜ viljakuivati",null,"C",null,"Gaas","vedelgaasi ladustamine","Järvamaa",null,"Türi","Kabala","Hoidla 1",392,null,"14-1613","2016-05-31","14-1613","2015-03-20","14-1613","2016-05-30",{"$nulls":4},"KemS","OKK-09-16","2016-06-07","info@alexelaenergia.ee","2014-11-24",null,null,"PA","PA"]
["Alexela Energia AS - Laekvere PM OÜ viljakuivati",null,"C",null,"Gaas","vedelgaasi ladustamine","Lääne-Virumaa",null,"Laekvere","Venevere","Kuivati",394,null,"14-1613","2016-05-31","14-1613","2015-03-20","14-1613","2016-06-01",{"$nulls":4},"KemS","OKK-12-16","2016-06-20","info@alexelaenergia.ee",null,null,null,"PA","PA"]
["Alexela Energia AS - Saka ERA OÜ viljakuivati",null,"C",null,"Gaas","vedelgaasi ladustamine","Ida-Virumaa",null,"Lüganuse","Varju","Heina",394,null,"14-1613","2016-05-31","14-1613","2015-03-20","14-1613","2016-06-17",{"$nulls":4},"KemS","OKK-10-16","2016-06-20","info@alexelaenergia.ee",null,null,null,"PA","PA"]
["Alexela Energia AS - Scandagra Eesti AS viljakuivati",null,"C",null,"Gaas","vedelgaasi ladustamine","Tartumaa","Elva",null,null,"Tööstuse 17",392,null,"14-1613","2016-05-25","14-1613","2015-04-29","14-1613","2016-04-29",{"$nulls":4},"KemS","OKK-07-16","2016-05-27","info@alexelaenergia.ee",null,"2015-11-12","PA",{"$nulls":4},"PA"]
["Alexela Energia AS - Viljameister OÜ viljakuivati",null,"C",null,"Gaas","vedelgaasi ladustamine","Tartumaa",null,"Konguta","Kobilu","Kobilo mõis",392,null,"14-1613","2016-05-25","14-1613","2015-03-18","14-1613","2016-04-28",{"$nulls":4},"KemS","OKK-06-16","2016-05-27","info@alexelaenergia.ee",null,"2015-11-12","PA",{"$nulls":4},"PA"]
["Alexela Energia AS - Voore Farm OÜ viljakuivati",null,"C",null,"Gaas","vedelgaasi ladustamine","Lääne-Virumaa",null,"Vinni","Voore","Kuivati",394,null,"14-1613","2016-05-31","14-1613","2015-03-20","14-1613","2016-06-01",{"$nulls":4},"KemS","OKK-11-16","2016-06-20","info@alexelaenergia.ee",null,"2015-08-24","PA",{"$nulls":4},"PA"]
["Alexela Energia AS - mobiilne LCNG seade",null,"C",null,"Gaas","vedelgaasi ladustamine","Võrumaa","Võru",null,null,"Kose tee 6",null,null,"16-1629","2016-11-07","16-1629","2016-11-18",{"$nulls":6},"Taotlus","taotlus sees","2016-11-14","energia@alexela.ee"]
["Alexela Oil AS - Anne",null,"C",null,"Tankla","kütuste ladustamine (sh kütmine, jaemüük jne)","Tartumaa","Tartu",null,null,"Anne 46",384,null,"13-1897","2016-08-09","13-1897","2014-04-25","13-1897","2014-11-03",{"$nulls":4},"KemS","OKK-48-14","2014-11-20","alexela@alexela.ee",null,"2016-11-14",null,"PA",{"$nulls":4},"PA"]
["Alexela Oil AS - Ehitajate tee",null,"C",null,"Tankla","kütuste ladustamine (sh kütmine, jaemüük jne)","Harjumaa","Tallinn",null,null,"Ehitajate tee 114c",384,null,"13-1897","2016-08-09","13-1897","2014-04-25","13-1897","2014-11-13",{"$nulls":4},"KemS","OKK-34-14","2014-11-20","alexela@alexela.ee",null,"2014-11-13",null,null,null,"PA"]
["Alexela Oil AS - Elva",null,"C",null,"Tankla","kütuste ladustamine (sh kütmine, jaemüük jne)","Tartumaa","Elva",null,null,"Kulbilohu 3",384,null,"13-1897","2016-08-09","13-1897","2014-04-25","13-1897","2014-11-03",{"$nulls":4},"KemS","OKK-47-14","2014-11-20","alexela@alexela.ee",null,"2014-10-29",null,null,null,"PA"]
["Alexela Oil AS - Haapsalu",null,"C",null,"Tankla","kütuste ladustamine (sh kütmine, jaemüük jne)","Läänemaa","Haapsalu",null,null,"Tallinna mnt 64a",384,null,"13-1897","2016-08-09","13-1897","2014-04-25","13-1897","2014-11-03",{"$nulls":4},"KemS","OKK-43-14","2014-11-20","alexela@alexela.ee",null,"2014-10-23",null,null,null,"PA",null,"PA"]
["Alexela Oil AS - Jõgeva",null,"C",null,"Tankla","kütuste ladustamine (sh kütmine, jaemüük jne)","Jõgevamaa","Jõgeva",null,null,"Piiri 16",384,null,"13-1897","2016-08-09","13-1897","2014-04-25","13-1897","2014-11-05",{"$nulls":4},"KemS","OKK-42-14","2014-11-20","alexela@alexela.ee",null,"2014-11-05",null,null,null,"PA",null,"PA"]
["Alexela Oil AS - Jõhvi",null,"C",null,"Tankla","kütuste ladustamine (sh kütmine, jaemüük jne)","Ida-Virumaa","Jõhvi",null,null,"Rakvere 44",384,null,"13-1897","2016-08-09","13-1897","2014-04-25","13-1897","2014-11-18",{"$nulls":4},"KemS","OKK-50-14","2014-11-20","alexela@alexela.ee",null,"2014-11-04",null,null,"PA"]
["Alexela Oil AS - Jüri",null,"C",null,"Tankla","kütuste ladustamine (sh kütmine, jaemüük jne)","Harjumaa",null,"Rae","Jüri","Aleviku tee 5",384,null,"13-1897","2016-08-09","13-1897","2014-04-25","13-1897","2014-11-12",{"$nulls":4},"KemS","OKK-38-14","2014-11-20","alexela@alexela.ee",null,"2014-11-12",null,null,null,"PA"]
["Alexela Oil AS - Keila",null,"C",null,"Tankla","kütuste ladustamine (sh kütmine, jaemüük jne)","Harjumaa","Keila",null,null,"Ülejõe tee 2C",386,null,"13-1897","2016-08-09","13-1897","2016-03-31","13-1897","2016-05-02",{"$nulls":4},"KemS","OKK-03-16","2016-05-17","alexela@alexela.ee",null,null,null,"PA","PA"]
["Alexela Oil AS - Kuressaare",null,"C",null,"Tankla","kütuste ladustamine (sh kütmine, jaemüük jne)","Saaremaa","Kuressaare",null,null,"Sõrve tee 2",424,null,"13-1897","2016-08-09","13-1897","2014-06-19","13-1897","2014-11-06",{"$nulls":4},"KemS","OKK-45-14","2014-11-20","alexela@alexela.ee",null,"2014-06-18",null,"PA","PA"]
["Alexela Oil AS - Laagri",null,"C",null,"Tankla","kütuste ladustamine (sh kütmine, jaemüük jne)","Harjumaa",null,"Saue","Laagri","Pärnu mnt 556A",384,null,"13-1897","2016-08-09","13-1897","2014-04-25","13-1897","2014-11-11",{"$nulls":4},"KemS","OKK-39-14","2014-11-20","alexela@alexela.ee",null,"2014-11-11",null,null,null,"PA"]
["Alexela Oil AS - Loo",null,"C",null,"Tankla","kütuste ladustamine (sh kütmine, jaemüük jne)","Harjumaa",null,"Jõelähtme","Loo","Niidu tee 2",424,null,"13-1897","2016-08-09","13-1897","2014-06-19","13-1897","2014-11-12",{"$nulls":4},"KemS","OKK-40-14","2014-11-20","alexela@alexela.ee",null,"2014-11-12",null,null,null,"PA"]
["Alexela Oil AS - Paldiski",null,"C",null,"Tankla","kütuste ladustamine (sh kütmine, jaemüük jne)","Harjumaa","Paldiski",null,null,"Tallinna mnt 20",384,null,"13-1897","2016-08-09","13-1897","2014-04-25","13-1897","2014-11-14",{"$nulls":4},"KemS","OKK-37-14","2014-11-20","alexela@alexela.ee",null,"2014-11-14",null,null,null,"PA"]
["Alexela Oil AS - Põltsamaa",null,"C",null,"Tankla","kütuste ladustamine (sh kütmine, jaemüük jne)","Jõgevamaa","Põltsamaa",null,null,"Piiri",384,null,"13-1897","2016-08-09","13-1897","2014-04-25","13-1897","2014-11-06",{"$nulls":4},"KemS","OKK-41-14","2014-11-20","alexela@alexela.ee",null,"2014-11-05",null,null,"PA"]
["Alexela Oil AS - Põlva",null,"C",null,"Tankla","kütuste ladustamine (sh kütmine, jaemüük jne)","Põlvamaa","Põlva",null,null,"Jaama 16b",384,null,"13-1897","2016-08-09","13-1897","2014-04-25","13-1897","2014-11-18",{"$nulls":4},"KemS","OKK-44-14","2014-11-20","alexela@alexela.ee",null,"2014-11-14",null,null,"PA"]
["Alexela Oil AS - Ringtee",null,"C",null,"Tankla","kütuste ladustamine (sh kütmine, jaemüük jne)","Tartumaa","Tartu",null,null,"Ringtee 75b",384,null,"13-1897","2016-08-09","13-1897","2014-04-25","13-1897","2014-10-10",{"$nulls":4},"KemS","OKK-46-14","2014-11-20","alexela@alexela.ee",null,"2014-10-01",null,null,"PA"]
["Alexela Oil AS - Sõle",null,"C",null,"Tankla","kütuste ladustamine (sh kütmine, jaemüük jne)","Harjumaa","Tallinn",null,null,"Sõle 27a",384,null,"13-1897","2016-08-09","13-1897","2014-04-03","13-1897","2014-11-13",{"$nulls":4},"KemS","OKK-35-14","2014-11-20","alexela@alexela.ee",null,"2014-11-13",null,null,null,"PA"]
["Alexela Oil AS - Vesse",null,"C",null,"Tankla","kütuste ladustamine (sh kütmine, jaemüük jne)","Harjumaa","Tallinn",null,null,"Vesse 2",384,null,"13-1897","2016-08-09","13-1897","2014-04-25","13-1897","2014-11-13",{"$nulls":4},"KemS","OKK-36-14","2014-11-20","alexela@alexela.ee",null,"2014-11-13",null,null,null,"PA"]
["Alexela Oil AS - Viljandi",null,"C",null,"Tankla","kütuste ladustamine (sh kütmine, jaemüük jne)","Viljandimaa","Viljandi",null,null,"Uus 4",424,null,"13-1897","2016-08-09","13-1897","2014-06-20","13-1897","2014-11-05",{"$nulls":4},"KemS","OKK-49-14","2014-11-20","alexela@alexela.ee",null,"2014-10-31",null,null,"PA"]
["Alexela Sillamäe AS (põhiterritoorium)",null,"A",null,"Terminal","kütuste ladustamine (sh kütmine, jaemüük jne)","Ida-Virumaa","Sillamäe",null,null,"Kesk 2b, g, u",null,null,"15-1505","2015-10-02",null,null,"12-0693","2012-05-17",null,null,"12-0693","2012-05-10","THS","KKL/321724","2012-10-16","terminal@alexelasillamae.ee","2015-09-24","2015-07-28","TJA/PA","PA","PA","TJA","PA","TJA","PA"]
["Alexela Sillamäe AS (sisepark)",null,"B",null,"Põlevkiviõli","kütuste ladustamine (sh kütmine, jaemüük jne)","Ida-Virumaa","Sillamäe",null,null,"Kesk 2p",null,null,"15-1505","2016-09-26",null,null,"12-0693","2012-05-17",null,null,"11-1018","2011-12-14","THS","KKL/321724","2012-10-16","terminal@alexelasillamae.ee","2016-09-08","2015-07-28","PA","TJA","PA","TJA","PA","TJA","PA"]
["Alexela Terminal AS",null,"A",null,"Terminal","kütuste ladustamine (sh kütmine, jaemüük jne)","Harjumaa","Paldiski",null,null,"Rae põik 6",2000,null,"14-0453","2016-03-12","14-0453","2014-04-01","14-0453","2014-04-07","14-0453","2014-04-01","14-0453","2014-04-01","KemS","OKK-01-11","2011-11-21","terminal@alexelaterminal.ee ","2015-10-29","2015-04-21","TJA/PA","PA","PA","TJA","PA","TJA","PA"]
["Alfapath OÜ Kroodi Tehnopargi Naftasaaduste Terminal",null,"C",null,"Terminal","kütuste ladustamine (sh kütmine, jaemüük jne)","Harjumaa","Maardu",null,null,"Kroodi 2",null,null,"13-2029","2016-11-16","13-2029","2014-02-25","13-2029","2014-05-23",{"$nulls":4},"KemS","OKK-23-14","2014-05-26","alfapath@gmail.com","2016-09-28","2014-09-19","PA","TJA",null,"PA",null,null,"TJA/PA"]
["APChemicals OÜ",null,"C","x","Autokeemia","ladustamine ja turustamine hulgi- ja jaemüügi puhul (v.a. vedelgaas)","Tartumaa",null,"Tartu","Vasula","Lao",154,null,"16-1310","2016-08-19","12-0436","2012-12-12","12-0436","2013-01-30",{"$nulls":4},"KemS","OKK-06-14","2014-03-20","info@apkeemia.ee","2016-08-18","2016-10-31",null,"TJA/PA",null,null,"PA",null,"TJA"]
["Arctic Orbiit OÜ",null,"B",null,"Pürotehnika","pürotehnika toodete tootmine ja ladustamine","Võrumaa",null,"Antsla","Tsooru","Keldri",null,null,"13-1803","2016-05-31","13-0070","2013-12-16","13-1803","2013-12-20","13-1803","2013-10-31",null,null,"LMS","04-13","2013-12-30","tuli@tulekuller.ee ","2015-08-14","2015-10-29","TJA/PA",null,null,"PA","TJA",null,"PA"]
["Atria Eesti AS Valga tootmistsehh",null,"C",null,"Külmhoone","toiduainete ja jookide tootmine","Valgamaa","Valga",null,null,"Metsa 19",null,null,"13-0185","2013-01-17","13-0185","2013-07-25","13-0185","2014-01-31",{"$nulls":4},"KemS","OKK-61-14","2015-02-25","info@atria.ee","2013-09-13","2014-01-23","PA",null,"TJA","PA",null,null,"PA"]
["Balbiino AS",null,"C",null,"Külmhoone","toiduainete ja jookide tootmine","Harjumaa","Tallinn ",null,null,"Viljandi mnt 26",321,null,"16-1439","2016-09-19","13-0399","2013-02-28","11-0855","2011-11-04",{"$nulls":4},"KemS","OKK-66-14","2014-12-22","info@balbiino.ee","2014-06-18","2014-03-27",null,null,"PA",null,"TJA","PA"]
["Balford Chemicals OÜ","pankrotis","C",null,"Terminal","kütuste ladustamine (sh kütmine, jaemüük jne)","Lääne-Virumaa","Rakvere",null,null,"Narva mnt 42",{"$nulls":12},"Puudub",null,null,null,"2008-06-06"]
["Balsnack International Holding AS",null,"C",null,"Külmhoone","toiduainete ja jookide tootmine","Harjumaa",null,"Saue","Ääsmäe","Mõisa tee 11",387,null,"15-0956","2015-06-16","15-0956","2016-04-08","13-0389","2014-05-06",{"$nulls":4},"KemS","OKK-01-15","2015-01-16","balsnack@balsnack.ee","2015-05-07","2014-04-14","TJA",null,"PA",null,null,"TJA/PA"]
["Balti Karusnahk AS",null,"C",null,"Külmhoone","toiduainete ja jookide tootmine","Harjumaa",null,"Keila","Karjaküla","Karjaküla",106,null,"16-1424","2016-09-16","14-1442","2014-12-22","14-1442","2014-12-16",{"$nulls":4},"KemS","OKK-02-15","2015-01-20","info@baltikarusnahk.ee","2015-05-07","2014-12-16","TJA",null,"PA",null,null,"TJA/PA"]
["Baltic Foam OÜ",null,"B",null,"Poroloon","plasti ja kummitootmine","Harjumaa","Maardu",null,null,"Nuudi tee 20",11,null,"14-1171","2014-08-13","14-1171","2014-11-20","14-1171","2014-12-07","14-1171","2014-12-15",null,null,"THS","KKL/325743","2015-01-21","info@balticfoam.ee","2015-12-10","2015-09-10","TJA/PA",null,"TJA","PA",null,"TJA","PA"]
["Baltic Oil Service OÜ",null,"A",null,"Terminal","ladustamine ja turustamine hulgi- ja jaemüügi puhul (v.a. vedelgaas)","Harjumaa","Paldiski",null,null,"Rae põik 9",null,null,"16-1290","2016-08-30","16-1290","2016-08-18",null,null,"16-1290","2016-08-18","16-1290","2016-08-18","Taotlus","taotlus sees","2016-08-18","terminal@bos.com.ee",null,null,null,"TJA","PA","TJA","PA","TJA","PA"]
["Baltic Tank AS",null,"B",null,"Terminal","ladustamine ja turustamine hulgi- ja jaemüügi puhul (v.a. vedelgaas)","Lääne-Virumaa","Kunda",null,null,"Uus-Sadama tee 2",1300,null,"13-0960","2016-09-16","13-0960","2013-06-07","13-0960","2014-01-30","13-0960","2013-05-14",null,null,"KemS","OKK-28-11","2011-11-30","kunda@baltictank.ee ","2016-09-07","2015-08-13","PA","TJA",null,"PA","TJA",null,"PA"]
["Baltimark OÜ",null,"C",null,"Väetised","väetiste tootmine ja ladustamine","Harjumaa","Tallinn",null,null,"Paljassaare tee 30b",500,null,"12-1683","2012-08-09","13-0323","2013-02-15","13-0323","2013-03-11",{"$nulls":4},"KemS","OKK-33-14","2014-11-11","roman.loov@joeston.ee","2015-11-27","2015-04-10","TJA/PA",null,"PA","TJA",null,"PA"]
["BLRT Transiit OÜ",null,"B",null,"Väetised","väetiste tootmine ja ladustamine","Harjumaa","Tallinn",null,null,"Kopli 103",940,null,"14-0527","2015-02-02","14-0527","2014-12-22","14-0527","2015-01-06","14-0527","2014-12-04",null,null,"KemS","OKK-03-11","2011-11-24","transiit@bsr.ee ","2014-01-31","2015-09-08","PA",null,"TJA","PA",null,"TJA","PA"]
["Cipax Eesti AS",null,"C",null,"Gaas","vedelgaasi ladustamine","Läänemaa",null,"Lääne-Nigula","Taebla","Nurme 5",399,null,"15-0993","2016-06-20","15-0993","2015-10-15","15-0993","2016-04-11",{"$nulls":4},"KemS","OKK-01-16","2016-04-15","estonia@cipax.com","2015-09-09",null,"TJA","PA","PA",null,null,"TJA"]
["DBT AS",null,"A",null,"Väetised","väetiste tootmine ja ladustamine","Harjumaa",null,"Viimsi","Muuga","Koorma 13a",4905,null,"16-0651","2016-05-31","13-1739","2013-11-05","13-1739","2014-04-28","13-1739","2013-11-05","13-1620","2013-11-05","KemS","OKK-04-11","2011-11-24","dbt@dbtmuuga.ee","2013-11-27","2015-06-11","PA","TJA","PA","PA","TJA","PA","TJA"]
["DBT AS - BCT terminal","03.03.2016 taoltus tegevusloa tühistamiseks -> uus DBT AS","A",null,"Terminal","keemiatööstuskäitised - ammoniaak","Ida-Virumaa","Sillamäe",null,null,"Kesk 2C",4300,null,"16-0651","2016-05-15","16-0651","2016-08-09","16-0651","2016-04-11",null,null,"16-0651","2016-08-09","KemS","OKK-24-11","2011-11-30","bct@bct.ee ","2016-09-08","2015-07-22","PA","TJA","PA","PA","TJA","PA","TJA"]
["Dekoil OÜ",null,"A",null,"Terminal","kütuste ladustamine (sh kütmine, jaemüük jne)","Harjumaa","Tallinn",null,null,"Kopli 103B",null,null,"16-0946","2016-06-07","11-1044","2011-06-22","11-1044","2015-01-12","11-1044","2011-06-22","11-1044","2011-06-22","KemS","OKK-05-11","2011-11-24","dekoil@dekoil.ee","2016-11-01","2015-02-12","PA","TJA/PA","PA","TJA","PA","TJA","PA"]
["Eastman Specialties OÜ",null,"B","x","Bensoehape","üldine kemikaalide tootmine (eespool nimetamata)","Ida-Virumaa","Kohtla-Järve",null,null,"Uus-Tehase 8",500,null,"16-0854","2016-05-31","12-0628","2012-11-07","15-1488","2015-09-29","16-0854","2016-10-27",null,null,"THS","KKL/162972","2007-09-28","kjinfo@eastman.com","2014-10-09","2015-05-05","PA","PA","TJA","PA",null,"TJA","PA"]
["Ecometal AS",null,"C","x","Jäätmed","jäätmete ladustamine, käitlemine ja kõrvaldamine","Ida-Virumaa","Sillamäe",null,null,"Kesk 2/26",500,null,"16-1357","2016-09-05","13-0445","2013-09-19","13-0445","2013-10-29",{"$nulls":4},"THS","KKL/20429","2003-11-14","ecometal@ecometal.ee ","2014-06-05","2015-11-02","PA",null,null,"PA","TJA",null,"PA"]
["Eesti AGA AS Maardu täitejaam",null,"C",null,"Gaas","keemiatööstuskäitised - tööstusgaasid","Harjumaa","Maardu",null,null,"Vana-Narva mnt 28a",116,null,"16-1595","2016-10-25","13-1575","2014-06-09",{"$nulls":6},"KemS","OKK-33-11","2011-12-22","aga@aga.ee","2013-05-16","2014-09-09",null,null,"PA","TJA",null,"PA"]
["Eesti Energia AS Iru Elektrijaam",null,"B",null,"Gaas","elektrienergia tootmine, tarnimine ja jaotamine","Harjumaa","Maardu",null,null,"Peterburi tee 105",70,null,"13-0689","2016-03-16","13-0689","2013-10-16","13-0689","2014-01-09","13-0689","2014-01-06",null,null,"THS","L.KKL.HA-222658","2005-11-28","iru@energia.ee","2015-11-11","2015-07-16","TJA/PA",null,"PA",null,"TJA","PA"]
["Eesti Energia Õlitööstus AS",null,"A","x","Põlevkiviõli","üldine kemikaalide tootmine (eespool nimetamata)","Ida-Virumaa",null,"Vaivara","Auvere","Põhjaterritooriumi",94,null,"16-0976","2016-06-17","12-1784","2013-10-21","12-1784","2012-10-09",null,2008,"12-1784","2013-01-21","THS","KKL/176540","2008-10-07","olitehas@energia.ee ","2016-09-20","2014-08-27","PA","TJA","PA","PA","TJA","PA","TJA"]
["Eesti Kalapüügiühistu TÜH",null,"C",null,"Külmhoone","toiduainete ja jookide tootmine","Pärnumaa",null,"Audru","Lemmetsa","Lagre tee 3",627,null,"16-1404","2016-09-16","12-1283","2012-11-21","12-1283","2013-11-05",{"$nulls":4},"KemS","OKK-51-14","2014-12-05","mart@estofish.ee ","2012-04-25","2013-09-23",null,"PA","TJA","PA",null,null,"PA"]
["Eesti Traalpüügi Ühistu (Paldiski Külmhoone)",null,"C",null,"Külmhoone","toiduainete ja jookide tootmine","Harjumaa","Paldiski",null,null,"Jaama 6c",212,null,"16-0830","2016-05-19","12-0778","2013-02-01","12-0778","2013-02-14",{"$nulls":4},"KemS","OKK-04-14","2014-03-12"," info@traalpyyk.ee  ","2016-04-14","2014-03-19",null,"TJA","PA",null,null,"PA","TJA"]
["Elering AS Kiisa AREJ",null,"B",null,"Diiselkütus","elektrienergia tootmine, tarnimine ja jaotamine","Harjumaa",null,"Saku","Kirdalu","Tagamaa",100,null,"11-1780","2011-10-18","12-1209","2012-09-28","12-1209","2013-05-16","12-1209","2012-06-21",null,null,"THS","KKL/321813","2012-12-06","info@elering.ee","2013-01-10","2015-06-01","PA","TJA",null,"PA","TJA",null,"PA"]
["Elme Messer Gaas AS - Gaasitootmistehas",null,"B",null,"Gaas","keemiatööstuskäitised - tööstusgaasid","Ida-Virumaa",null,"Vaivara","Auvere","Põhjaterritooriumi",125,null,"13-1694","2016-09-28","13-1694","2014-01-14","13-1694","2014-01-30","13-1694","2013-11-11",null,null,"KemS","OKK-01-14","2014-02-03","emg@emg.blrt.ee","2014-06-05","2015-11-23","PA",null,"TJA","PA",null,"TJA","PA"]
["Elme Messer Gaas AS - Hapnikujaam",null,"C",null,"Gaas","keemiatööstuskäitised - tööstusgaasid","Raplamaa",null,"Järvakandi","Järvakandi","Tehaste 7",61,null,"13-1694","2016-09-28","13-1694","2014-12-05","13-1694","2015-03-11",{"$nulls":4},"KemS","OKK-09-15","2015-03-12","emg@emg.blrt.ee","2015-03-19","2015-03-02","TJA",null,null,"PA",null,"TJA","PA"]
["Enefit Energiatootmine AS, Auvere elektrijaam",null,"C",null,"Põlevkiviõli","elektrienergia tootmine, tarnimine ja jaotamine","Ida-Virumaa",null,"Vaivara","Auvere","Keskterritooriumi",20.5,null,"16-0832","2016-09-27","16-0832","2016-10-05","12-2634","2014-11-11",{"$nulls":4},"THS","KKL/324417","2014-06-27"," tootmine@energia.ee ","2016-09-20",null,null,"TJA/PA","PA",null,null,"PA","TJA"]
["Enefit Energiatootmine AS, Balti elektrijaam",null,"B",null,"Põlevkiviõli","elektrienergia tootmine, tarnimine ja jaotamine","Ida-Virumaa","Narva",null,null,"Elektrijaama tee 59",100,null,"16-0832","2016-09-27","16-0832","2016-10-05","12-2634","2013-11-08","16-0832","2016-09-14",null,null,"THS","L.KKL.IV-137279","2006-11-30"," tootmine@energia.ee ","2016-09-20","2015-07-27","PA","TJA","PA",null,"TJA","PA"]
["Enefit Energiatootmine AS, Eesti elektrijaam",null,"A",null,"Põlevkiviõli","elektrienergia tootmine, tarnimine ja jaotamine","Ida-Virumaa",null,"Vaivara","Auvere","Keskterritooriumi",100,null,"16-0832","2016-09-27","16-0832","2016-10-05","12-2634","2013-11-08",null,null,"16-0832","2016-10-05","THS","L.KKL.IV-172516","2008-10-31"," tootmine@energia.ee ","2013-05-23","2015-07-21","PA","PA","PA","TJA","PA","TJA","PA"]
["Entek AS",null,"C",null,"Katlamaja","kütuste ladustamine (sh kütmine, jaemüük jne)","Harjumaa","Keila",null,null,"Paldiski mnt 23",66,null,"14-1498","2015-10-28","14-1498","2014-12-11","14-1498","2014-12-22",{"$nulls":4},"KemS","OKK-35-15","2015-10-30","entek@entek.ee",null,"2015-09-01","PA",{"$nulls":4},"PA"]
["Eskaro AS",null,"C","x","Värvid","üldine kemikaalide tootmine (eespool nimetamata)","Harjumaa","Maardu",null,null,"Fosforiidi 20",74,null,"14-0595","2016-06-14","14-0595","2014-10-17","14-0595","2014-10-17",{"$nulls":4},"KemS","OKK-31-14","2014-11-11","eskaro@eskaro.com","2014-02-27","2015-02-11","PA",null,"PA",null,"TJA","PA"]
["Estonian Cell AS",null,"A",null,"Vesinikperoksiid","paberimassi ja paberi tootmine","Lääne-Virumaa","Kunda",null,null,"Jaama 21",77,null,"16-0923","2016-05-31","13-0118","2014-10-17","13-0118","2014-07-11","13-0118","2014-10-21","13-0118","2014-10-21","THS",1,"2003-01-03","info@estoniancell.ee","2016-05-18","2014-10-14","PA","TJA","PA","TJA","PA","TJA","PA"]
["Estonian Spirit OÜ",null,"C",null,"Alkohol","toiduainete ja jookide tootmine","Lääne-Virumaa","Rakvere",null,null,"Kalda 3",555,null,"14-0977","2014-06-10","14-0977","2014-11-14","14-0977","2014-12-17",{"$nulls":4},"KemS","OKK-65-14","2014-12-22","info@estonianspirit.com","2014-05-15","2014-10-27",null,null,"PA",null,"TJA","PA"]
["EuroChem Terminal Sillamäe AS",null,"A",null,"Terminal","ladustamine ja turustamine hulgi- ja jaemüügi puhul (v.a. vedelgaas)","Ida-Virumaa","Sillamäe",null,null,"Kesk 2a",467,null,"13-1423","2016-10-06","13-1423","2013-10-16",{"$nulls":4},"13-1423","2013-10-16","KemS","OKK-27-11","2011-11-30","info@tankchem.ee ","2016-09-08","2015-11-17","PA","TJA","PA","PA","TJA","PA"]
["EVR Cargo AS Tapa depoo",null,"C",null,"Gaas","vedelgaasi ladustamine","Lääne-Virumaa","Tapa",null,null,"Hommiku 31",395,null,"16-1577","2016-10-19","13-0156","2013-10-01","13-0156","2014-12-18",{"$nulls":4},"KemS","OKK-03-15","2015-01-13","cargo@evr.ee ","2013-02-27","2014-11-17",null,null,null,"PA"]
["Farmi Piimatööstus AS",null,"C",null,"Külmhoone","toiduainete ja jookide tootmine","Ida-Virumaa","Jõhvi",null,null,"Linda 15",338,null,"15-1635","2015-11-05","13-0479","2013-04-02","12-1429","2014-12-05",{"$nulls":4},"KemS","OKK-55-14","2014-12-11","piim@maag.ee","2012-10-24",null,null,"PA","TJA","PA",null,null,"PA"]
["Firestudio OÜ",null,"C",null,"Pürotehnika","pürotehnika toodete tootmine ja ladustamine","Harjumaa","Tallinn",null,null,"Kadaka tee 70a",null,null,"15-1866","2016-03-16","15-1866","2016-09-14",{"$nulls":6},"LMS","01-10","2010-01-07"," info@firestudio.ee  ","2015-10-29",null,"TJA","PA","PA",null,null,"TJA/PA"]
["Flexoil OÜ",null,"C",null,"Autokeemia","ladustamine ja turustamine hulgi- ja jaemüügi puhul (v.a. vedelgaas)","Tartumaa",null,"Tartu","Kärkna","Lao",26,null,"15-0697","2015-10-15","15-0697","2016-06-03","15-0697","2016-11-18",{"$nulls":4},"Taotlus","taotlus sees","2015-09-24","flexoil@flexoil.ee ","2015-08-13",2016,"TJA","PA",null,null,"PA","TJA"]
["Galv-Est AS",null,"C",null,"Galvaanika","metallide töötlemine elektrolüütiliste või keemiliste protsesside abil","Harjumaa",null,"Kuusalu","Kiiu","Vana-Narva mnt 14",null,null,"16-1275","2016-08-17","11-1603","2011-10-08","12-2457","2012-11-30",{"$nulls":4},"THS","KKL/318353","2010-02-04","galv-est@galv-est.ee","2016-07-28","2014-09-03",null,"TJA","PA",null,null,"PA","TJA"]
["Go Oli AS",null,"C",null,"Tankla","kütuste ladustamine (sh kütmine, jaemüük jne)","Tartumaa","Tartu",null,null,"Ringtee 21",60,null,"14-0974","2014-06-18","14-0974","2014-12-19","14-0974","2015-03-18",{"$nulls":4},"KemS","OKK-11-15","2015-03-20","gooil@gooil.ee",null,"2015-10-21",null,"PA",null,"PA"]
["Hansa Ilutulestikud OÜ",null,"B",null,"Pürotehnika","pürotehnika toodete tootmine ja ladustamine","Viljandimaa",null,"Viljandi","Saarepeedi","Tähe",175,null,"15-1496","2015-09-30","15-1496","2016-05-16","15-1496","2016-05-18","15-1496","2015-11-05",null,null,"LMS","3/2007","2007-12-04","info@hansatuled.ee","2015-08-13","2015-10-28","TJA/PA",null,"PA",null,"TJA","PA"]
["Henkel Balti Operations OÜ",null,"B",null,"Vahud","üldine kemikaalide tootmine (eespool nimetamata)","Pärnumaa","Pärnu",null,null,"Savi 12",344,null,"16-1480","2016-10-05","12-1917","2012-11-06","12-1917","2013-10-11","11-1625","2011-10-25",null,null,"KemS","OKK-16-16","2016-10-21","balti.operations@henkel.com","2014-04-09","2015-09-15","PA",null,"TJA","PA",null,"TJA","PA"]
["High Tech Recycling OÜ",null,"B",null,"Jäätmed","naftakeemiatööstus/naftatöötlemistehased","Harjumaa",null,"Nissi","Janika","Naftabaasi",532,null,"16-1575","2016-10-21","12-2596","2013-10-09","12-2596","2016-06-02",{"$nulls":4},"THS","KKL/319023","2010-06-25","info@htr-eu.com","2015-11-04","2015-05-07","TJA/PA",null,null,"PA",null,"TJA","PA"]
["HKScan Estonia AS - Kumna farm",null,"C",null,"Külmhoone","toiduainete ja jookide tootmine","Harjumaa",null,"Harku","Kumna","Broilerifarmi",344,null,"14-1519","2016-03-09","14-1519","2015-02-27","14-1519","2015-10-06",{"$nulls":4},"THS","L.KKL.HA-185330","2008-05-23","estonia@hkscan.com","2014-12-04","2015-09-30","PA",null,null,"PA","TJA",null,"PA"]
["HKScan Estonia AS - Rakvere tehas",null,"C",null,"Külmhoone","toiduainete ja jookide tootmine","Lääne-Virumaa",null,"Sõmeru","Roodevälja","Rakvere lihakombinaat",1600,null,"14-1696","2016-05-06","12-0647","2013-01-28","12-0647","2013-08-27",{"$nulls":4},"THS",39525,"2005-11-21","estonia@hkscan.com","2014-10-09","2015-07-17","PA",null,"PA",null,"TJA","PA"]
["HKScan Estonia AS - Tabasalu tehas",null,"C",null,"Külmhoone","toiduainete ja jookide tootmine","Harjumaa",null,"Harku","Tabasalu","Sütemetsa tee 56",1100,null,"13-1028","2015-12-01","13-1028","2016-04-01","13-1028","2014-09-19",{"$nulls":4},"THS","L.KKL.HA-217156","2005-08-17","estonia@hkscan.com","2015-05-07","2014-04-28","TJA","PA","PA",null,null,"TJA/PA"]
["Horizon Tselluloosi ja Paberi AS",null,"C",null,"Paber","paberimassi ja paberi tootmine","Harjumaa",null,"Anija","Kehra","Anija mnt 10",384,null,"13-1266","2016-09-27","13-1266","2014-05-29","13-1266","2015-04-20",{"$nulls":4},"THS","L.KKL.HA-217188","2005-01-31","info@horizon.ee ","2014-04-16","2015-04-16","PA",null,null,"PA","TJA",null,"PA"]
["Hromium OÜ",null,"A",null,"Kroom","ladustamine ja turustamine hulgi- ja jaemüügi puhul (v.a. vedelgaas)","Harjumaa","Maardu",null,null,"Lao 21",null,null,"13-2228","2015-09-10","13-2228","2016-05-03","13-2228","2015-09-02",null,null,"13-2228","2016-05-03","KemS","OKK-07-11","2011-11-24",null,"2013-11-13","2015-09-17","PA","TJA","PA","PA","TJA","PA","TJA"]
["Ilutulestiku Keskus Arnika OÜ",null,"B",null,"Pürotehnika","pürotehnika toodete tootmine ja ladustamine","Viljandimaa",null,"Viljandi","Vana-Võidu","Noorkarja",220,null,"16-1061","2016-06-28","13-0070","2013-11-18","12-2423","2013-11-27","13-0070","2013-11-12",null,null,"LMS","01-14","2014-01-08","info@arnika.ee","2015-04-23","2015-09-22","TJA/PA",null,"PA",null,"TJA","PA"]
["Ingle AS Ilngliste ladu",null,"C","x","Hulgimüük","ladustamine ja turustamine hulgi- ja jaemüügi puhul (v.a. vedelgaas)","Raplamaa",null,"Kehtna","Ingliste","Ingle",null,null,"16-0974","2016-06-17","13-0434","2013-02-11","16-0974","2016-10-19",{"$nulls":4},"KemS","OKK-06-13","2013-06-03","info@ingle.ee ","2016-06-02","2013-05-14",null,"TJA/PA","PA",null,null,"PA","TJA"]
["Ingle AS Rapla ladu",null,"C","x","Hulgimüük","ladustamine ja turustamine hulgi- ja jaemüügi puhul (v.a. vedelgaas)","Raplamaa",null,"Rapla","Valtu","Ingle",null,null,"16-0974","2016-06-17","13-0434","2013-02-11","16-0974","2016-10-19",{"$nulls":4},"KemS","OKK-05-13","2013-06-03","info@ingle.ee ","2016-06-02","2013-05-14",null,"TJA/PA","PA",null,null,"PA","TJA"]
["JetGas OÜ - Cristella LNG seade",null,"C",null,"Gaas","vedelgaasi ladustamine","Võrumaa","Võru",null,null,"Pikk 17",92,null,"14-0402","2015-06-16","14-0402","2015-09-11","14-0402","2015-07-08",{"$nulls":4},"KemS","OKK-32-15","2015-09-17","Janek.Parkman@jetgas.ee","2016-08-19",2016,null,"TJA/PA",{"$nulls":4},"PA"]
["JetGas OÜ - Hagari LNG seade",null,"C",null,"Gaas","vedelgaasi ladustamine","Lääne-Virumaa","Tapa",null,null,"Taara pst 1",92,null,"14-0402","2015-09-29","14-0402","2015-11-10","14-0402","2016-04-20",{"$nulls":4},"KemS","OKK-02-16","2016-04-22","Janek.Parkman@jetgas.ee","2016-06-08",null,null,"TJA","PA"]
["JetGas OÜ - Sarketi LNG seade",null,"C",null,"Gaas","vedelgaasi ladustamine","Järvamaa",null,"Paide","Mäo","Sarketi",395,null,"14-0402","2015-01-16","14-0402","2015-02-11","14-0402","2015-03-05",{"$nulls":4},"KemS","OKK-08-15","2015-03-06","Janek.Parkman@jetgas.ee",null,null,null,"PA",null,"PA"]
["JetGas OÜ - Valga LNG jaam",null,"C",null,"Gaas","vedelgaasi ladustamine","Valgamaa","Valga",null,null,"Rükkeli 1",125,null,"14-0402","2015-11-25","14-0402","2016-03-31","14-0402","2016-05-17",{"$nulls":4},"KemS","OKK-04-16","2016-05-20","Janek.Parkman@jetgas.ee",{"$nulls":4},"PA"]
["JetGas OÜ - Veeldatud maagaas","Maardu Terminal AS - LNG terminal 13-1973","B",null,"Gaas","vedelgaasi ladustamine","Saaremaa","Kuressaare",null,null,"Pikk 64",53,null,"14-0402","2015-11-18","14-0402","2016-04-07","14-0402","2016-04-28","14-0402","2016-05-01",null,null,"KemS","OKK-22-14","2014-05-26","Janek.Parkman@jetgas.ee","2014-09-11","2014-06-18",null,"PA","PA","TJA",null,"PA","TJA"]
["JetGas OÜ - Veeldatud maagaasi seade",null,"C",null,"Gaas","vedelgaasi ladustamine","Järvamaa","Paide",null,null,"Tööstuse 13b",68,null,"14-0402","2015-11-18","14-0402","2016-05-01","14-0402","2016-07-05",{"$nulls":4},"KemS","OKK-07-15","2015-03-05","Janek.Parkman@jetgas.ee",null,null,null,"PA","PA"]
["JetGas OÜ - Võru LNG jaam",null,"C",null,"Gaas","vedelgaasi ladustamine","Võrumaa","Võru",null,null,"Jaama 24",98,null,"14-0402","2016-03-12","14-0402","2016-04-15","14-0402","2016-05-17",{"$nulls":4},"KemS","OKK-19-15","2015-06-19","Janek.Parkman@jetgas.ee",null,null,null,"PA",null,"PA"]
["Juveel OÜ",null,"C",null,"Galvaanika","metallide töötlemine elektrolüütiliste või keemiliste protsesside abil","Harjumaa","Tallinn ",null,null,"Kadaka tee 36",0,null,"16-0949","2016-06-02","12-1445","2013-01-21","12-1445","2013-11-06",{"$nulls":4},"KemS","OKK-29-14","2014-09-16","juveel@juveel.ee ","2016-04-08","2015-04-01","PA","TJA",null,"PA",null,null,"TJA/PA"]
["Keemiakaubandus AS",null,"C",null,"Hulgimüük","ladustamine ja turustamine hulgi- ja jaemüügi puhul (v.a. vedelgaas)","Harjumaa","Maardu",null,null,"Vana-Narva mnt 22",164,null,"13-0992","2016-06-28","13-0992","2013-11-28","13-0992","2015-07-30",{"$nulls":4},"KemS","OKK-05-14","2014-03-12","info@keemiakaubandus.ee ","2013-11-20","2015-06-26","PA",null,"PA","TJA",null,"PA"]
["Kemivesi AS","TL uue klassifikatsiooniga, OK, ei pea uuendama","C","x","Hulgimüük","ladustamine ja turustamine hulgi- ja jaemüügi puhul (v.a. vedelgaas)","Harjumaa",null,"Rae","Lehmja","Gaasi tee 7",1.5,null,"14-1722","2016-09-16","14-1722","2014-12-31","14-1722","2014-12-23",{"$nulls":4},"KemS","OKK-06-15","2015-01-16","tarmo.siir@kemira.com","2014-12-12","2015-10-30","PA",null,null,"PA","TJA",null,"PA"]
["Kemotar OÜ",null,"C",null,"Väetised","väetiste tootmine ja ladustamine","Tartumaa","Tartu",null,null,"Ravila 75",250,null,"13-2178","2013-12-04","13-2178","2014-04-14","13-2178","2014-10-16",{"$nulls":4},"KemS","OKK-32-14","2014-11-07","kemotar@kemotar.ee","2013-09-25","2014-10-08",null,null,"PA","TJA",null,"PA"]
["Kivirand OÜ",null,"C",null,"Vaigud","üldine kemikaalide tootmine (eespool nimetamata)","Ida-Virumaa","Kohtla-Järve",null,null,"Vabriku 1",null,null,"16-1617","2016-11-16","12-0833","2012-10-17","16-1617","2016-11-04",{"$nulls":4},"KemS","OKK-26-14","2014-08-14","kivirand@uninet.ee ","2016-09-21","2015-11-09","PA","TJA",null,"PA",null,null,"TJA/PA"]
["KKT Oil OÜ",null,"A","x","Põlevkiviõli","üldine kemikaalide tootmine (eespool nimetamata)","Ida-Virumaa","Kiviõli",null,null,"Turu 3",271,null,"15-0214","2015-11-25","15-0214","2016-04-11","15-0214","2016-06-09",null,null,"15-0214","2016-04-11","THS","L.KKL.IV-171223","2007-12-31","info@keemiatoostus.ee","2015-11-18","2016-04-28","TJA/PA","PA","PA","TJA","PA","TJA","PA"]
["KRIMELTE OÜ",null,"B","x","Vahud","üldine kemikaalide tootmine (eespool nimetamata)","Harjumaa","Tallinn",null,null,"Suur-Paala 10",175,null,"13-1441","2015-07-01","13-1441","2015-04-24","13-1441","2015-07-15","13-1441","2014-03-24",null,null,"KemS","OKK-08-11","2011-11-24","krimelte@krimelte.com","2014-03-13","2015-04-02","PA",null,"TJA","PA",null,"TJA","PA"]
["Kroodi Terminal AS",null,"B",null,"Terminal","kütuste ladustamine (sh kütmine, jaemüük jne)","Harjumaa","Maardu",null,null,"Üleoru 1",408,null,"14-0716","2014-04-15","14-0716","2015-02-04","14-0716","2015-07-02","14-0716","2015-02-04",null,null,"KemS","OKK-09-11","2011-11-24","info@kroodi.ee","2016-11-03","2015-03-10","PA","TJA",null,"PA","TJA",null,"PA"]
["Kunda Nordic Tsement AS - LM ladu",null,"A",null,"Lõhkematerjal","kütuste ladustamine (sh kütmine, jaemüük jne)","Lääne-Virumaa",null,"Sõmeru","Andja","Lõhkeaine",null,null,"15-1080","2016-05-24","15-1080","2016-11-21","15-1080","2016-07-19","15-1080","2016-11-21","15-1080","2016-11-21","LMS","03-12","2012-11-09","knc@knc.ee ","2015-06-17","2015-07-17","TJA/PA",null,"PA","TJA","PA",null,"TJA"]
["Lemminkäinen Eesti AS",null,"A",null,"Lõhkematerjal","lõhkeaine tootmine, hävitamine ja ladustamine","Harjumaa",null,"Jõelähtme","Võerdla","Lõhangu",900,null,"13-1238","2016-09-16","13-1238","2014-01-21","13-1238","2014-05-26","13-1238","2014-01-21","13-1238","2014-01-21","LMS","01-15","2015-04-06","info@lemminkainen.ee","2015-03-04","2015-08-19","TJA/PA",null,"PA","TJA","PA",null,"TJA"]
["Libace OÜ",null,"C",null,"Gaas","vedelgaasi ladustamine","Pärnumaa",null,"Halinga","Libatse","Tootmise",344,null,"14-0237","2016-10-06","14-0237","2014-06-18","14-0237","2014-12-18",{"$nulls":4},"KemS","OKK-67-14","2014-12-22","info@libace.eu","2014-04-09","2014-12-09",null,null,"PA",null,"TJA"]
["Läätsa Kalatööstus AS",null,"C",null,"Külmhoone","toiduainete ja jookide tootmine","Saaremaa",null,"Salme","Läätsa","Kalatööstuse",null,null,"16-1374","2016-09-07","12-0982","2012-09-28","12-0982","2013-10-25",{"$nulls":4},"KemS","OKK-28-14","2014-09-05"," eve@lkt.tt.ee ","2011-06-14","2013-09-27",null,"TJA/PA","PA","TJA",null,"PA"]
["Maag Grupp AS",null,"C",null,"Külmhoone","toiduainete ja jookide tootmine","Tartumaa","Tartu",null,null,"Ropka tee 22",400,null,"15-1635","2015-10-30","15-1635","2016-09-13","15-1635","2016-04-18",{"$nulls":4},"KemS","OKK-02-14","2014-02-04"," info@maag.ee","2012-06-15","2015-10-30","PA",null,"TJA","PA",null,null,"PA"]
["Maardu Terminal AS",null,"B",null,"Terminal","kütuste ladustamine (sh kütmine, jaemüük jne)","Harjumaa","Maardu",null,null,"Lao 29",498,null,"16-1593","2016-10-21","14-0501","2014-05-21","14-0501","2015-10-09","14-0501","2015-06-20",null,null,"KemS","OKK-10-11","2011-11-28","info@maarduterminal.ee","2014-02-06","2015-09-03","PA",null,"TJA","PA",null,"TJA","PA"]
["Maardu Terminal AS - Nõlva 13 terminal",null,"A",null,"Terminal","kütuste ladustamine (sh kütmine, jaemüük jne)","Harjumaa","Tallinn",null,null,"Nõlva 13",386,null,"16-1593","2016-10-26","13-1973","2015-06-16","13-1973","2015-09-25",null,null,"13-1973","2015-06-16","KemS","OKK-21-14","2014-05-06","info@maarduterminal.ee","2014-12-17","2015-09-03","PA","PA","TJA","PA","TJA","PA","TJA"]
["Milstrand AS",null,"A",null,"Terminal","kütuste ladustamine (sh kütmine, jaemüük jne)","Harjumaa",null,"Viimsi","Miiduranna","Randvere tee 5",498,null,"16-0758","2016-05-01","13-1227","2015-03-04","16-0758","2016-09-15",null,null,"13-1227","2015-03-04","KemS","OKK-11-11","2011-11-28","terminal@milstrand.ee","2014-04-03","2015-08-06","PA","PA","TJA","PA","TJA","PA","TJA"]
["Narva Vesi AS","B luba vaja teha C","C",null,"Kloor","vesi ja reovesi (kogumine, varustamine ja töötlemine","Ida-Virumaa","Narva",null,null,"Kulgu 1",0,null,"15-0407","2015-02-26","15-0407","2016-06-30",{"$nulls":6},"KemS","OKK-25-11","2011-11-30","info@narvavesi.ee","2014-10-08","2015-09-22","PA",null,null,"PA","TJA",null,"PA"]
["NB Oil Group OÜ","kustutatud äriregistrist 09.06.2010","C",null,"Tankla","kütuste ladustamine (sh kütmine, jaemüük jne)","Harjumaa",null,"Jõelähtme","Loo","Loo bensiinijaam",{"$nulls":12},"Puudub",null,null,null,2004]
["NCC & PO AS",null,"B",null,"Terminal","kütuste ladustamine (sh kütmine, jaemüük jne)","Harjumaa","Maardu",null,null,"Lao 14",400,null,"15-1846","2016-03-12","12-0754","2012-05-30","15-1846","2016-05-16","12-0754","2014-03-25",null,null,"KemS","OKK-12-11","2011-11-28","nccpo@nccpo.ee","2014-02-06","2015-03-19","PA",null,"TJA","PA",null,"TJA","PA"]
["Neste Eesti AS Terminal",null,"B",null,"Terminal","kütuste ladustamine (sh kütmine, jaemüük jne)","Harjumaa",null,"Viimsi","Muuga","Lasti tee 18",57,null,"16-1408","2016-09-16","13-0088","2013-12-04","13-0088","2014-01-14","12-0860","2012-06-21",null,null,"KemS","OKK-13-11","2011-11-28","neste.eesti@neste.com","2014-03-26","2015-05-12","PA",null,"TJA","PA",null,"TJA","PA"]
["Nitrofert AS",null,"A","x","Ammoniaak","keemiatööstuskäitised - ammoniaak","Ida-Virumaa","Kohtla-Järve",null,null,"Järveküla tee 1",{"$nulls":4},"10-2593",2010,{"$nulls":4},"10-2593",2010,"THS","L.KKL.IV-164366","2009-04-07"," info@nitrofert.ee ","2013-04-10","2015-12-04","PA","TJA","PA","TJA","PA","TJA","PA"]
["Nobela Properties OÜ - Maxima logistikakeskus",null,"C",null,"Külmhoone","toiduainete ja jookide tootmine","Harjumaa",null,"Rae","Kurtna","Õlleköögi tee 24",1700,null,"15-1687","2016-03-12","15-1687","2016-05-19","15-1687","2016-11-14",{"$nulls":4},"Puudub",null,null,"info@maxima.ee",{"$nulls":4},"TJA","PA",null,null,"PA"]
["Nordic Group OÜ",null,"C",null,"Autokeemia","ladustamine ja turustamine hulgi- ja jaemüügi puhul (v.a. vedelgaas)","Harjumaa",null,"Kuusalu","Kiiu","Härmaka",null,null,"16-1274","2016-09-16","12-0568","2012-06-21","12-0568","2012-03-28",{"$nulls":4},"KemS","OKK-12-14","2014-03-25"," autokeemia@nordicgroup.ee ","2016-08-10","2014-06-22",null,"TJA","PA",null,null,"PA","TJA"]
["Nordnet OÜ",null,"C",null,"Külmhoone","toiduainete ja jookide tootmine","Harjumaa","Tallinn",null,null,"Betooni 1b",220,null,"16-1372","2016-09-07","13-0412","2013-05-07","13-0412","2013-10-11",{"$nulls":4},"KemS","OKK-11-14","2014-03-25","info@nordnet.ee ","2013-01-16","2015-10-20","PA",null,"PA","TJA",null,"PA"]
["Norma AS",null,"B",null,"Galvaanika","metallide töötlemine elektrolüütiliste või keemiliste protsesside abil","Harjumaa","Tallinn",null,null,"Laki 14",9,null,"15-0625","2016-04-28","15-0625","2016-06-15","15-0625","2015-04-07","15-0625","2016-06-15",null,null,"THS","L.KKL.HA-230904","2003-09-22","norma@autoliv.com","2015-11-25","2015-03-25","TJA/PA",null,"PA",null,"TJA","PA"]
["Novotrade Invest AS",null,"A",null,"Jäätmed","naftakeemiatööstus/naftatöötlemistehased","Ida-Virumaa","Kohtla-Järve",null,null,"Keemia vkt 1c",475,null,"14-1098","2016-06-17","14-1098","2015-05-28","14-1098","2014-09-30",null,null,"14-1098","2015-05-28","THS","L.KKL.IV-183588","2008-10-13","info@vnk.ee","2016-09-21","2015-10-23","PA","TJA","PA","TJA","PA","TJA","PA"]
["NPM Silmet AS","ärinime muutus","A","x","Muldmetallid","üldine kemikaalide tootmine (eespool nimetamata)","Ida-Virumaa","Sillamäe",null,null,"Kesk 2",null,null,"15-0379","2016-11-17","15-0379","2016-10-19",{"$nulls":4},"15-0379","2016-10-19","THS","KKL/300272 ","2009-04-14","silmet@molycorp.com ","2015-09-22","2015-10-28","TJA/PA","PA","TJA/PA","PA","TJA","PA","TJA"]
["Oiltanking Tallinn AS",null,"A",null,"Terminal","kütuste ladustamine (sh kütmine, jaemüük jne)","Harjumaa",null,"Viimsi","Muuga","Õli 7",null,null,"16-0717","2016-05-01","12-0846","2012-05-17","13-0867","2014-04-02",null,null,"12-0846","2012-09-20","KemS","OKK-14-11","2011-11-28","tallinn@oiltanking.com ","2014-03-26","2015-04-09","PA","PA","TJA/PA","PA","TJA","PA","TJA"]
["Olerex AS - Elva tankla",null,"C",null,"Tankla","kütuste ladustamine (sh kütmine, jaemüük jne)","Tartumaa","Elva",null,null,"Valga mnt 3a",null,null,"13-0613","2016-10-06","13-0613","2016-10-05","13-0613","2016-10-05",{"$nulls":4},"Taotlus","taotlus sees","2016-10-05",{"$nulls":5},"PA"]
["Olerex AS - Jüri kütusetankla","Endine Lukoil","C",null,"Tankla","kütuste ladustamine (sh kütmine, jaemüük jne)","Harjumaa",null,"Rae","Pildiküla","Viadukti põik 6",412,null,"13-0613","2016-03-12","15-0109","2015-04-24","15-0109","2015-07-21",{"$nulls":4},"KemS","OKK-22-15","2015-07-22","info@olerex.ee",null,null,null,"PA","PA"]
["Olerex AS - Kuressaare tankla",null,"C",null,"Tankla","kütuste ladustamine (sh kütmine, jaemüük jne)","Saaremaa","Kuressaare",null,null,"Tallinna 84",400,null,"13-0613","2013-03-18","13-0613","2015-01-12","13-0613","2015-08-14",{"$nulls":4},"KemS","OKK-27-15","2015-08-24","Info@olerex.ee",null,"2014-06-17",null,"PA",null,null,"PA"]
["Olerex AS - Laki tankla",null,"C",null,"Tankla","kütuste ladustamine (sh kütmine, jaemüük jne)","Harjumaa","Tallinn",null,null,"Laki 29",454,null,"13-0613","2014-01-06","13-0613","2014-01-06","13-0613","2014-12-15",{"$nulls":4},"KemS","OKK-59-14","2014-12-18","Info@olerex.ee",null,"2014-12-05",null,null,null,"PA"]
["Olerex AS - Paide Raudtee tn kütusetankla","Endine Lukoil","C",null,"Tankla","kütuste ladustamine (sh kütmine, jaemüük jne)","Järvamaa","Paide",null,null,"Raudtee 37",412,null,"13-0613","2016-03-12","15-0109","2015-07-22","15-0109","2015-07-31",{"$nulls":4},"KemS","OKK-24-15","2015-08-03","info@olerex.ee",null,null,null,"PA","PA"]
["Olerex AS - Peterburi tee kütusetankla","Endine Lukoil","C",null,"Tankla","kütuste ladustamine (sh kütmine, jaemüük jne)","Harjumaa","Tallinn",null,null,"Peterburi tee 38/4",412,null,"13-0613","2016-03-12","15-0109","2015-04-24","15-0109","2015-07-21",{"$nulls":4},"KemS","OKK-23-15","2015-07-22","info@olerex.ee",null,null,null,"PA","PA"]
["Olerex AS - Põlva tankla",null,"C",null,"Tankla","kütuste ladustamine (sh kütmine, jaemüük jne)","Põlvamaa",null,"Põlva","Mammaste","Tartu mnt 1b",400,null,"13-0613","2014-11-28","13-0613","2015-03-11","13-0613","2015-08-14",{"$nulls":4},"KemS","OKK-28-15","2015-08-24","Info@olerex.ee",null,"2015-08-06","PA",{"$nulls":4},"PA"]
["Olerex AS - Pärnu tankla",null,"C",null,"Tankla","kütuste ladustamine (sh kütmine, jaemüük jne)","Pärnumaa","Pärnu",null,null,"Tallinna mnt 95",400,null,"13-0613","2013-03-18","13-0613","2014-12-22","13-0613","2015-08-14",{"$nulls":4},"KemS","OKK-30-15","2015-08-24","Info@olerex.ee",null,"2014-12-09",null,null,null,"PA"]
["Olerex AS - Rakvere tankla",null,"C",null,"Tankla","kütuste ladustamine (sh kütmine, jaemüük jne)","Lääne-Virumaa","Rakvere",null,null,"Rägavere tee 2",386,null,"13-0613","2014-12-29","13-0613","2015-03-11","13-0613","2015-09-08",{"$nulls":4},"KemS","OKK-33-15","2015-09-17","Info@olerex.ee",null,null,null,"PA",null,"PA"]
["Olerex AS - Räni tankla",null,"C",null,"Tankla","kütuste ladustamine (sh kütmine, jaemüük jne)","Tartumaa","Tartu",null,null,"Aardla 107",400,null,"13-0613","2013-03-26","13-0613","2014-12-19","13-0613","2015-08-14",{"$nulls":4},"KemS","OKK-29-15","2015-08-24","Info@olerex.ee",null,"2015-04-17","PA",null,null,"PA"]
["Olerex AS - Sauga kütusetankla",null,"C",null,"Tankla","kütuste ladustamine (sh kütmine, jaemüük jne)","Pärnumaa",null,"Sauga","Sauga","Jänesselja 9",null,null,"13-0613","2016-03-12",{"$nulls":8},"Puudub",null,null,"info@olerex.ee",{"$nulls":4},"PA"]
["Olerex AS - Tondiraba kütusetankla","Endine Lukoil","C",null,"Tankla","kütuste ladustamine (sh kütmine, jaemüük jne)","Harjumaa","Tallinn",null,null,"Tondiraba 1",412,null,"13-0613","2016-03-12","15-0109","2015-03-12","15-0109","2015-06-29",{"$nulls":4},"KemS","OKK-21-15","2015-07-01","info@olerex.ee",null,"2015-04-14","PA",{"$nulls":4},"PA"]
["Olerex AS - Valga kütusetankla","Endine Lukoil","C",null,"Tankla","kütuste ladustamine (sh kütmine, jaemüük jne)","Valgamaa","Valga",null,null,"Transpordi 2",412,null,"13-0613","2016-03-12","15-0109","2015-07-22","15-0109","2015-07-31",{"$nulls":4},"KemS","OKK-25-15","2015-08-03","info@olerex.ee",null,"2015-07-30","PA",{"$nulls":4},"PA"]
["Olerex AS - Vana-Pärnu kütusetankla","Endine Lukoil","C",null,"Tankla","kütuste ladustamine (sh kütmine, jaemüük jne)","Pärnumaa",null,"Audru","Papsaare","Nopri",412,null,"13-0613","2016-03-12","15-0109","2015-07-22","15-0109","2015-07-31",{"$nulls":4},"KemS","OKK-26-15","2015-08-03","info@olerex.ee",null,null,null,"PA","PA"]
["Olerex AS - Viimsi tankla",null,"C",null,"Tankla","kütuste ladustamine (sh kütmine, jaemüük jne)","Harjumaa",null,"Viimsi","Miiduranna","Muuli tee 2",400,null,"13-0613","2014-11-28","13-0613","2015-03-11","13-0613","2015-04-27",{"$nulls":4},"KemS","OKK-12-15","2015-04-28","Info@olerex.ee",null,"2015-03-27","PA",null,null,null,"PA"]
["Olerex AS - Võru tankla",null,"C",null,"Tankla","kütuste ladustamine (sh kütmine, jaemüük jne)","Võrumaa","Võru",null,null,"Tallinna mnt 38",386,null,"13-0613","2015-03-23","13-0613","2015-04-15","13-0613","2015-08-14",{"$nulls":4},"KemS","OKK-31-15","2015-08-24","Info@olerex.ee",null,"2015-08-06","PA",null,null,null,"PA"]
["Olerex AS - Õismäe tankla",null,"C",null,"Tankla","kütuste ladustamine (sh kütmine, jaemüük jne)","Harjumaa",null,"Harku","Harkujärve","Paldiski mnt 150",400,null,"13-0613","2014-11-28","13-0613","2015-03-11","13-0613","2015-04-27",{"$nulls":4},"KemS","OKK-13-15","2015-04-28","Info@olerex.ee",null,"2015-03-27","PA",null,null,null,"PA"]
["Orica Eesti OÜ",null,"A",null,"Lõhkematerjal","lõhkeaine tootmine, hävitamine ja ladustamine","Ida-Virumaa",null,"Vaivara","Mustanina","Sirgala baasladu",2256,null,"15-1606","2015-11-05","15-1606","2016-07-01",null,null,"15-1606","2016-07-01","15-1606","2016-07-01","THS","L.KKL.IV-136083 ","2010-03-04","info@orica-estonia.com","2015-09-23","2015-11-10","TJA/PA","PA","PA","TJA","PA","TJA","PA"]
["Paldiski Tsingipada AS",null,"C",null,"Galvaanika","metallide töötlemine elektrolüütiliste või keemiliste protsesside abil","Harjumaa","Paldiski",null,null,"Lääne 4",50,null,"13-0438","2016-05-24","13-0438","2013-05-20","13-0438","2016-07-13",{"$nulls":4},"THS","L.KKL.HA-199528","2008-11-05"," info@zincpot.ee ","2016-04-14","2015-11-04","PA","TJA",null,"PA",null,null,"TJA/PA"]
["Paljassaare Kalatööstuse AS",null,"C",null,"Külmhoone","toiduainete ja jookide tootmine","Harjumaa","Tallinn ",null,null,"Paljassaare tee 30",208,null,"13-0805","2015-05-20","13-0805","2014-05-21","13-0805","2013-10-03",{"$nulls":4},"KemS","OKK-63-14","2014-12-18","esva@vici.eu","2013-02-06","2015-10-27","PA",null,"PA","TJA",null,"PA"]
["Palsteve OÜ",null,"B",null,"Väetised","väetiste tootmine ja ladustamine","Harjumaa","Paldiski",null,null,"S. Julajevi tee 2",1176,null,"15-0751","2015-05-05","15-0751","2015-05-29","15-0751","2015-06-01","15-0751","2015-05-21",null,null,"KemS","OKK-18-15","2015-06-05","info@palsteve.ee","2015-10-29",null,"TJA/PA",null,"TJA","PA",null,"TJA","PA"]
["Pariisi Tuled OÜ",null,"C",null,"Pürotehnika","pürotehnika toodete tootmine ja ladustamine","Lääne-Virumaa","Rakvere",null,null,"Pikk 24b",null,null,"13-1651","2013-08-23","12-0616","2012-10-19","12-0616","2013-01-30",{"$nulls":4},"LMS","2/2005","2005-06-03","pariis@hot.ee ","2015-06-17","2015-08-13","TJA/PA",null,null,"PA",null,"TJA","PA"]
["PETKAM OÜ - naftabaas",null,"B",null,"Terminal","kütuste ladustamine (sh kütmine, jaemüük jne)","Harjumaa","Maardu",null,null,"Kroodi 4",370,null,"14-0446","2016-11-07","14-0446","2014-07-03","14-0446","2015-08-05","14-0446","2014-07-04",null,null,"KemS","OKK-17-16","2016-11-16","info@petkam.ee ","2016-09-28","2015-04-23","PA","TJA",null,"PA","TJA",null,"PA"]
["Portlif Grupp OÜ ",null,"C",null,"Jäätmed","jäätmete ladustamine, käitlemine ja kõrvaldamine","Ida-Virumaa","Kohtla-Järve",null,null,"Tehase 9",null,null,"16-0945","2016-06-02","16-0945","2016-08-03","12-0365","2012-10-08",{"$nulls":4},"THS","KKL/320411","2011-05-06","info@portlif.ee","2016-09-07","2013-06-28","PA","TJA",null,"PA",null,null,"PA"]
["Premia Tallinna Külmhoone AS - Jäätisevabrik",null,"C",null,"Külmhoone","toiduainete ja jookide tootmine","Harjumaa","Tallinn ",null,null,"Peterburi tee 42",142,null,"16-0877","2016-05-24","12-0582","2012-06-11","12-0582","2014-12-07",{"$nulls":4},"KemS","OKK-56-14","2014-12-11","premia@premia.ee ","2015-04-10","2015-02-26","TJA/PA",null,null,"PA",null,"TJA","PA"]
["Premia Tallinna Külmhoone AS - Logistikakeskus",null,"C",null,"Külmhoone","toiduainete ja jookide tootmine","Harjumaa","Tallinn ",null,null,"Betooni 4",192,null,"16-0877","2016-05-24","12-0582","2012-06-11","12-0582","2014-12-07",{"$nulls":4},"KemS","OKK-57-14","2014-12-22","premia@premia.ee ","2015-04-10","2015-02-26","TJA/PA",null,null,"PA",null,"TJA","PA"]
["Propaan AS",null,"A",null,"Gaas","vedelgaasi ladustamine","Harjumaa","Tallinn",null,null,"Gaasi 8",null,null,"16-1164","2016-11-16",null,null,"16-1164","2016-08-15",null,null,null,2010,"KemS","OKK-16-11","2011-11-28","info@propaan.ee","2016-09-28","2015-06-03","TJA/PA","TJA/PA","PA","TJA","PA","TJA","PA"]
["Propaan AS Jõhvi müügipunkt",null,"C",null,"Gaas","vedelgaasi ladustamine","Ida-Virumaa",null,"Jõhvi","Kotinuka","Vedelgaasi jaemüügi",null,null,"11-2075","2012-01-26","12-1475","2012-06-27","11-2075","2012-03-13",{"$nulls":4},"KemS","OKK-15-14","2014-04-01","info@propaan.ee",null,"2013-08-02",null,"PA","PA"]
["Propaan AS Tallinna müügiesindus",null,"C",null,"Gaas","vedelgaasi ladustamine","Harjumaa","Tallinn",null,null,"Betooni 3",null,null,"11-2075","2014-03-28","12-0992","2012-04-27","2016-09-28","2016-09-28",{"$nulls":4},"KemS","OKK-14-14","2014-04-01","info@propaan.ee",null,"2015-10-27","PA",{"$nulls":4},"PA"]
["Pärnu Laht AS",null,"C",null,"Külmhoone","toiduainete ja jookide tootmine","Pärnumaa","Pärnu",null,null,"Roostiku 4",422,null,"16-1356","2016-09-02","13-0322","2013-04-24","13-0322","2014-05-21",{"$nulls":4},"KemS","OKK-24-14","2014-06-02","laht@laht.ee","2012-04-25","2014-04-25",null,null,"TJA","PA",null,null,"PA"]
["Rain AS","Transpoint International (EST) AS asemel, nende RA+HOLP","C","x","Hulgimüük","ladustamine ja turustamine hulgi- ja jaemüügi puhul (v.a. vedelgaas)","Harjumaa","Tallinn",null,null,"Betooni 6",95,null,"15-1573","2016-07-01","14-1484","2014-12-04","14-1484","2014-12-16",{"$nulls":4},"KemS","OKK-36-15","2015-11-09","info@rain.ee","2016-04-01","2015-10-06","PA","TJA",null,"PA",null,null,"TJA/PA"]
["Rain Transport AS","alates 01.01.2017 uuesl aadressil, eelmises lõpetavad","C","x","Hulgimüük","ladustamine ja turustamine hulgi- ja jaemüügi puhul (v.a. vedelgaas)","Harjumaa","Tallinn",null,null,"Liivalao 11",null,null,"15-1573","2016-11-17",{"$nulls":8},"Puudub",null,null,"info@rain.ee",{"$nulls":4},"TJA","PA",null,null,"PA"]
["Recticel OÜ",null,"B","x","Poroloon","plasti ja kummitootmine","Harjumaa","Tallinn",null,null,"Peterburi tee 48A",324,null,"14-0443","2016-05-31","14-0443","2014-06-10","14-0443","2015-08-12","14-0443","2014-07-07",null,null,"KemS","OKK-17-11","2011-11-28","myyk@recticel.ee","2016-04-01","2015-05-19","PA","TJA","PA",null,"TJA","PA"]
["Roodevälja Terminal OÜ","Uus aadress, loal vana aadress","C",null,"Terminal","kütuste ladustamine (sh kütmine, jaemüük jne)","Lääne-Virumaa",null,"Sõmeru","Roodevälja","Terminali tee 12",23,null,"13-0388","2016-11-07","13-0388","2013-05-24","13-0388","2015-05-08",{"$nulls":4},"KemS","OKK-15-15","2015-05-20","roodevalja@gmail.com","2016-09-07","2015-10-26",null,"TJA","PA",null,null,"PA","TJA"]
["Ruf Eesti AS",null,"B",null,"Pürotehnika","pürotehnika toodete tootmine ja ladustamine","Harjumaa",null,"Jõelähtme","Võerdla","Lõhkeainete ladu",560,null,"15-0519","2015-04-24","15-0519","2015-09-18","11-0855","2011-12-23","15-0519","2015-09-21",null,null,"LMS","01-15","2015-04-06","ruf@fireworks.ee","2015-03-04","2015-08-19","TJA/PA",null,null,"PA","TJA",null,"PA"]
["Saare Gaas OÜ",null,"C",null,"Gaas","vedelgaasi ladustamine","Saaremaa","Kuressaare",null,null,"Kaevu 27",397,null,"14-1087","2016-09-26","14-1087","2015-01-30","14-1087","2015-03-12",{"$nulls":4},"KemS","OKK-10-15","2015-03-16","info@saaregaas.ee","2014-09-10","2015-09-22","PA",null,null,null,"TJA","PA"]
["Saarek Productions AS","Tekkis Saarek AS jagunemisel","C",null,"Külmhoone","toiduainete ja jookide tootmine","Tartumaa",null,"Ülenurme","Reola","Külma",null,null,"13-1001","2015-05-14","12-1169","2012-09-18","13-1001","2015-05-22",{"$nulls":4},"KemS","OKK-17-15","2015-05-29","veljo@saarek.ee","2011-09-29","2016-11-17",null,"TJA/PA","TJA",null,"PA"]
["Saaremaa Lihatööstus AS",null,"C",null,"Külmhoone","toiduainete ja jookide tootmine","Saaremaa","Kuressaare",null,null,"Pikk 81",388,null,"14-1103","2015-10-14","14-1103","2016-04-01","14-1103","2016-11-10",{"$nulls":4},"Taotlus","taotlus sees","2014-12-02","slt@slt.ee","2014-09-11","2015-09-22","PA",null,null,"PA","TJA",null,"PA"]
["Saarioinen Eesti OÜ",null,"C",null,"Külmhoone","toiduainete ja jookide tootmine","Raplamaa",null,"Rapla","Kalevi","Rebastemäe tee 1",null,null,"13-1042","2016-06-13","12-2009","2012-11-13","13-1042","2013-11-08",{"$nulls":4},"KemS","OKK-03-14","2014-03-12","saarioinen@saarioinen.ee ","2016-06-02","2013-05-13",null,"TJA/PA","PA",null,null,"PA","TJA"]
["Saku Õlletehas AS",null,"C",null,"Külmhoone","toiduainete ja jookide tootmine","Harjumaa",null,"Saku","Saku","Tallinna mnt. 2",98,null,"16-0803","2016-05-06","13-2249","2014-03-26","13-2249","2014-05-28",{"$nulls":4},"KemS","OKK-25-14","2014-06-13","saku@saku.ee","2016-04-27","2014-10-02",null,"TJA","PA",null,null,"PA","TJA"]
["SALUTAGUSE PÄRMITEHAS AS",null,"C",null,"Pärm","toiduainete ja jookide tootmine","Raplamaa",null,"Kohila","Salutaguse","Pärmitehase",67,null,"16-0975","2016-06-14","13-1290","2014-03-27","13-1290","2014-10-10",{"$nulls":4},"KemS","OKK-62-14","2014-12-17","salutaguse@lallemand.com","2016-06-02","2014-10-02",null,"TJA","PA",null,null,"PA","TJA"]
["Sankotrans AS",null,"A",null,"Väetised","väetiste tootmine ja ladustamine","Harjumaa","Maardu",null,null,"Hoidla tee 2a",null,null,"16-0461","2016-03-22","16-0461","2016-06-15",{"$nulls":4},"16-0461","2016-06-15","Puudub",null,null,"info@sankotrans.ee",null,null,null,"TJA","PA","TJA","PA","TJA","PA"]
["Sevenoil EST OÜ - Iru","Statoil ostab ära","C",null,"Tankla","kütuste ladustamine (sh kütmine, jaemüük jne)","Harjumaa",null,"Jõelähtme","Iru","Ämma tee 79",386,null,"14-1294","2016-03-31","14-1294","2016-05-15",{"$nulls":6},"Taotlus","taotlus sees","2015-10-27","info@premium-7.ee",null,null,null,"PA","PA"]
["Sevenoil EST OÜ - Jõhvi","Statoil ostab ära","C",null,"Tankla","kütuste ladustamine (sh kütmine, jaemüük jne)","Ida-Virumaa",null,null,null,"Tartu mnt 26",386,null,"14-1294","2015-10-28","14-1294","2016-04-01",{"$nulls":6},"Taotlus","taotlus sees","2015-10-27","info@premium-7.ee",null,null,null,"PA","PA"]
["Sevenoil EST OÜ - Kivilinna","Statoil ostab ära","C",null,"Tankla","kütuste ladustamine (sh kütmine, jaemüük jne)","Tartumaa","Tartu",null,null,"Jaama 173a",386,null,"14-1294","2016-03-31","14-1294","2016-04-05",{"$nulls":6},"Taotlus","taotlus sees","2015-10-27","info@premium-7.ee",null,"2016-11-24",null,"PA",{"$nulls":4},"PA"]
["Sevenoil EST OÜ - Kvissentali","Statoil ostab ära","C",null,"Tankla","kütuste ladustamine (sh kütmine, jaemüük jne)","Tartumaa",null,"Tartu","Vahi","Astelpaju 2a",386,null,"14-1294","2015-02-25","14-1294","2015-03-05","14-1294","2015-06-16",{"$nulls":4},"KemS","OKK-20-15","2015-06-25","info@premium-7.ee",null,"2015-05-19","PA",{"$nulls":4},"PA"]
["Silsteve AS",null,"A",null,"Väetised","väetiste tootmine ja ladustamine","Ida-Virumaa","Sillamäe",null,null,"Ehitajate 1k",4665,null,"13-0822","2016-06-13","13-0822","2013-05-20","13-0822","2013-06-05","13-0822","2013-05-20","13-0822","2013-05-20","KemS","OKK-02-12","2012-11-22","silsteve@silsteve.ee ","2015-09-22","2015-08-17","TJA/PA","PA","PA","TJA","PA","TJA","PA"]
["Statoil Fuel & Retail Eesti AS - Anne tankla",null,"C",null,"Tankla","kütuste ladustamine (sh kütmine, jaemüük jne)","Tartumaa","Tartu",null,null,"Kalda tee 1",null,null,"12-0460","2012-03-05","12-0460","2012-12-17","13-0711","2013-06-05",{"$nulls":4},"KemS","OKK-17-14","2014-04-14","eesti@statoilfuelretail.com",null,"2013-05-29",null,null,"PA"]
["Statoil Fuel & Retail Eesti AS - Endla tankla",null,"C",null,"Tankla","kütuste ladustamine (sh kütmine, jaemüük jne)","Viljandimaa","Viljandi",null,null,"Endla 1",181,null,"12-0460","2012-03-05","13-0711","2013-06-11","13-0711","2013-10-11",{"$nulls":4},"KemS","OKK-16-14","2014-04-14","eesti@statoilfuelretail.com",null,"2013-09-23",null,null,"PA"]
["Statoil Fuel & Retail Eesti AS - Riia mnt tankla",null,"C",null,"Tankla","kütuste ladustamine (sh kütmine, jaemüük jne)","Pärnumaa","Pärnu",null,null,"Riia mnt 233",181,null,"12-0460","2012-05-04","13-0711","2013-06-11","13-0711","2013-10-11",{"$nulls":4},"KemS","OKK-20-14","2014-04-14","eesti@statoilfuelretail.com",null,"2013-09-25",null,null,"PA"]
["Statoil Fuel & Retail Eesti AS - Sikupilli tankla",null,"C",null,"Tankla","kütuste ladustamine (sh kütmine, jaemüük jne)","Harjumaa","Tallinn ",null,null,"Tartu mnt 86",181,null,"12-0460","2012-03-05","13-0711","2013-05-14","13-0711","2013-09-18",{"$nulls":4},"KemS","OKK-19-14","2014-04-14","eesti@statoilfuelretail.com",null,"2014-03-31",null,null,"PA"]
["Statoil Fuel & Retail Eesti AS - Sütiste tankla",null,"C",null,"Tankla","kütuste ladustamine (sh kütmine, jaemüük jne)","Harjumaa","Tallinn ",null,null,"Sütiste tee 1",181,null,"12-0460","2012-03-05","13-0711","2013-05-14","13-0711","2013-09-18",{"$nulls":4},"KemS","OKK-18-14","2014-04-14","eesti@statoilfuelretail.com",null,"2014-04-02",null,null,"PA"]
["Stivis AS",null,"B",null,"Väetised","väetiste tootmine ja ladustamine","Harjumaa",null,"Viimsi","Muuga","Koorma 1",772,null,"15-1725","2016-04-04","15-1725","2016-06-17","15-1725","2016-09-07","15-1725","2016-06-17",null,null,"KemS","OKK-13-16","2016-09-16","stivis@stivis.ee","2016-06-15",null,null,"TJA","PA",null,"TJA","PA"]
["T.R Tamme Auto OÜ",null,"B",null,"Terminal","kütuste ladustamine (sh kütmine, jaemüük jne)","Lääne-Virumaa",null,"Sõmeru","Roodevälja","Terminali tee 12",91,null,"16-0472","2016-03-12","14-1742","2015-05-11","14-1742","2015-10-21","14-1742","2015-09-29",null,null,"KemS","OKK-34-15","2015-10-30","info@tammeauto.ee","2014-11-05","2015-10-26","PA",null,"TJA","PA",null,"TJA","PA"]
["Tallinna Vesi AS Reoveepuhastusjaam",null,"C",null,"Alkohol","vesi ja reovesi (kogumine, varustamine ja töötlemine","Harjumaa","Tallinn",null,null,"Paljassaare põik 14",360,null,"16-1463","2016-09-27","13-0523","2013-05-03","13-0523","2016-04-20",{"$nulls":4},"KemS","OKK-07-14","2014-03-24","tvesi@tvesi.ee","2013-02-06","2015-08-25","PA",null,null,"TJA/PA",null,null,"PA"]
["Tallinna Vesi AS Veepuhastusjaam",null,"B",null,"Kloor","vesi ja reovesi (kogumine, varustamine ja töötlemine","Harjumaa","Tallinn",null,null,"Järvevana tee 3",3400,null,"16-1463","2016-10-06","13-0523","2013-07-03","13-0523","2014-02-12","11-1220","2011-06-20",null,null,"KemS","OKK-19-11","2011-11-28","tvesi@tvesi.ee","2014-10-24","2015-08-18","PA",null,"TJA","PA",null,"TJA","PA"]
["TARTU TERMINAAL AS",null,"A",null,"Terminal","kütuste ladustamine (sh kütmine, jaemüük jne)","Tartumaa",null,"Tartu","Kärkna","Tartu terminal",391,null,"13-1278","2016-09-26","13-1278","2014-07-16","13-1278","2013-06-14","13-1278","2014-07-16","13-1278","2014-07-16","KemS","OKK-30-11","2011-12-05","info@terminaloil.ee","2016-08-18","2015-07-28","PA","TJA","PA","PA","TJA","PA","TJA"]
["Tere AS Põlva tootmisosakond",null,"C",null,"Külmhoone","toiduainete ja jookide tootmine","Põlvamaa","Põlva",null,null,"Jaama 20",1100,null,"16-1574","2016-01-21","12-1431","2013-10-31","12-1431","2014-04-04",{"$nulls":4},"THS","L.KKL.PÕ-30997","2005-06-30","tere@tere.eu","2013-09-11","2016-11-03",null,"PA",null,"TJA","PA"]
["Tere AS Viljandi tootmisosakond",null,"C",null,"Külmhoone","toiduainete ja jookide tootmine","Viljandimaa","Viljandi",null,null,"Raua 6",1100,null,"16-1574","2016-10-19","12-1431","2013-02-01","12-1431","2013-07-10",{"$nulls":4},"KemS","OKK-58-14","2014-12-11","tere@tere.eu","2013-03-21","2016-10-19",null,"PA",null,"TJA","PA"]
["Tikkurila AS",null,"C","x","Värvid","üldine kemikaalide tootmine (eespool nimetamata)","Harjumaa","Tallinn ",null,null,"Liimi 5",125,null,"16-1528","2016-10-21","12-1763","2012-12-12","12-1763","2013-09-27",{"$nulls":4},"KemS","OKK-60-14","2014-12-18","info.ee@tikkurila.com","2015-04-01","2015-11-10","TJA/PA",null,null,"PA",null,"TJA","PA"]
["Triplex Eesti OÜ",null,"C",null,"Pürotehnika","pürotehnika toodete tootmine ja ladustamine","Tartumaa",null,"Rõngu","Kõduküla","Hanni",49,null,"15-1332","2015-09-17","15-1332","2016-04-15",{"$nulls":6},"LMS","005","2009-10-20","info@triplex.ee","2015-08-14","2016-09-28","TJA","PA",null,null,"PA","TJA"]
["Tulekild Ilutulestikud OÜ",null,"C",null,"Pürotehnika","pürotehnika toodete tootmine ja ladustamine","Tartumaa","Tartu",null,null,"Liiva 41",60,null,"13-0554","2013-03-28","13-0554","2013-05-08","13-0554","2014-01-30",{"$nulls":4},"LMS","8/2005","2005-12-12","info@tulekild.ee","2015-08-14","2016-09-21","TJA","PA",null,null,"PA","TJA"]
["Utilitas Eesti AS Keila katlamaja",null,"C",null,"Katlamaja","kütuste ladustamine (sh kütmine, jaemüük jne)","Harjumaa","Keila",null,null,"Põhja 27",66,null,"16-1618","2016-10-26","13-0211","2016-05-20","16-1618","2016-10-25",{"$nulls":4},"KemS","OKK-15-16","2016-10-21","info@utilitas.ee",null,null,"PA",{"$nulls":4},"PA"]
["Utilitas Tallinn AS Kristiine katlamaja",null,"C",null,"Katlamaja","kütuste ladustamine (sh kütmine, jaemüük jne)","Harjumaa","Tallinn",null,null,"Marja 5",79,null,"16-1515","2016-10-06","13-0314","2013-12-11","13-0314","2014-03-13",{"$nulls":4},"THS","L.KKL.HA-29983 ","2006-11-30","info@utilitas.ee",{"$nulls":4},"PA"]
["Utilitas Tallinn AS Mustamäe katlamaja",null,"B",null,"Katlamaja","kütuste ladustamine (sh kütmine, jaemüük jne)","Harjumaa","Tallinn",null,null,"Kadaka tee 181",null,null,"16-1515","2016-10-06","13-0314","2014-01-16","13-0314","2014-01-14","13-0314","2014-01-02",null,null,"THS","L.KKL.HA-29983 ","2006-11-30","info@utilitas.ee",null,null,"PA",null,"TJA","PA",null,"TJA","PA"]
["Vaasan Baltic AS",null,"C",null,"Külmhoone","toiduainete ja jookide tootmine","Harjumaa","Saue",null,null,"Kungla 4",154,null,"13-0916","2016-06-07","13-0916","2013-11-01","13-0916","2014-01-27",{"$nulls":4},"KemS","OKK-27-14","2014-08-19","info.saue@lantmannen.com","2016-04-27",null,null,"TJA","PA",null,null,"PA","TJA"]
["Vasar OÜ",null,"B",null,"Galvaanika","metallide töötlemine elektrolüütiliste või keemiliste protsesside abil","Harjumaa","Maardu",null,null,"Vana-Narva mnt 1",null,null,"11-1759","2011-09-12","11-1759","2012-01-25","13-1217","2016-03-31","11-1759","2012-03-22",null,null,"THS","L.KKL.HA-18826","2004-05-12","vasar@vasar.ee","2015-03-04","2015-05-27","TJA/PA",null,null,"TJA","PA",null,"TJA"]
["Vedelgaas OÜ - Agraar Invest OÜ viljakuivati",null,"C",null,"Gaas","vedelgaasi ladustamine","Pärnumaa",null,"Halinga","Vahenurme","Kuivati",387,null,"14-1614","2015-11-25","14-1614","2016-05-01","14-1614","2016-11-02",{"$nulls":4},"Taotlus","taotlus sees","2015-11-09","info@vedelgaas.ee",null,null,null,"PA","PA"]
["Vedelgaas OÜ - Eccua OÜ",null,"C",null,"Gaas","vedelgaasi ladustamine","Harjumaa",null,"Saue","Hüüru","Angerja tee 40",387,null,"14-1614","2015-11-10","14-1614","2016-05-01","14-1614","2016-05-31",{"$nulls":4},"Taotlus","taotlus sees","2015-11-09","info@vedelgaas.ee",null,null,null,"PA","PA"]
["Vedelgaas OÜ - Erra Agro OÜ viljakuivati",null,"C",null,"Gaas","vedelgaasi ladustamine","Ida-Virumaa",null,"Sonda","Erra","Puiestee 23a",387,null,"14-1614","2015-11-25","14-1614","2016-05-01",{"$nulls":6},"Taotlus","taotlus sees","2015-11-09","info@vedelgaas.ee",null,null,null,"PA","PA"]
["Vedelgaas OÜ - Estonia OÜ viljakuivati",null,"C",null,"Gaas","vedelgaasi ladustamine","Järvamaa",null,"Türi","Oisu","Töökoja",387,null,"14-1614","2015-11-25","14-1614","2016-05-01","14-1614","2016-11-02",{"$nulls":4},"Taotlus","taotlus sees","2015-11-09","info@vedelgaas.ee","2014-11-13",null,null,"PA","PA"]
["Vedelgaas OÜ - Heko Põld OÜ teraviljakuivati",null,"C",null,"Gaas","vedelgaasi ladustamine","Tartumaa",null,"Puhja","Rämsi","Tiidriku tee 14",null,null,"14-1614","2016-09-28","14-1614","2016-05-04","14-1614","2016-05-04",{"$nulls":4},"Taotlus","taotlus sees","2016-05-04","info@vedelgaas.ee",null,null,null,"PA","PA"]
["Vedelgaas OÜ - HKScan farmid - Kostivere tee 2",null,"C",null,"Gaas","vedelgaasi ladustamine","Harjumaa",null,"Jõelähtme","Loo","Kostivere tee 2",393,null,"14-1614","2016-03-12","14-1614","2016-05-01","14-1614","2016-05-31",{"$nulls":4},"Taotlus","taotlus sees","2016-01-04","info@vedelgaas.ee",null,null,null,"PA","PA"]
["Vedelgaas OÜ - HKScan farmid - Kostivere tee 9",null,"C",null,"Gaas","vedelgaasi ladustamine","Harjumaa",null,"Jõelähtme","Loo","Kostivere tee 9",380,null,"14-1614","2016-03-12","14-1614","2016-05-01","14-1614","2016-05-31",{"$nulls":4},"Taotlus","taotlus sees","2016-01-08","info@vedelgaas.ee",null,null,null,"PA","PA"]
["Vedelgaas OÜ - Järva PM OÜ viljakuivati",null,"C",null,"Gaas","vedelgaasi ladustamine","Järvamaa",null,"Koeru","Laaneotsa","Kuivati",387,null,"14-1614","2015-11-25","14-1614","2016-05-01","14-1614","2016-11-02",{"$nulls":4},"Taotlus","taotlus sees","2015-11-09","info@vedelgaas.ee",null,null,null,"PA","PA"]
["Vedelgaas OÜ - Koplimäe Agro OÜ viljakuivati",null,"C",null,"Gaas","vedelgaasi ladustamine","Harjumaa",null,"Anija","Anija","Vilkula",387,null,"14-1614","2015-11-10","14-1614","2016-05-01","14-1614","2016-05-31",{"$nulls":4},"Taotlus","taotlus sees","2015-11-09","info@vedelgaas.ee",null,null,"PA",null,null,null,"PA"]
["Vedelgaas OÜ - Kämara-Antsu talu viljakuivati",null,"C",null,"Gaas","vedelgaasi ladustamine","Tartumaa",null,"Laeva","Kärevere","Sepa",387,null,"14-1614","2015-11-25","14-1614","2016-05-01","14-1614","2016-05-31",{"$nulls":4},"Taotlus","taotlus sees","2015-11-09","info@vedelgaas.ee",null,"2016-10-13",null,"PA",{"$nulls":4},"PA"]
["Vedelgaas OÜ - Laatre Piim OÜ viljakuivati",null,"C",null,"Gaas","vedelgaasi ladustamine","Valgamaa",null,"Tõlliste","Sooru","Keskuse",387,null,"14-1614","2015-11-25","14-1614","2016-05-01","14-1614","2016-05-31",{"$nulls":4},"Taotlus","taotlus sees","2015-11-09","info@vedelgaas.ee",null,null,"PA",null,null,null,"PA"]
["Vedelgaas OÜ - Mällikvere PÜ OÜ viljakuivati",null,"C",null,"Gaas","vedelgaasi ladustamine","Jõgevamaa",null,"Põltsamaa","Pauastvere","Tamme",387,null,"14-1614","2015-11-10","14-1614","2016-05-01","14-1614","2016-05-31",{"$nulls":4},"Taotlus","taotlus sees","2015-11-09","info@vedelgaas.ee",null,"2016-10-13",null,"PA"]
["Vedelgaas OÜ - Põllumeeste ühistu KEVILI Lõuna terminal",null,"C",null,"Gaas","vedelgaasi ladustamine","Tartumaa",null,"Rõngu","Lossimäe","Piiroja aed",462,null,"14-1614","2016-05-15","14-1614","2016-06-14","14-1614","2016-04-28",{"$nulls":4},"Taotlus","taotlus sees","2016-04-28","info@vedelgaas.ee",{"$nulls":4},"PA"]
["Vedelgaas OÜ - Reideni Plaat AS",null,"C",null,"Gaas","vedelgaasi ladustamine","Lääne-Virumaa",null,"Kadrina","Kadrina","Tööstuse 29",402,null,"14-1614","2014-11-14","14-1614","2015-03-04","14-1614","2015-05-08",{"$nulls":4},"KemS","OKK-16-15","2015-05-20","info@vedelgaas.ee","2015-06-17",null,"TJA/PA",null,null,null,"PA"]
["Vedelgaas OÜ - Rämsi Agro OÜ viljakuivati",null,"C",null,"Gaas","vedelgaasi ladustamine","Ida-Virumaa",null,"Puhja","Rämsi","Tiidriku tee 20",387,null,"14-1614","2015-11-25","14-1614","2016-05-01","14-1614","2016-05-31",{"$nulls":4},"Taotlus","taotlus sees","2015-11-09","info@vedelgaas.ee",null,null,null,"PA","PA"]
["Vesta Terminal Tallinn OÜ",null,"A",null,"Terminal","kütuste ladustamine (sh kütmine, jaemüük jne)","Harjumaa",null,"Viimsi","Muuga","Õli 3",null,null,"14-1718","2014-12-05",null,null,"14-1718","2015-07-02",null,null,"11-1677","2011-10-24","KemS","OKK-23-11","2011-11-30","tallinn@vestaterminal.ee","2016-11-03","2015-06-18","PA","TJA/PA","PA","TJA","PA","TJA","PA"]
["Viking Life-Saving Equipment AS","ei ole ohtlik","C",null,"Pürotehnika","pürotehnika toodete tootmine ja ladustamine","Harjumaa",null,"Rae","Peetri","Helgi tee 3",30,null,"14-0138","2014-01-13","14-0138","2014-06-02","14-0138","2014-02-25",{"$nulls":4},"LMS","03-14","2014-10-17","viking-ee@viking-life.com",null,"2015-10-06","PA","TJA","TJA","PA",null,null,"PA"]
["Viljandi Naftabaas OÜ",null,"B",null,"Terminal","kütuste ladustamine (sh kütmine, jaemüük jne)","Viljandimaa","Viljandi",null,null,"Reinu tee 18",115,null,"14-1355","2016-10-05","14-1355","2015-05-19","14-1355","2016-04-08","14-1355","2015-02-26",null,null,"KemS","OKK-31-11","2011-12-05","viljandi@naftabaas.ee","2014-08-05","2015-11-17","PA",null,"TJA","PA",null,"TJA","PA"]
["Viru Õlu AS",null,"C",null,"Külmhoone","toiduainete ja jookide tootmine","Lääne-Virumaa",null,"Haljala","Haljala","Rakvere mnt 7",1901,null,"16-0811","2016-06-08","16-0811","2016-08-22","11-0855","2011-09-15",{"$nulls":4},"KemS","OKK-30-14","2014-10-06","wiru@wiru.ee","2016-05-18","2014-11-17",null,"TJA/PA","PA",null,null,"PA","TJA"]
["VKG Energia OÜ Põhja SEJ","ei ole ohtlik","C","x","Põlevkiviõli","kütuste ladustamine (sh kütmine, jaemüük jne)","Ida-Virumaa","Kohtla-Järve",null,null,"Elektriku 3",null,null,"16-0909","2016-05-31","12-1163","2012-09-28","12-1163","2011-09-12",{"$nulls":4},"THS","L.KKL.IV-204118","2008-12-30","vkgenergia@vkg.ee","2012-10-25","2014-03-26","PA",null,"TJA",null,"PA"]
["VKG Oil AS",null,"A","x","Põlevkiviõli","üldine kemikaalide tootmine (eespool nimetamata)","Ida-Virumaa","Kohtla-Järve",null,null,"Keemia 2",104,null,"15-1070","2015-07-15","15-1070","2016-05-16",null,null,"15-1070","2016-05-16","15-1070","2016-05-16","THS","L.KKL.IV-198338","2008-12-31","vkgoil@vkg.ee","2015-06-18","2015-10-23","TJA/PA","PA","PA","TJA","PA","TJA","PA"]
["Voglers Eesti OÜ",null,"C",null,"Lõhkematerjal","lõhkeaine tootmine, hävitamine ja ladustamine","Lääne-Virumaa",null,"Sõmeru","Andja","Lõhkeaine",null,null,"16-0525","2016-03-22","16-0525","2016-11-16","16-0525","2016-09-13",{"$nulls":4},"LMS","taotlus sees",null,"Info@voglers.ee",{"$nulls":4},"TJA","PA",null,null,"PA"]
["Vopak E.O.S. AS (Pakterminal)",null,"A",null,"Terminal","kütuste ladustamine (sh kütmine, jaemüük jne)","Harjumaa",null,"Viimsi","Muuga","Lasti tee 20",160,null,"13-0521","2016-05-15","13-0521","2014-02-07","13-0521","2015-08-18",null,null,"13-0521","2016-08-09","KemS","OKK-20-11","2011-11-28","info@vopakeos.com","2015-02-03","2015-07-09","TJA/PA","PA","TJA","PA","TJA","PA","TJA"]
["Vopak E.O.S. AS (Stivterminal)",null,"A",null,"Terminal","kütuste ladustamine (sh kütmine, jaemüük jne)","Harjumaa",null,"Viimsi","Muuga","Vilja 7",163,null,"13-0521","2016-04-06","13-0521","2016-06-30","13-0521","2015-08-18",null,null,"13-0521","2016-06-30","KemS","OKK-32-11","2011-12-15","info@vopakeos.com","2015-02-03","2015-07-09","TJA/PA","PA","TJA","PA","TJA","PA","TJA"]
["Vopak E.O.S. AS (Termoil)",null,"A",null,"Terminal","kütuste ladustamine (sh kütmine, jaemüük jne)","Harjumaa","Maardu",null,null,"Vana-Narva mnt 27A",162,null,"13-0521","2015-12-01","13-0521","2016-06-20","13-0521","2014-08-12",null,null,"13-0521","2016-06-20","KemS","OKK-21-11","2011-11-28","info@vopakeos.com","2014-04-23","2015-08-26","PA","PA","TJA","PA","TJA","PA","TJA"]
["Vopak E.O.S. AS (Trendgate)",null,"A",null,"Terminal","kütuste ladustamine (sh kütmine, jaemüük jne)","Harjumaa","Maardu",null,null,"Peterburi tee 105",300,null,"13-0521","2014-06-03","13-0521","2016-06-17","13-0521","2014-11-28",null,null,"13-0521","2016-06-17","KemS","OKK-22-11","2011-11-28","info@vopakeos.com","2014-04-23","2015-08-26","PA","PA","TJA","PA","TJA","PA","TJA"]
["VRHL OÜ Mõntu Külmhoone",null,"C",null,"Külmhoone","toiduainete ja jookide tootmine","Saaremaa",null,"Torgu","Mõntu","Külmhoone",627,null,"14-1187","2016-10-07","14-1187","2014-12-29","14-1187","2015-04-02",{"$nulls":4},"KemS","OKK-14-15","2015-05-13","vrhl@hot.ee","2014-09-10","2015-09-23",null,null,null,"PA","TJA",null,"PA"]
["Võru Gaas OÜ",null,"C",null,"Gaas","vedelgaasi ladustamine","Võrumaa",null,"Võru","Vagula","Jõeperve",null,null,"16-1578","2016-10-26","12-1456","2012-10-31","12-1456","2013-01-17",{"$nulls":4},"KemS","OKK-53-14","2014-12-18","voru.gaas@mail.ee","2013-09-12","2015-09-23","PA",null,null,"TJA",null,"PA"]
[{"$nulls":27},"TJA =",null,{"$f":"COUNTIFS((AD8:AD224),\"=TJA\")","v":11},35,31,33,40,42,{"$f":"COUNTIFS((AJ8:AJ224),\"=TJA\")","v":31}]
[{"$nulls":27},"TJA/PA =",null,{"$f":"COUNTIFS((AD8:AD224),\"=TJA/PA\")","v":29},12,2,1,0,5,{"$f":"COUNTIFS((AJ8:AJ224),\"=TJA/PA\")","v":5}]
[{"$nulls":27},"PA =",null,{"$f":"COUNTIFS((AD8:AD224),\"=PA\")","v":79},61,102,80,36,61,{"$f":"COUNTIFS((AJ8:AJ224),\"=PA\")","v":66}]
[]
[{"$nulls":27},"TJA kokku=",null,{"$f":"AD225+AD226","v":40},47,33,34,40,47,{"$f":"AJ225+AJ226","v":36}]
[{"$nulls":27},"PA kokku=",null,108,73,104,81,36,66,{"$f":"AJ226+AJ227","v":71}]

{"sheet":"Maakond","index":1,"n_rows":17,"n_cols":5,"rows_kept":17,"cut":false,"hidden":false,"merged":[]}
[null,"A","B","C","KOKKU"]
["Harjumaa",{"$f":"COUNTIFS((Kõik!C8:C224),\"=A\",(Kõik!G8:G224),\"=Harjumaa\")","v":16},{"$f":"COUNTIFS((Kõik!C8:C224),\"=B\",(Kõik!G8:G224),\"=Harjumaa\")","v":19},{"$f":"COUNTIFS((Kõik!C8:C224),\"=C\",(Kõik!G8:G224),\"=Harjumaa\")","v":56},{"$f":"SUM(B2:D2)","v":91}]
["Hiiumaa",{"$f":"COUNTIFS((Kõik!C8:C224),\"=A\",(Kõik!G8:G224),\"=Hiiumaa\")","v":0},{"$f":"COUNTIFS((Kõik!C8:C224),\"=B\",(Kõik!G8:G224),\"=Hiiumaa\")","v":0},{"$f":"COUNTIFS((Kõik!C8:C224),\"=C\",(Kõik!G8:G224),\"=Hiiumaa\")","v":0},{"$f":"SUM(B3:D3)","v":0}]
["Ida-Virumaa",{"$f":"COUNTIFS((Kõik!C8:C224),\"=A\",(Kõik!G8:G224),\"=Ida-Virumaa\")","v":12},{"$f":"COUNTIFS((Kõik!C8:C224),\"=B\",(Kõik!G8:G224),\"=Ida-Virumaa\")","v":4},{"$f":"COUNTIFS((Kõik!C8:C224),\"=C\",(Kõik!G8:G224),\"=Ida-Virumaa\")","v":13},29]
["Jõgevamaa",{"$f":"COUNTIFS((Kõik!C8:C224),\"=A\",(Kõik!G8:G224),\"=Jõgevamaa\")","v":0},{"$f":"COUNTIFS((Kõik!C8:C224),\"=B\",(Kõik!G8:G224),\"=Jõgevamaa\")","v":1},{"$f":"COUNTIFS((Kõik!C8:C224),\"=C\",(Kõik!G8:G224),\"=Jõgevamaa\")","v":3},4]
["Järvamaa",{"$f":"COUNTIFS((Kõik!C8:C224),\"=A\",(Kõik!G8:G224),\"=Järvamaa\")","v":0},{"$f":"COUNTIFS((Kõik!C8:C224),\"=B\",(Kõik!G8:G224),\"=Järvamaa\")","v":0},{"$f":"COUNTIFS((Kõik!C8:C224),\"=C\",(Kõik!G8:G224),\"=Järvamaa\")","v":6},6]
["Läänemaa",{"$f":"COUNTIFS((Kõik!C8:C224),\"=A\",(Kõik!G8:G224),\"=Läänemaa\")","v":0},{"$f":"COUNTIFS((Kõik!C8:C224),\"=B\",(Kõik!G8:G224),\"=Läänemaa\")","v":0},{"$f":"COUNTIFS((Kõik!C8:C224),\"=C\",(Kõik!G8:G224),\"=Läänemaa\")","v":3},3]
["Lääne-Virumaa",{"$f":"COUNTIFS((Kõik!C8:C224),\"=A\",(Kõik!G8:G224),\"=Lääne-Virumaa\")","v":2},{"$f":"COUNTIFS((Kõik!C8:C224),\"=B\",(Kõik!G8:G224),\"=Lääne-Virumaa\")","v":2},{"$f":"COUNTIFS((Kõik!C8:C224),\"=C\",(Kõik!G8:G224),\"=Lääne-Virumaa\")","v":13},17]
["Põlvamaa",{"$f":"COUNTIFS((Kõik!C8:C224),\"=A\",(Kõik!G8:G224),\"=Põlvamaa\")","v":0},{"$f":"COUNTIFS((Kõik!C8:C224),\"=B\",(Kõik!G8:G224),\"=Põlvamaa\")","v":0},{"$f":"COUNTIFS((Kõik!C8:C224),\"=C\",(Kõik!G8:G224),\"=Põlvamaa\")","v":3},3]
["Pärnumaa",{"$f":"COUNTIFS((Kõik!C8:C224),\"=A\",(Kõik!G8:G224),\"=Pärnumaa\")","v":0},{"$f":"COUNTIFS((Kõik!C8:C224),\"=B\",(Kõik!G8:G224),\"=Pärnumaa\")","v":1},{"$f":"COUNTIFS((Kõik!C8:C224),\"=C\",(Kõik!G8:G224),\"=Pärnumaa\")","v":8},9]
["Raplamaa",{"$f":"COUNTIFS((Kõik!C8:C224),\"=A\",(Kõik!G8:G224),\"=Raplamaa\")","v":0},{"$f":"COUNTIFS((Kõik!C8:C224),\"=B\",(Kõik!G8:G224),\"=Raplamaa\")","v":0},{"$f":"COUNTIFS((Kõik!C8:C224),\"=C\",(Kõik!G8:G224),\"=Raplamaa\")","v":6},6]
["Saaremaa",{"$f":"COUNTIFS((Kõik!C8:C224),\"=A\",(Kõik!G8:G224),\"=Saaremaa\")","v":0},{"$f":"COUNTIFS((Kõik!C8:C224),\"=B\",(Kõik!G8:G224),\"=Saaremaa\")","v":1},{"$f":"COUNTIFS((Kõik!C8:C224),\"=C\",(Kõik!G8:G224),\"=Saaremaa\")","v":6},7]
["Tartumaa",{"$f":"COUNTIFS((Kõik!C8:C224),\"=A\",(Kõik!G8:G224),\"=Tartumaa\")","v":2},{"$f":"COUNTIFS((Kõik!C8:C224),\"=B\",(Kõik!G8:G224),\"=Tartumaa\")","v":0},{"$f":"COUNTIFS((Kõik!C8:C224),\"=C\",(Kõik!G8:G224),\"=Tartumaa\")","v":22},24]
["Valgamaa",{"$f":"COUNTIFS((Kõik!C8:C224),\"=A\",(Kõik!G8:G224),\"=Valgamaa\")","v":0},{"$f":"COUNTIFS((Kõik!C8:C224),\"=B\",(Kõik!G8:G224),\"=Valgamaa\")","v":0},{"$f":"COUNTIFS((Kõik!C8:C224),\"=C\",(Kõik!G8:G224),\"=Valgamaa\")","v":4},4]
["Viljandimaa",{"$f":"COUNTIFS((Kõik!C8:C224),\"=A\",(Kõik!G8:G224),\"=Viljandimaa\")","v":0},{"$f":"COUNTIFS((Kõik!C8:C224),\"=B\",(Kõik!G8:G224),\"=Viljandimaa\")","v":3},{"$f":"COUNTIFS((Kõik!C8:C224),\"=C\",(Kõik!G8:G224),\"=Viljandimaa\")","v":5},8]
["Võrumaa",{"$f":"COUNTIFS((Kõik!C8:C224),\"=A\",(Kõik!G8:G224),\"=Võrumaa\")","v":0},{"$f":"COUNTIFS((Kõik!C8:C224),\"=B\",(Kõik!G8:G224),\"=Võrumaa\")","v":1},{"$f":"COUNTIFS((Kõik!C8:C224),\"=C\",(Kõik!G8:G224),\"=Võrumaa\")","v":5},6]
["KOKKU",{"$f":"SUM(B2:B16)","v":32},{"$f":"SUM(C2:C16)","v":32},{"$f":"SUM(D2:D16)","v":153},217]

{"sheet":"Tegevusala","index":2,"n_rows":30,"n_cols":5,"rows_kept":30,"cut":false,"hidden":false,"merged":[]}
["Tegevusala","A","B","C","KOKKU"]
["Alkohol (piiritus)",{"$f":"COUNTIFS((Kõik!C8:C224),\"=A\",(Kõik!E8:E224),\"=Alkohol\")","v":0},{"$f":"COUNTIFS((Kõik!C8:C224),\"=B\",(Kõik!E8:E224),\"=Alkohol\")","v":0},{"$f":"COUNTIFS((Kõik!C8:C224),\"=C\",(Kõik!E8:E224),\"=Alkohol\")","v":2},{"$f":"SUM(B2:D2)","v":2}]
["Ammoniaak",{"$f":"COUNTIFS((Kõik!C8:C224),\"=A\",(Kõik!E8:E224),\"=Ammoniaak\")","v":1},{"$f":"COUNTIFS((Kõik!C8:C224),\"=B\",(Kõik!E8:E224),\"=Ammoniaak\")","v":0},{"$f":"COUNTIFS((Kõik!C8:C224),\"=C\",(Kõik!E8:E224),\"=Ammoniaak\")","v":0},{"$f":"SUM(B3:D3)","v":1}]
["Autokeemia",{"$f":"COUNTIFS((Kõik!C8:C224),\"=A\",(Kõik!E8:E224),\"=Autokeemia\")","v":0},{"$f":"COUNTIFS((Kõik!C8:C224),\"=B\",(Kõik!E8:E224),\"=Autokeemia\")","v":0},{"$f":"COUNTIFS((Kõik!C8:C224),\"=C\",(Kõik!E8:E224),\"=Autokeemia\")","v":3},3]
["Bensoehape",{"$f":"COUNTIFS((Kõik!C8:C224),\"=A\",(Kõik!E8:E224),\"=Bensoehape\")","v":0},{"$f":"COUNTIFS((Kõik!C8:C224),\"=B\",(Kõik!E8:E224),\"=Bensoehape\")","v":1},{"$f":"COUNTIFS((Kõik!C8:C224),\"=C\",(Kõik!E8:E224),\"=Bensoehape\")","v":0},1]
["Biokütus",{"$f":"COUNTIFS((Kõik!C8:C224),\"=A\",(Kõik!E8:E224),\"=Biokütus\")","v":0},{"$f":"COUNTIFS((Kõik!C8:C224),\"=B\",(Kõik!E8:E224),\"=Biokütus\")","v":0},{"$f":"COUNTIFS((Kõik!C8:C224),\"=C\",(Kõik!E8:E224),\"=Biokütus\")","v":0},0]
["Diiselkütus",{"$f":"COUNTIFS((Kõik!C8:C224),\"=A\",(Kõik!E8:E224),\"=Diiselkütus\")","v":0},{"$f":"COUNTIFS((Kõik!C8:C224),\"=B\",(Kõik!E8:E224),\"=Diiselkütus\")","v":1},{"$f":"COUNTIFS((Kõik!C8:C224),\"=C\",(Kõik!E8:E224),\"=Diiselkütus\")","v":0},{"$f":"SUM(B7:D7)","v":1}]
["Gaas",{"$f":"COUNTIFS((Kõik!C8:C224),\"=A\",(Kõik!E8:E224),\"=Gaas\")","v":2},{"$f":"COUNTIFS((Kõik!C8:C224),\"=B\",(Kõik!E8:E224),\"=Gaas\")","v":3},{"$f":"COUNTIFS((Kõik!C8:C224),\"=C\",(Kõik!E8:E224),\"=Gaas\")","v":41},46]
["Galvaanika",{"$f":"COUNTIFS((Kõik!C8:C224),\"=A\",(Kõik!E8:E224),\"=Galvaanika\")","v":0},{"$f":"COUNTIFS((Kõik!C8:C224),\"=B\",(Kõik!E8:E224),\"=Galvaanika\")","v":2},{"$f":"COUNTIFS((Kõik!C8:C224),\"=C\",(Kõik!E8:E224),\"=Galvaanika\")","v":3},5]
["Hulgimüük",{"$f":"COUNTIFS((Kõik!C8:C224),\"=A\",(Kõik!E8:E224),\"=Hulgimüük\")","v":0},{"$f":"COUNTIFS((Kõik!C8:C224),\"=B\",(Kõik!E8:E224),\"=Hulgimüük\")","v":0},{"$f":"COUNTIFS((Kõik!C8:C224),\"=C\",(Kõik!E8:E224),\"=Hulgimüük\")","v":6},6]
["Jäätmed",{"$f":"COUNTIFS((Kõik!C8:C224),\"=A\",(Kõik!E8:E224),\"=Jäätmed\")","v":1},{"$f":"COUNTIFS((Kõik!C8:C224),\"=B\",(Kõik!E8:E224),\"=Jäätmed\")","v":1},{"$f":"COUNTIFS((Kõik!C8:C224),\"=C\",(Kõik!E8:E224),\"=Jäätmed\")","v":2},4]
["Katlamaja",{"$f":"COUNTIFS((Kõik!C8:C224),\"=A\",(Kõik!E8:E224),\"=Katlamaja\")","v":0},{"$f":"COUNTIFS((Kõik!C8:C224),\"=B\",(Kõik!E8:E224),\"=Katlamaja\")","v":1},{"$f":"COUNTIFS((Kõik!C8:C224),\"=C\",(Kõik!E8:E224),\"=Katlamaja\")","v":3},4]
["Kloor",{"$f":"COUNTIFS((Kõik!C8:C224),\"=A\",(Kõik!E8:E224),\"=Kloor\")","v":0},{"$f":"COUNTIFS((Kõik!C8:C224),\"=B\",(Kõik!E8:E224),\"=Kloor\")","v":1},{"$f":"COUNTIFS((Kõik!C8:C224),\"=C\",(Kõik!E8:E224),\"=Kloor\")","v":1},2]
["Kroom",{"$f":"COUNTIFS((Kõik!C8:C224),\"=A\",(Kõik!E8:E224),\"=Kroom\")","v":1},{"$f":"COUNTIFS((Kõik!C8:C224),\"=B\",(Kõik!E8:E224),\"=Kroom\")","v":0},{"$f":"COUNTIFS((Kõik!C8:C224),\"=C\",(Kõik!E8:E224),\"=Kroom\")","v":0},1]
["Külmhoone",{"$f":"COUNTIFS((Kõik!C8:C224),\"=A\",(Kõik!E8:E224),\"=Külmhoone\")","v":0},{"$f":"COUNTIFS((Kõik!C8:C224),\"=B\",(Kõik!E8:E224),\"=Külmhoone\")","v":0},{"$f":"COUNTIFS((Kõik!C8:C224),\"=C\",(Kõik!E8:E224),\"=Külmhoone\")","v":27},27]
["Lõhkematerjal",{"$f":"COUNTIFS((Kõik!C8:C224),\"=A\",(Kõik!E8:E224),\"=Lõhkematerjal\")","v":3},{"$f":"COUNTIFS((Kõik!C8:C224),\"=B\",(Kõik!E8:E224),\"=Lõhkematerjal\")","v":0},{"$f":"COUNTIFS((Kõik!C8:C224),\"=C\",(Kõik!E8:E224),\"=Lõhkematerjal\")","v":1},4]
["Muldmetallid",{"$f":"COUNTIFS((Kõik!C8:C224),\"=A\",(Kõik!E8:E224),\"=Muldmetallid\")","v":1},{"$f":"COUNTIFS((Kõik!C8:C224),\"=B\",(Kõik!E8:E224),\"=Muldmetallid\")","v":0},{"$f":"COUNTIFS((Kõik!C8:C224),\"=C\",(Kõik!E8:E224),\"=Muldmetallid\")","v":0},1]
["Paber",{"$f":"COUNTIFS((Kõik!C8:C224),\"=A\",(Kõik!E8:E224),\"=Paber\")","v":0},{"$f":"COUNTIFS((Kõik!C8:C224),\"=B\",(Kõik!E8:E224),\"=Paber\")","v":0},{"$f":"COUNTIFS((Kõik!C8:C224),\"=C\",(Kõik!E8:E224),\"=Paber\")","v":1},{"$f":"SUM(B18:D18)","v":1}]
["Poroloon",{"$f":"COUNTIFS((Kõik!C8:C224),\"=A\",(Kõik!E8:E224),\"=Poroloon\")","v":0},{"$f":"COUNTIFS((Kõik!C8:C224),\"=B\",(Kõik!E8:E224),\"=Poroloon\")","v":2},{"$f":"COUNTIFS((Kõik!C8:C224),\"=C\",(Kõik!E8:E224),\"=Poroloon\")","v":0},{"$f":"SUM(B19:D19)","v":2}]
["Põlevkiviõli",{"$f":"COUNTIFS((Kõik!C8:C224),\"=A\",(Kõik!E8:E224),\"=Põlevkiviõli\")","v":4},{"$f":"COUNTIFS((Kõik!C8:C224),\"=B\",(Kõik!E8:E224),\"=Põlevkiviõli\")","v":2},{"$f":"COUNTIFS((Kõik!C8:C224),\"=C\",(Kõik!E8:E224),\"=Põlevkiviõli\")","v":2},8]
["Pärm",{"$f":"COUNTIFS((Kõik!C8:C224),\"=A\",(Kõik!E8:E224),\"=Pärm\")","v":0},{"$f":"COUNTIFS((Kõik!C8:C224),\"=B\",(Kõik!E8:E224),\"=Pärm\")","v":0},{"$f":"COUNTIFS((Kõik!C8:C224),\"=C\",(Kõik!E8:E224),\"=Pärm\")","v":1},{"$f":"SUM(B21:D21)","v":1}]
["Pürotehnika",{"$f":"COUNTIFS((Kõik!C8:C224),\"=A\",(Kõik!E8:E224),\"=Pürotehnika\")","v":0},{"$f":"COUNTIFS((Kõik!C8:C224),\"=B\",(Kõik!E8:E224),\"=Pürotehnika\")","v":4},{"$f":"COUNTIFS((Kõik!C8:C224),\"=C\",(Kõik!E8:E224),\"=Pürotehnika\")","v":5},9]
["Tankla",{"$f":"COUNTIFS((Kõik!C8:C224),\"=A\",(Kõik!E8:E224),\"=Tankla\")","v":0},{"$f":"COUNTIFS((Kõik!C8:C224),\"=B\",(Kõik!E8:E224),\"=Tankla\")","v":0},{"$f":"COUNTIFS((Kõik!C8:C224),\"=C\",(Kõik!E8:E224),\"=Tankla\")","v":46},46]
["Terminal",{"$f":"COUNTIFS((Kõik!C8:C224),\"=A\",(Kõik!E8:E224),\"=Terminal\")","v":15},{"$f":"COUNTIFS((Kõik!C8:C224),\"=B\",(Kõik!E8:E224),\"=Terminal\")","v":8},{"$f":"COUNTIFS((Kõik!C8:C224),\"=C\",(Kõik!E8:E224),\"=Terminal\")","v":3},26]
["Vahud",{"$f":"COUNTIFS((Kõik!C8:C224),\"=A\",(Kõik!E8:E224),\"=Vahud\")","v":0},{"$f":"COUNTIFS((Kõik!C8:C224),\"=B\",(Kõik!E8:E224),\"=Vahud\")","v":2},{"$f":"COUNTIFS((Kõik!C8:C224),\"=C\",(Kõik!E8:E224),\"=Vahud\")","v":0},2]
["Vaigud",{"$f":"COUNTIFS((Kõik!C8:C224),\"=A\",(Kõik!E8:E224),\"=Vaigud\")","v":0},{"$f":"COUNTIFS((Kõik!C8:C224),\"=B\",(Kõik!E8:E224),\"=Vaigud\")","v":0},{"$f":"COUNTIFS((Kõik!C8:C224),\"=C\",(Kõik!E8:E224),\"=Vaigud\")","v":1},{"$f":"SUM(B26:D26)","v":1}]
["Vesinikperoksiid",{"$f":"COUNTIFS((Kõik!C8:C224),\"=A\",(Kõik!E8:E224),\"=Vesinikperoksiid\")","v":1},{"$f":"COUNTIFS((Kõik!C8:C224),\"=B\",(Kõik!E8:E224),\"=Vesinikperoksiid\")","v":0},{"$f":"COUNTIFS((Kõik!C8:C224),\"=C\",(Kõik!E8:E224),\"=Vesinkperoksiid\")","v":0},{"$f":"SUM(B27:D27)","v":1}]
["Väetised",{"$f":"COUNTIFS((Kõik!C8:C224),\"=A\",(Kõik!E8:E224),\"=Väetised\")","v":3},{"$f":"COUNTIFS((Kõik!C8:C224),\"=B\",(Kõik!E8:E224),\"=Väetised\")","v":4},{"$f":"COUNTIFS((Kõik!C8:C224),\"=C\",(Kõik!E8:E224),\"=Väetised\")","v":2},9]
["Värvid",{"$f":"COUNTIFS((Kõik!C8:C224),\"=A\",(Kõik!E8:E224),\"=Värvid\")","v":0},{"$f":"COUNTIFS((Kõik!C8:C224),\"=B\",(Kõik!E8:E224),\"=Värvid\")","v":0},{"$f":"COUNTIFS((Kõik!C8:C224),\"=C\",(Kõik!E8:E224),\"=Värvid\")","v":3},3]
["KOKKU",{"$f":"SUM(B2:B29)","v":32},{"$f":"SUM(C2:C29)","v":32},{"$f":"SUM(D2:D29)","v":153},217]

{"sheet":"Koond","index":3,"n_rows":8,"n_cols":14,"rows_kept":8,"cut":false,"hidden":false,"merged":[]}
[null,2011,2012,2013,2014,2015,2016,"Kokku"]
["TL",{"$f":"COUNTIFS((Kõik!O8:O224),\"<31.12.2011\",(Kõik!O8:O224),\">01.01.2011\")","v":2},{"$f":"COUNTIFS((Kõik!O8:O224),\"<31.12.2012\",(Kõik!O8:O224),\">01.01.2012\")","v":9},{"$f":"COUNTIFS((Kõik!O8:O224),\"<31.12.2013\",(Kõik!O8:O224),\">01.01.2013\")","v":7},{"$f":"COUNTIFS((Kõik!O8:O224),\"<31.12.2014\",(Kõik!O8:O224),\">01.01.2014\")","v":14},{"$f":"COUNTIFS((Kõik!O8:O224),\"<31.12.2015\",(Kõik!O8:O224),\">01.01.2015\")","v":42},{"$f":"COUNTIFS((Kõik!O8:O224),\"<31.12.2016\",(Kõik!O8:O224),\">01.01.2016\")","v":140},{"$f":"SUM(B2:G2)","v":214},212,2,0,3,{"$f":"SUM(I2:L2)","v":217},62]
["RA",{"$f":"COUNTIFS((Kõik!Q8:Q224),\"<31.12.2011\",(Kõik!Q8:Q224),\">01.01.2011\")","v":2},{"$f":"COUNTIFS((Kõik!Q8:Q224),\"<31.12.2012\",(Kõik!Q8:Q224),\">01.01.2012\")","v":23},{"$f":"COUNTIFS((Kõik!Q8:Q224),\"<31.12.2013\",(Kõik!Q8:Q224),\">01.01.2013\")","v":38},{"$f":"COUNTIFS((Kõik!Q8:Q224),\"<31.12.2014\",(Kõik!Q8:Q224),\">01.01.2014\")","v":49},{"$f":"COUNTIFS((Kõik!Q8:Q224),\"<31.12.2015\",(Kõik!Q8:Q224),\">01.01.2015\")","v":38},{"$f":"COUNTIFS((Kõik!Q8:Q224),\"<31.12.2016\",(Kõik!Q8:Q224),\">01.01.2016\")","v":57},{"$f":"SUM(B3:G3)","v":207},188,15,0,14,{"$f":"SUM(I3:L3)","v":217},1]
["HOLP",{"$f":"COUNTIFS((Kõik!S8:S224),\"<31.12.2011\",(Kõik!S8:S224),\">01.01.2011\")","v":4},{"$f":"COUNTIFS((Kõik!S8:S224),\"<31.12.2012\",(Kõik!S8:S224),\">01.01.2012\")","v":7},{"$f":"COUNTIFS((Kõik!S8:S224),\"<31.12.2013\",(Kõik!S8:S224),\">01.01.2013\")","v":30},{"$f":"COUNTIFS((Kõik!S8:S224),\"<31.12.2014\",(Kõik!S8:S224),\">01.01.2014\")","v":58},{"$f":"COUNTIFS((Kõik!S8:S224),\"<31.12.2015\",(Kõik!S8:S224),\">01.01.2015\")","v":46},{"$f":"COUNTIFS((Kõik!S8:S224),\"<31.12.2016\",(Kõik!S8:S224),\">01.01.2016\")","v":52},197,165,22,2,28,217,29]
["OTS",{"$f":"COUNTIFS((Kõik!U8:U224),\"<31.12.2011\",(Kõik!U8:U224),\">01.01.2011\")","v":3},{"$f":"COUNTIFS((Kõik!U8:U224),\"<31.12.2012\",(Kõik!U8:U224),\">01.01.2012\")","v":3},{"$f":"COUNTIFS((Kõik!U8:U224),\"<31.12.2013\",(Kõik!U8:U224),\">01.01.2013\")","v":6},{"$f":"COUNTIFS((Kõik!U8:U224),\"<31.12.2014\",(Kõik!U8:U224),\">01.01.2014\")","v":12},{"$f":"COUNTIFS((Kõik!U8:U224),\"<31.12.2015\",(Kõik!U8:U224),\">01.01.2015\")","v":8},{"$f":"COUNTIFS((Kõik!U8:U224),\"<31.12.2016\",(Kõik!U8:U224),\">01.01.2016\")","v":9},41,38,2,0,1,41,1]
["OA",{"$f":"COUNTIFS((Kõik!W8:W224),\"<31.12.2011\",(Kõik!W8:W224),\">01.01.2011\")","v":3},{"$f":"COUNTIFS((Kõik!W8:W224),\"<31.12.2012\",(Kõik!W8:W224),\">01.01.2012\")","v":2},{"$f":"COUNTIFS((Kõik!W8:W224),\"<31.12.2013\",(Kõik!W8:W224),\">01.01.2013\")","v":4},{"$f":"COUNTIFS((Kõik!W8:W224),\"<31.12.2014\",(Kõik!W8:W224),\">01.01.2014\")","v":4},{"$f":"COUNTIFS((Kõik!W8:W224),\"<31.12.2015\",(Kõik!W8:W224),\">01.01.2015\")","v":4},{"$f":"COUNTIFS((Kõik!W8:W224),\"<31.12.2016\",(Kõik!W8:W224),\">01.01.2016\")","v":14},31,25,6,0,2,33,1]
["OKK",{"$f":"COUNTIFS((Kõik!Z8:Z224),\"<31.12.2011\",(Kõik!Z8:Z224),\">01.01.2011\")","v":30},{"$f":"COUNTIFS((Kõik!Z8:Z224),\"<31.12.2012\",(Kõik!Z8:Z224),\">01.01.2012\")","v":5},{"$f":"COUNTIFS((Kõik!Z8:Z224),\"<31.12.2013\",(Kõik!Z8:Z224),\">01.01.2013\")","v":3},{"$f":"COUNTIFS((Kõik!Z8:Z224),\"<31.12.2014\",(Kõik!Z8:Z224),\">01.01.2014\")","v":64},{"$f":"COUNTIFS((Kõik!Z8:Z224),\"<31.12.2015\",(Kõik!Z8:Z224),\">01.01.2015\")","v":53},{"$f":"COUNTIFS((Kõik!Z8:Z224),\"<31.12.2016\",(Kõik!Z8:Z224),\">01.01.2016\")","v":23},178]
["Kokku",{"$f":"SUM(B2:B7)","v":44},49,88,201,191,295,null,628,47,2,48,null,94]

{"sheet":"Seveso","index":4,"n_rows":19,"n_cols":5,"rows_kept":19,"cut":false,"hidden":false,"merged":[]}
["Tegevusala","A","B","C","KOKKU"]
["elektrienergia tootmine, tarnimine ja jaotamine",{"$f":"COUNTIFS((Kõik!C8:C224),\"=A\",(Kõik!F8:F224),\"=elektrienergia tootmine, tarnimine ja jaotamine\")","v":1},{"$f":"COUNTIFS((Kõik!C8:C224),\"=B\",(Kõik!F8:F224),\"=elektrienergia tootmine, tarnimine ja jaotamine\")","v":3},{"$f":"COUNTIFS((Kõik!C8:C224),\"=C\",(Kõik!F8:F224),\"=elektrienergia tootmine, tarnimine ja jaotamine\")","v":1},{"$f":"SUM(B2:D2)","v":5}]
["jäätmete ladustamine, käitlemine ja kõrvaldamine",{"$f":"COUNTIFS((Kõik!C8:C224),\"=A\",(Kõik!F8:F224),\"=jäätmete ladustamine, käitlemine ja kõrvaldamine\")","v":0},{"$f":"COUNTIFS((Kõik!C8:C224),\"=B\",(Kõik!F8:F224),\"=jäätmete ladustamine, käitlemine ja kõrvaldamine\")","v":0},{"$f":"COUNTIFS((Kõik!C8:C224),\"=C\",(Kõik!F8:F224),\"=jäätmete ladustamine, käitlemine ja kõrvaldamine\")","v":2},{"$f":"SUM(B3:D3)","v":2}]
["keemiatööstuskäitised - ammoniaak",{"$f":"COUNTIFS((Kõik!C8:C224),\"=A\",(Kõik!F8:F224),\"=keemiatööstuskäitised - ammoniaak\")","v":2},{"$f":"COUNTIFS((Kõik!C8:C224),\"=B\",(Kõik!F8:F224),\"=keemiatööstuskäitised - ammoniaak\")","v":0},{"$f":"COUNTIFS((Kõik!C8:C224),\"=C\",(Kõik!F8:F224),\"keemiatööstuskäitised - ammoniaak\")","v":0},2]
["keemiatööstuskäitised - tööstusgaasid",{"$f":"COUNTIFS((Kõik!C8:C224),\"=A\",(Kõik!F8:F224),\"keemiatööstuskäitised - tööstusgaasid\")","v":0},{"$f":"COUNTIFS((Kõik!C8:C224),\"=B\",(Kõik!F8:F224),\"keemiatööstuskäitised - tööstusgaasid\")","v":1},{"$f":"COUNTIFS((Kõik!C8:C224),\"=C\",(Kõik!F8:F224),\"keemiatööstuskäitised - tööstusgaasid\")","v":3},4]
["kütuste ladustamine (sh kütmine, jaemüük jne)",{"$f":"COUNTIFS((Kõik!C8:C224),\"=A\",(Kõik!F8:F224),\"kütuste ladustamine (sh kütmine, jaemüük jne)\")","v":13},{"$f":"COUNTIFS((Kõik!C8:C224),\"=B\",(Kõik!F8:F224),\"kütuste ladustamine (sh kütmine, jaemüük jne)\")","v":9},{"$f":"COUNTIFS((Kõik!C8:C224),\"=C\",(Kõik!F8:F224),\"kütuste ladustamine (sh kütmine, jaemüük jne)\")","v":53},75]
["ladustamine ja turustamine hulgi- ja jaemüügi puhul (v.a. vedelgaas)",{"$f":"COUNTIFS((Kõik!C8:C224),\"=A\",(Kõik!F8:F224),\"ladustamine ja turustamine hulgi- ja jaemüügi puhul (v.a. vedelgaas)\")","v":3},{"$f":"COUNTIFS((Kõik!C8:C224),\"=B\",(Kõik!F8:F224),\"ladustamine ja turustamine hulgi- ja jaemüügi puhul (v.a. vedelgaas)\")","v":1},{"$f":"COUNTIFS((Kõik!C8:C224),\"=C\",(Kõik!F8:F224),\"ladustamine ja turustamine hulgi- ja jaemüügi puhul (v.a. vedelgaas)\")","v":9},13]
["lõhkeaine tootmine, hävitamine ja ladustamine",{"$f":"COUNTIFS((Kõik!C8:C224),\"=A\",(Kõik!F8:F224),\"lõhkeaine tootmine, hävitamine ja ladustamine\")","v":2},{"$f":"COUNTIFS((Kõik!C8:C224),\"=B\",(Kõik!F8:F224),\"lõhkeaine tootmine, hävitamine ja ladustamine\")","v":0},{"$f":"COUNTIFS((Kõik!C8:C224),\"=C\",(Kõik!F8:F224),\"lõhkeaine tootmine, hävitamine ja ladustamine\")","v":1},3]
["metallide töötlemine elektrolüütiliste või keemiliste protsesside abil",{"$f":"COUNTIFS((Kõik!C8:C224),\"=A\",(Kõik!F8:F224),\"metallide töötlemine elektrolüütiliste või keemiliste protsesside abil\")","v":0},{"$f":"COUNTIFS((Kõik!C8:C224),\"=B\",(Kõik!F8:F224),\"metallide töötlemine elektrolüütiliste või keemiliste protsesside abil\")","v":2},{"$f":"COUNTIFS((Kõik!C8:C224),\"=C\",(Kõik!F8:F224),\"metallide töötlemine elektrolüütiliste või keemiliste protsesside abil\")","v":3},5]
["naftakeemiatööstus/naftatöötlemistehased",{"$f":"COUNTIFS((Kõik!C8:C224),\"=A\",(Kõik!F8:F224),\"naftakeemiatööstus/naftatöötlemistehased\")","v":1},{"$f":"COUNTIFS((Kõik!C8:C224),\"=B\",(Kõik!F8:F224),\"naftakeemiatööstus/naftatöötlemistehased\")","v":1},{"$f":"COUNTIFS((Kõik!C8:C224),\"=C\",(Kõik!F8:F224),\"naftakeemiatööstus/naftatöötlemistehased\")","v":0},2]
["paberimassi ja paberi tootmine",{"$f":"COUNTIFS((Kõik!C8:C224),\"=A\",(Kõik!F8:F224),\"paberimassi ja paberi tootmine\")","v":1},{"$f":"COUNTIFS((Kõik!C8:C224),\"=B\",(Kõik!F8:F224),\"paberimassi ja paberi tootmine\")","v":0},{"$f":"COUNTIFS((Kõik!C8:C224),\"=C\",(Kõik!F8:F224),\"paberimassi ja paberi tootmine\")","v":1},2]
["paberimassi ja paberi tootmine",{"$f":"COUNTIFS((Kõik!C8:C224),\"=A\",(Kõik!F8:F224),\"paberimassi ja paberi tootmine\")","v":1},{"$f":"COUNTIFS((Kõik!C8:C224),\"=B\",(Kõik!F8:F224),\"paberimassi ja paberi tootmine\")","v":0},{"$f":"COUNTIFS((Kõik!C8:C224),\"=C\",(Kõik!F8:F224),\"paberimassi ja paberi tootmine\")","v":1},2]
["pürotehnika toodete tootmine ja ladustamine",{"$f":"COUNTIFS((Kõik!C8:C224),\"=A\",(Kõik!F8:F224),\"pürotehnika toodete tootmine ja ladustamine\")","v":0},{"$f":"COUNTIFS((Kõik!C8:C224),\"=B\",(Kõik!F8:F224),\"pürotehnika toodete tootmine ja ladustamine\")","v":4},{"$f":"COUNTIFS((Kõik!C8:C224),\"=C\",(Kõik!F8:F224),\"pürotehnika toodete tootmine ja ladustamine\")","v":5},9]
["toiduainete ja jookide tootmine",{"$f":"COUNTIFS((Kõik!C8:C224),\"=A\",(Kõik!F8:F224),\"toiduainete ja jookide tootmine\")","v":0},{"$f":"COUNTIFS((Kõik!C8:C224),\"=B\",(Kõik!F8:F224),\"toiduainete ja jookide tootmine\")","v":0},{"$f":"COUNTIFS((Kõik!C8:C224),\"=C\",(Kõik!F8:F224),\"toiduainete ja jookide tootmine\")","v":29},29]
["vedelgaasi ladustamine",{"$f":"COUNTIFS((Kõik!C8:C224),\"=A\",(Kõik!F8:F224),\"vedelgaasi ladustamine\")","v":2},{"$f":"COUNTIFS((Kõik!C8:C224),\"=B\",(Kõik!F8:F224),\"vedelgaasi ladustamine\")","v":1},{"$f":"COUNTIFS((Kõik!C8:C224),\"=C\",(Kõik!F8:F224),\"vedelgaasi ladustamine\")","v":38},41]
["vesi ja reovesi (kogumine, varustamine ja töötlemine",{"$f":"COUNTIFS((Kõik!C8:C224),\"=A\",(Kõik!F8:F224),\"vesi ja reovesi (kogumine, varustamine ja töötlemine\")","v":0},{"$f":"COUNTIFS((Kõik!C8:C224),\"=B\",(Kõik!F8:F224),\"vesi ja reovesi (kogumine, varustamine ja töötlemine\")","v":1},{"$f":"COUNTIFS((Kõik!C8:C224),\"=C\",(Kõik!F8:F224),\"vesi ja reovesi (kogumine, varustamine ja töötlemine\")","v":2},3]
["väetiste tootmine ja ladustamine",{"$f":"COUNTIFS((Kõik!C8:C224),\"=A\",(Kõik!F8:F224),\"väetiste tootmine ja ladustamine\")","v":3},{"$f":"COUNTIFS((Kõik!C8:C224),\"=B\",(Kõik!F8:F224),\"väetiste tootmine ja ladustamine\")","v":4},{"$f":"COUNTIFS((Kõik!C8:C224),\"=C\",(Kõik!F8:F224),\"väetiste tootmine ja ladustamine\")","v":2},9]
["üldine kemikaalide tootmine (eespool nimetamata)",{"$f":"COUNTIFS((Kõik!C8:C224),\"=A\",(Kõik!F8:F224),\"üldine kemikaalide tootmine (eespool nimetamata)\")","v":4},{"$f":"COUNTIFS((Kõik!C8:C224),\"=B\",(Kõik!F8:F224),\"üldine kemikaalide tootmine (eespool nimetamata)\")","v":3},{"$f":"COUNTIFS((Kõik!C8:C224),\"=C\",(Kõik!F8:F224),\"üldine kemikaalide tootmine (eespool nimetamata)\")","v":4},11]
["KOKKU",{"$f":"SUM(B2:B18)","v":33},{"$f":"SUM(C2:C18)","v":30},{"$f":"SUM(D2:D18)","v":154},217]

{"sheet":"Luba","index":5,"n_rows":7,"n_cols":5,"rows_kept":7,"cut":false,"hidden":false,"merged":[]}
[null,"A","B","C","KOKKU"]
["LMS",{"$f":"COUNTIFS((Kõik!C8:C224),\"=A\",(Kõik!X8:X224),\"=LMS\")","v":2},{"$f":"COUNTIFS((Kõik!C8:C224),\"=B\",(Kõik!X8:X224),\"=LMS\")","v":4},{"$f":"COUNTIFS((Kõik!C8:C224),\"=C\",(Kõik!X8:X224),\"=LMS\")","v":6},{"$f":"SUM(B2:D2)","v":12}]
["THS",{"$f":"COUNTIFS((Kõik!C8:C224),\"=A\",(Kõik!X8:X224),\"=THS\")","v":10},{"$f":"COUNTIFS((Kõik!C8:C224),\"=B\",(Kõik!X8:X224),\"=THS\")","v":10},{"$f":"COUNTIFS((Kõik!C8:C224),\"=C\",(Kõik!X8:X224),\"=THS\")","v":13},{"$f":"SUM(B3:D3)","v":33}]
["KemS",{"$f":"COUNTIFS((Kõik!C8:C224),\"=A\",(Kõik!X8:X224),\"=KemS\")","v":18},{"$f":"COUNTIFS((Kõik!C8:C224),\"=B\",(Kõik!X8:X224),\"=KemS\")","v":18},{"$f":"COUNTIFS((Kõik!C8:C224),\"=C\",(Kõik!X8:X224),\"=KemS\")","v":107},143]
["Taotlus",{"$f":"COUNTIFS((Kõik!C8:C224),\"=A\",(Kõik!X8:X224),\"=Taotlus\")","v":1},{"$f":"COUNTIFS((Kõik!C8:C224),\"=B\",(Kõik!X8:X224),\"=Taotlus\")","v":0},{"$f":"COUNTIFS((Kõik!C8:C224),\"=C\",(Kõik!X8:X224),\"=Taotlus\")","v":22},23]
["Puudub",{"$f":"COUNTIFS((Kõik!C8:C224),\"=A\",(Kõik!X8:X224),\"=Puudub\")","v":1},{"$f":"COUNTIFS((Kõik!C8:C224),\"=B\",(Kõik!X8:X224),\"=Puudub\")","v":0},{"$f":"COUNTIFS((Kõik!C8:C224),\"=C\",(Kõik!X8:X224),\"=Puudub\")","v":5},6]
["KOKKU",{"$f":"SUM(B2:B6)","v":32},{"$f":"SUM(C2:C6)","v":32},{"$f":"SUM(D2:D6)","v":153},217]

{"sheet":"EKTL","index":6,"n_rows":5,"n_cols":4,"rows_kept":5,"cut":false,"hidden":false,"merged":[]}
["Kategooria","Ei ole liidus","EKTL","Kokku"]
["A",{"$f":"D2-C2","v":27},{"$f":"COUNTIFS((Kõik!C8:C224),\"=A\",(Kõik!D8:D224),\"=x\")","v":5},{"$f":"COUNTIFS((Kõik!C8:C224),\"=A\")","v":32}]
["B",{"$f":"D3-C3","v":29},{"$f":"COUNTIFS((Kõik!C8:C224),\"=B\",(Kõik!D8:D224),\"=x\")","v":3},{"$f":"COUNTIFS((Kõik!C8:C224),\"=B\")","v":32}]
["C",142,{"$f":"COUNTIFS((Kõik!C8:C224),\"=C\",(Kõik!D8:D224),\"=x\")","v":11},{"$f":"COUNTIFS((Kõik!C8:C224),\"=C\")","v":153}]
["Kokku",{"$f":"SUM(B2:B4)","v":198},{"$f":"SUM(C2:C4)","v":19},217]

{"sheet":"Tegevusala+Maakond","index":7,"n_rows":31,"n_cols":17,"rows_kept":31,"cut":false,"hidden":false,"merged":[]}
[null,"HR","HI","IV","JÕ","JÄ","LÄ","LV","PÕ","PÄ","RA","SA","TA","VA","VD","VÕ","KOKKU"]
["Alkohol (piiritus)",{"$f":"COUNTIFS((Kõik!G8:G224),\"=Harjumaa\",(Kõik!E8:E224),\"=Alkohol\")","v":1},{"$f":"COUNTIFS((Kõik!G8:G224),\"=Hiiumaa\",(Kõik!E8:E224),\"=Alkohol\")","v":0},{"$f":"COUNTIFS((Kõik!G8:G224),\"=Ida-Virumaa\",(Kõik!E8:E224),\"=Alkohol\")","v":0},{"$f":"COUNTIFS((Kõik!G8:G224),\"=Jõgevamaa\",(Kõik!E8:E224),\"=Alkohol\")","v":0},{"$f":"COUNTIFS((Kõik!G8:G224),\"=Järvamaa\",(Kõik!E8:E224),\"=Alkohol\")","v":0},{"$f":"COUNTIFS((Kõik!G8:G224),\"=Läänemaa\",(Kõik!E8:E224),\"=Alkohol\")","v":0},{"$f":"COUNTIFS((Kõik!G8:G224),\"=Lääne-Virumaa\",(Kõik!E8:E224),\"=Alkohol\")","v":1},{"$f":"COUNTIFS((Kõik!G8:G224),\"=Põlvamaa\",(Kõik!E8:E224),\"=Alkohol\")","v":0},{"$f":"COUNTIFS((Kõik!G8:G224),\"=Pärnumaa\",(Kõik!E8:E224),\"=Alkohol\")","v":0},{"$f":"COUNTIFS((Kõik!G8:G224),\"=Raplamaa\",(Kõik!E8:E224),\"=Alkohol\")","v":0},{"$f":"COUNTIFS((Kõik!G8:G224),\"=Saaremaa\",(Kõik!E8:E224),\"=Alkohol\")","v":0},{"$f":"COUNTIFS((Kõik!G8:G224),\"=Tartumaa\",(Kõik!E8:E224),\"=Alkohol\")","v":0},{"$f":"COUNTIFS((Kõik!G8:G224),\"=Valgamaa\",(Kõik!E8:E224),\"=Alkohol\")","v":0},{"$f":"COUNTIFS((Kõik!G8:G224),\"=Viljandimaa\",(Kõik!E8:E224),\"=Alkohol\")","v":0},{"$f":"COUNTIFS((Kõik!G8:G224),\"=Võrumaa\",(Kõik!E8:E224),\"=Alkohol\")","v":0},{"$f":"SUM(B2:P2)","v":2}]
["Ammoniaak",{"$f":"COUNTIFS((Kõik!G8:G224),\"=Harjumaa\",(Kõik!E8:E224),\"=Ammoniaak\")","v":0},{"$f":"COUNTIFS((Kõik!G8:G224),\"=Hiiumaa\",(Kõik!E8:E224),\"=Ammoniaak\")","v":0},{"$f":"COUNTIFS((Kõik!G8:G224),\"=Ida-Virumaa\",(Kõik!E8:E224),\"=Ammoniaak\")","v":1},{"$f":"COUNTIFS((Kõik!G8:G224),\"=Jõgevamaa\",(Kõik!E8:E224),\"=Ammoniaak\")","v":0},{"$f":"COUNTIFS((Kõik!G8:G224),\"=Järvamaa\",(Kõik!E8:E224),\"=Ammoniaak\")","v":0},{"$f":"COUNTIFS((Kõik!G8:G224),\"=Läänemaa\",(Kõik!E8:E224),\"=Ammoniaak\")","v":0},{"$f":"COUNTIFS((Kõik!G8:G224),\"=Lääne-Virumaa\",(Kõik!E8:E224),\"=Ammoniaak\")","v":0},{"$f":"COUNTIFS((Kõik!G8:G224),\"=Põlvamaa\",(Kõik!E8:E224),\"=Ammoniaak\")","v":0},{"$f":"COUNTIFS((Kõik!G8:G224),\"=Pärnumaa\",(Kõik!E8:E224),\"=Ammoniaak\")","v":0},{"$f":"COUNTIFS((Kõik!G8:G224),\"=Raplamaa\",(Kõik!E8:E224),\"=Ammoniaak\")","v":0},{"$f":"COUNTIFS((Kõik!G8:G224),\"=Saaremaa\",(Kõik!E8:E224),\"=Ammoniaak\")","v":0},{"$f":"COUNTIFS((Kõik!G8:G224),\"=Tartumaa\",(Kõik!E8:E224),\"=Ammoniaak\")","v":0},{"$f":"COUNTIFS((Kõik!G8:G224),\"=Valgamaa\",(Kõik!E8:E224),\"=Ammoniaak\")","v":0},{"$f":"COUNTIFS((Kõik!G8:G224),\"=Viljandimaa\",(Kõik!E8:E224),\"=Ammoniaak\")","v":0},{"$f":"COUNTIFS((Kõik!G8:G224),\"=Võrumaa\",(Kõik!E8:E224),\"=Ammoniaak\")","v":0},{"$f":"SUM(B3:P3)","v":1}]
["Autokeemia",{"$f":"COUNTIFS((Kõik!G8:G224),\"=Harjumaa\",(Kõik!E8:E224),\"=Autokeemia\")","v":1},{"$f":"COUNTIFS((Kõik!G8:G224),\"=Hiiumaa\",(Kõik!E8:E224),\"=Autokeemia\")","v":0},{"$f":"COUNTIFS((Kõik!G8:G224),\"=Ida-Virumaa\",(Kõik!E8:E224),\"=Autokeemia\")","v":0},{"$f":"COUNTIFS((Kõik!G8:G224),\"=Jõgevamaa\",(Kõik!E8:E224),\"=Autokeemia\")","v":0},{"$f":"COUNTIFS((Kõik!G8:G224),\"=Järvamaa\",(Kõik!E8:E224),\"=Autokeemia\")","v":0},{"$f":"COUNTIFS((Kõik!G8:G224),\"=Läänemaa\",(Kõik!E8:E224),\"=Autokeemia\")","v":0},{"$f":"COUNTIFS((Kõik!G8:G224),\"=Lääne-Virumaa\",(Kõik!E8:E224),\"=Autokeemia\")","v":0},{"$f":"COUNTIFS((Kõik!G8:G224),\"=Põlvamaa\",(Kõik!E8:E224),\"=Autokeemia\")","v":0},{"$f":"COUNTIFS((Kõik!G8:G224),\"=Pärnumaa\",(Kõik!E8:E224),\"=Autokeemia\")","v":0},{"$f":"COUNTIFS((Kõik!G8:G224),\"=Raplamaa\",(Kõik!E8:E224),\"=Autokeemia\")","v":0},{"$f":"COUNTIFS((Kõik!G8:G224),\"=Saaremaa\",(Kõik!E8:E224),\"=Autokeemia\")","v":0},{"$f":"COUNTIFS((Kõik!G8:G224),\"=Tartumaa\",(Kõik!E8:E224),\"=Autokeemia\")","v":2},{"$f":"COUNTIFS((Kõik!G8:G224),\"=Valgamaa\",(Kõik!E8:E224),\"=Autokeemia\")","v":0},{"$f":"COUNTIFS((Kõik!G8:G224),\"=Viljandimaa\",(Kõik!E8:E224),\"=Autokeemia\")","v":0},{"$f":"COUNTIFS((Kõik!G8:G224),\"=Võrumaa\",(Kõik!E8:E224),\"=Autokeemia\")","v":0},3]
["Bensoehape",{"$f":"COUNTIFS((Kõik!G8:G224),\"=Harjumaa\",(Kõik!E8:E224),\"=Bensoehape\")","v":0},{"$f":"COUNTIFS((Kõik!G8:G224),\"=Hiiumaa\",(Kõik!E8:E224),\"=Bensoehape\")","v":0},{"$f":"COUNTIFS((Kõik!G8:G224),\"=Ida-Virumaa\",(Kõik!E8:E224),\"=Bensoehape\")","v":1},{"$f":"COUNTIFS((Kõik!G8:G224),\"=Jõgevamaa\",(Kõik!E8:E224),\"=Bensoehape\")","v":0},{"$f":"COUNTIFS((Kõik!G8:G224),\"=Järvamaa\",(Kõik!E8:E224),\"=Bensoehape\")","v":0},{"$f":"COUNTIFS((Kõik!G8:G224),\"=Läänemaa\",(Kõik!E8:E224),\"=Bensoehape\")","v":0},{"$f":"COUNTIFS((Kõik!G8:G224),\"=Lääne-Virumaa\",(Kõik!E8:E224),\"=Bensoehape\")","v":0},{"$f":"COUNTIFS((Kõik!G8:G224),\"=Põlvamaa\",(Kõik!E8:E224),\"=Bensoehape\")","v":0},{"$f":"COUNTIFS((Kõik!G8:G224),\"=Pärnumaa\",(Kõik!E8:E224),\"=Bensoehape\")","v":0},{"$f":"COUNTIFS((Kõik!G8:G224),\"=Raplamaa\",(Kõik!E8:E224),\"=Bensoehape\")","v":0},{"$f":"COUNTIFS((Kõik!G8:G224),\"=Saaremaa\",(Kõik!E8:E224),\"=Bensoehape\")","v":0},{"$f":"COUNTIFS((Kõik!G8:G224),\"=Tartumaa\",(Kõik!E8:E224),\"=Bensoehape\")","v":0},{"$f":"COUNTIFS((Kõik!G8:G224),\"=Valgamaa\",(Kõik!E8:E224),\"=Bensoehape\")","v":0},{"$f":"COUNTIFS((Kõik!G8:G224),\"=Viljandimaa\",(Kõik!E8:E224),\"=Bensoehape\")","v":0},{"$f":"COUNTIFS((Kõik!G8:G224),\"=Võrumaa\",(Kõik!E8:E224),\"=Bensoehape\")","v":0},1]
["Biokütus",{"$f":"COUNTIFS((Kõik!G8:G224),\"=Harjumaa\",(Kõik!E8:E224),\"=Biokütus\")","v":0},{"$f":"COUNTIFS((Kõik!G8:G224),\"=Hiiumaa\",(Kõik!E8:E224),\"=Biokütus\")","v":0},{"$f":"COUNTIFS((Kõik!G8:G224),\"=Ida-Virumaa\",(Kõik!E8:E224),\"=Biokütus\")","v":0},{"$f":"COUNTIFS((Kõik!G8:G224),\"=Jõgevamaa\",(Kõik!E8:E224),\"=Biokütus\")","v":0},{"$f":"COUNTIFS((Kõik!G8:G224),\"=Järvamaa\",(Kõik!E8:E224),\"=Biokütus\")","v":0},{"$f":"COUNTIFS((Kõik!G8:G224),\"=Läänemaa\",(Kõik!E8:E224),\"=Biokütus\")","v":0},{"$f":"COUNTIFS((Kõik!G8:G224),\"=Lääne-Virumaa\",(Kõik!E8:E224),\"=Biokütus\")","v":0},{"$f":"COUNTIFS((Kõik!G8:G224),\"=Põlvamaa\",(Kõik!E8:E224),\"=Biokütus\")","v":0},{"$f":"COUNTIFS((Kõik!G8:G224),\"=Pärnumaa\",(Kõik!E8:E224),\"=Biokütus\")","v":0},{"$f":"COUNTIFS((Kõik!G8:G224),\"=Raplamaa\",(Kõik!E8:E224),\"=Biokütus\")","v":0},{"$f":"COUNTIFS((Kõik!G8:G224),\"=Saaremaa\",(Kõik!E8:E224),\"=Biokütus\")","v":0},{"$f":"COUNTIFS((Kõik!G8:G224),\"=Tartumaa\",(Kõik!E8:E224),\"=Biokütus\")","v":0},{"$f":"COUNTIFS((Kõik!G8:G224),\"=Valgamaa\",(Kõik!E8:E224),\"=Biokütus\")","v":0},{"$f":"COUNTIFS((Kõik!G8:G224),\"=Viljandimaa\",(Kõik!E8:E224),\"=Biokütus\")","v":0},{"$f":"COUNTIFS((Kõik!G8:G224),\"=Võrumaa\",(Kõik!E8:E224),\"=Biokütus\")","v":0},0]
["Diiselkütus",{"$f":"COUNTIFS((Kõik!G8:G225),\"=Harjumaa\",(Kõik!E8:E225),\"=Diiselkütus\")","v":1},{"$f":"COUNTIFS((Kõik!G8:G225),\"=Hiiumaa\",(Kõik!E8:E225),\"=Diiselkütus\")","v":0},{"$f":"COUNTIFS((Kõik!G8:G225),\"=Ida-Virumaa\",(Kõik!E8:E225),\"=Diiselkütus\")","v":0},{"$f":"COUNTIFS((Kõik!G8:G225),\"=Jõgevamaa\",(Kõik!E8:E225),\"=Diiselkütus\")","v":0},{"$f":"COUNTIFS((Kõik!G8:G225),\"=Järvamaa\",(Kõik!E8:E225),\"=Diiselkütus\")","v":0},{"$f":"COUNTIFS((Kõik!G8:G225),\"=Läänemaa\",(Kõik!E8:E225),\"=Diiselkütus\")","v":0},{"$f":"COUNTIFS((Kõik!G8:G225),\"=Lääne-Virumaa\",(Kõik!E8:E225),\"=Diiselkütus\")","v":0},{"$f":"COUNTIFS((Kõik!G8:G225),\"=Põlvamaa\",(Kõik!E8:E225),\"=Diiselkütus\")","v":0},{"$f":"COUNTIFS((Kõik!G8:G225),\"=Pärnumaa\",(Kõik!E8:E225),\"=Diiselkütus\")","v":0},{"$f":"COUNTIFS((Kõik!G8:G225),\"=Raplamaa\",(Kõik!E8:E225),\"=Diiselkütus\")","v":0},{"$f":"COUNTIFS((Kõik!G8:G225),\"=Saaremaa\",(Kõik!E8:E225),\"=Diiselkütus\")","v":0},{"$f":"COUNTIFS((Kõik!G8:G225),\"=Tartumaa\",(Kõik!E8:E225),\"=Diiselkütus\")","v":0},{"$f":"COUNTIFS((Kõik!G8:G225),\"=Valgamaa\",(Kõik!E8:E225),\"=Diiselkütus\")","v":0},{"$f":"COUNTIFS((Kõik!G8:G225),\"=Viljandimaa\",(Kõik!E8:E225),\"=Diiselkütus\")","v":0},{"$f":"COUNTIFS((Kõik!G8:G225),\"=Võrumaa\",(Kõik!E8:E225),\"=Diiselkütus\")","v":0},{"$f":"SUM(B7:P7)","v":1}]
["Formaliin",{"$f":"COUNTIFS((Kõik!G11:G226),\"=Harjumaa\",(Kõik!E11:E226),\"=Formaliin\")","v":0},{"$f":"COUNTIFS((Kõik!G11:G226),\"=Hiiumaa\",(Kõik!E11:E226),\"=Formaliin\")","v":0},{"$f":"COUNTIFS((Kõik!G11:G226),\"=Ida-Virumaa\",(Kõik!E11:E226),\"=Formaliin\")","v":0},{"$f":"COUNTIFS((Kõik!G11:G226),\"=Jõgevamaa\",(Kõik!E11:E226),\"=Formaliin\")","v":0},{"$f":"COUNTIFS((Kõik!G11:G226),\"=Järvamaa\",(Kõik!E11:E226),\"=Formaliin\")","v":0},{"$f":"COUNTIFS((Kõik!G11:G226),\"=Läänemaa\",(Kõik!E11:E226),\"=Formaliin\")","v":0},{"$f":"COUNTIFS((Kõik!G11:G226),\"=Lääne-Virumaa\",(Kõik!E11:E226),\"=Formaliin\")","v":0},{"$f":"COUNTIFS((Kõik!G11:G226),\"=Põlvamaa\",(Kõik!E11:E226),\"=Formaliin\")","v":0},{"$f":"COUNTIFS((Kõik!G11:G226),\"=Pärnumaa\",(Kõik!E11:E226),\"=Formaliin\")","v":0},{"$f":"COUNTIFS((Kõik!G11:G226),\"=Raplamaa\",(Kõik!E11:E226),\"=Formaliin\")","v":0},{"$f":"COUNTIFS((Kõik!G11:G226),\"=Saaremaa\",(Kõik!E11:E226),\"=Formaliin\")","v":0},{"$f":"COUNTIFS((Kõik!G11:G226),\"=Tartumaa\",(Kõik!E11:E226),\"=Formaliin\")","v":0},{"$f":"COUNTIFS((Kõik!G11:G226),\"=Valgamaa\",(Kõik!E11:E226),\"=Formaliin\")","v":0},{"$f":"COUNTIFS((Kõik!G11:G226),\"=Viljandimaa\",(Kõik!E11:E226),\"=Formaliin\")","v":0},{"$f":"COUNTIFS((Kõik!G11:G226),\"=Võrumaa\",(Kõik!E11:E226),\"=Formaliin\")","v":0},0]
["Gaas",{"$f":"COUNTIFS((Kõik!G8:G224),\"=Harjumaa\",(Kõik!E8:E224),\"=Gaas\")","v":8},{"$f":"COUNTIFS((Kõik!G8:G224),\"=Hiiumaa\",(Kõik!E8:E224),\"=Gaas\")","v":0},{"$f":"COUNTIFS((Kõik!G8:G224),\"=Ida-Virumaa\",(Kõik!E8:E224),\"=Gaas\")","v":5},{"$f":"COUNTIFS((Kõik!G8:G224),\"=Jõgevamaa\",(Kõik!E8:E224),\"=Gaas\")","v":1},{"$f":"COUNTIFS((Kõik!G8:G224),\"=Järvamaa\",(Kõik!E8:E224),\"=Gaas\")","v":5},{"$f":"COUNTIFS((Kõik!G8:G224),\"=Läänemaa\",(Kõik!E8:E224),\"=Gaas\")","v":2},{"$f":"COUNTIFS((Kõik!G8:G224),\"=Lääne-Virumaa\",(Kõik!E8:E224),\"=Gaas\")","v":5},{"$f":"COUNTIFS((Kõik!G8:G224),\"=Põlvamaa\",(Kõik!E8:E224),\"=Gaas\")","v":0},{"$f":"COUNTIFS((Kõik!G8:G224),\"=Pärnumaa\",(Kõik!E8:E224),\"=Gaas\")","v":2},{"$f":"COUNTIFS((Kõik!G8:G224),\"=Raplamaa\",(Kõik!E8:E224),\"=Gaas\")","v":1},{"$f":"COUNTIFS((Kõik!G8:G224),\"=Saaremaa\",(Kõik!E8:E224),\"=Gaas\")","v":2},{"$f":"COUNTIFS((Kõik!G8:G224),\"=Tartumaa\",(Kõik!E8:E224),\"=Gaas\")","v":7},{"$f":"COUNTIFS((Kõik!G8:G224),\"=Valgamaa\",(Kõik!E8:E224),\"=Gaas\")","v":2},{"$f":"COUNTIFS((Kõik!G8:G224),\"=Viljandimaa\",(Kõik!E8:E224),\"=Gaas\")","v":2},{"$f":"COUNTIFS((Kõik!G8:G224),\"=Võrumaa\",(Kõik!E8:E224),\"=Gaas\")","v":4},46]
["Galvaanika",{"$f":"COUNTIFS((Kõik!G8:G224),\"=Harjumaa\",(Kõik!E8:E224),\"=Galvaanika\")","v":5},{"$f":"COUNTIFS((Kõik!G8:G224),\"=Hiiumaa\",(Kõik!E8:E224),\"=Galvaanika\")","v":0},{"$f":"COUNTIFS((Kõik!G8:G224),\"=Ida-Virumaa\",(Kõik!E8:E224),\"=Galvaanika\")","v":0},{"$f":"COUNTIFS((Kõik!G8:G224),\"=Jõgevamaa\",(Kõik!E8:E224),\"=Galvaanika\")","v":0},{"$f":"COUNTIFS((Kõik!G8:G224),\"=Järvamaa\",(Kõik!E8:E224),\"=Galvaanika\")","v":0},{"$f":"COUNTIFS((Kõik!G8:G224),\"=Läänemaa\",(Kõik!E8:E224),\"=Galvaanika\")","v":0},{"$f":"COUNTIFS((Kõik!G8:G224),\"=Lääne-Virumaa\",(Kõik!E8:E224),\"=Galvaanika\")","v":0},{"$f":"COUNTIFS((Kõik!G8:G224),\"=Põlvamaa\",(Kõik!E8:E224),\"=Galvaanika\")","v":0},{"$f":"COUNTIFS((Kõik!G8:G224),\"=Pärnumaa\",(Kõik!E8:E224),\"=Galvaanika\")","v":0},{"$f":"COUNTIFS((Kõik!G8:G224),\"=Raplamaa\",(Kõik!E8:E224),\"=Galvaanika\")","v":0},{"$f":"COUNTIFS((Kõik!G8:G224),\"=Saaremaa\",(Kõik!E8:E224),\"=Galvaanika\")","v":0},{"$f":"COUNTIFS((Kõik!G8:G224),\"=Tartumaa\",(Kõik!E8:E224),\"=Galvaanika\")","v":0},{"$f":"COUNTIFS((Kõik!G8:G224),\"=Valgamaa\",(Kõik!E8:E224),\"=Galvaanika\")","v":0},{"$f":"COUNTIFS((Kõik!G8:G224),\"=Viljandimaa\",(Kõik!E8:E224),\"=Galvaanika\")","v":0},{"$f":"COUNTIFS((Kõik!G8:G224),\"=Võrumaa\",(Kõik!E8:E224),\"=Galvaanika\")","v":0},5]
["Hulgimüük",{"$f":"COUNTIFS((Kõik!G8:G224),\"=Harjumaa\",(Kõik!E8:E224),\"=Hulgimüük\")","v":4},{"$f":"COUNTIFS((Kõik!G8:G224),\"=Hiiumaa\",(Kõik!E8:E224),\"=Hulgimüük\")","v":0},{"$f":"COUNTIFS((Kõik!G8:G224),\"=Ida-Virumaa\",(Kõik!E8:E224),\"=Hulgimüük\")","v":0},{"$f":"COUNTIFS((Kõik!G8:G224),\"=Jõgevamaa\",(Kõik!E8:E224),\"=Hulgimüük\")","v":0},{"$f":"COUNTIFS((Kõik!G8:G224),\"=Järvamaa\",(Kõik!E8:E224),\"=Hulgimüük\")","v":0},{"$f":"COUNTIFS((Kõik!G8:G224),\"=Läänemaa\",(Kõik!E8:E224),\"=Hulgimüük\")","v":0},{"$f":"COUNTIFS((Kõik!G8:G224),\"=Lääne-Virumaa\",(Kõik!E8:E224),\"=Hulgimüük\")","v":0},{"$f":"COUNTIFS((Kõik!G8:G224),\"=Põlvamaa\",(Kõik!E8:E224),\"=Hulgimüük\")","v":0},{"$f":"COUNTIFS((Kõik!G8:G224),\"=Pärnumaa\",(Kõik!E8:E224),\"=Hulgimüük\")","v":0},{"$f":"COUNTIFS((Kõik!G8:G224),\"=Raplamaa\",(Kõik!E8:E224),\"=Hulgimüük\")","v":2},{"$f":"COUNTIFS((Kõik!G8:G224),\"=Saaremaa\",(Kõik!E8:E224),\"=Hulgimüük\")","v":0},{"$f":"COUNTIFS((Kõik!G8:G224),\"=Tartumaa\",(Kõik!E8:E224),\"=Hulgimüük\")","v":0},{"$f":"COUNTIFS((Kõik!G8:G224),\"=Valgamaa\",(Kõik!E8:E224),\"=Hulgimüük\")","v":0},{"$f":"COUNTIFS((Kõik!G8:G224),\"=Viljandimaa\",(Kõik!E8:E224),\"=Hulgimüük\")","v":0},{"$f":"COUNTIFS((Kõik!G8:G224),\"=Võrumaa\",(Kõik!E8:E224),\"=Hulgimüük\")","v":0},6]
["Jäätmed",{"$f":"COUNTIFS((Kõik!G8:G224),\"=Harjumaa\",(Kõik!E8:E224),\"=Jäätmed\")","v":1},{"$f":"COUNTIFS((Kõik!G8:G224),\"=Hiiumaa\",(Kõik!E8:E224),\"=Jäätmed\")","v":0},{"$f":"COUNTIFS((Kõik!G8:G224),\"=Ida-Virumaa\",(Kõik!E8:E224),\"=Jäätmed\")","v":3},{"$f":"COUNTIFS((Kõik!G8:G224),\"=Jõgevamaa\",(Kõik!E8:E224),\"=Jäätmed\")","v":0},{"$f":"COUNTIFS((Kõik!G8:G224),\"=Järvamaa\",(Kõik!E8:E224),\"=Jäätmed\")","v":0},{"$f":"COUNTIFS((Kõik!G8:G224),\"=Läänemaa\",(Kõik!E8:E224),\"=Jäätmed\")","v":0},{"$f":"COUNTIFS((Kõik!G8:G224),\"=Lääne-Virumaa\",(Kõik!E8:E224),\"=Jäätmed\")","v":0},{"$f":"COUNTIFS((Kõik!G8:G224),\"=Põlvamaa\",(Kõik!E8:E224),\"=Jäätmed\")","v":0},{"$f":"COUNTIFS((Kõik!G8:G224),\"=Pärnumaa\",(Kõik!E8:E224),\"=Jäätmed\")","v":0},{"$f":"COUNTIFS((Kõik!G8:G224),\"=Raplamaa\",(Kõik!E8:E224),\"=Jäätmed\")","v":0},{"$f":"COUNTIFS((Kõik!G8:G224),\"=Saaremaa\",(Kõik!E8:E224),\"=Jäätmed\")","v":0},{"$f":"COUNTIFS((Kõik!G8:G224),\"=Tartumaa\",(Kõik!E8:E224),\"=Jäätmed\")","v":0},{"$f":"COUNTIFS((Kõik!G8:G224),\"=Valgamaa\",(Kõik!E8:E224),\"=Jäätmed\")","v":0},{"$f":"COUNTIFS((Kõik!G8:G224),\"=Viljandimaa\",(Kõik!E8:E224),\"=Jäätmed\")","v":0},{"$f":"COUNTIFS((Kõik!G8:G224),\"=Võrumaa\",(Kõik!E8:E224),\"=Jäätmed\")","v":0},4]
["Katlamaja",{"$f":"COUNTIFS((Kõik!G8:G224),\"=Harjumaa\",(Kõik!E8:E224),\"=Katlamaja\")","v":4},{"$f":"COUNTIFS((Kõik!G8:G224),\"=Hiiumaa\",(Kõik!E8:E224),\"=Katlamaja\")","v":0},{"$f":"COUNTIFS((Kõik!G8:G224),\"=Ida-Virumaa\",(Kõik!E8:E224),\"=Katlamaja\")","v":0},{"$f":"COUNTIFS((Kõik!G8:G224),\"=Jõgevamaa\",(Kõik!E8:E224),\"=Katlamaja\")","v":0},{"$f":"COUNTIFS((Kõik!G8:G224),\"=Järvamaa\",(Kõik!E8:E224),\"=Katlamaja\")","v":0},{"$f":"COUNTIFS((Kõik!G8:G224),\"=Läänemaa\",(Kõik!E8:E224),\"=Katlamaja\")","v":0},{"$f":"COUNTIFS((Kõik!G8:G224),\"=Lääne-Virumaa\",(Kõik!E8:E224),\"=Katlamaja\")","v":0},{"$f":"COUNTIFS((Kõik!G8:G224),\"=Põlvamaa\",(Kõik!E8:E224),\"=Katlamaja\")","v":0},{"$f":"COUNTIFS((Kõik!G8:G224),\"=Pärnumaa\",(Kõik!E8:E224),\"=Katlamaja\")","v":0},{"$f":"COUNTIFS((Kõik!G8:G224),\"=Raplamaa\",(Kõik!E8:E224),\"=Katlamaja\")","v":0},{"$f":"COUNTIFS((Kõik!G8:G224),\"=Saaremaa\",(Kõik!E8:E224),\"=Katlamaja\")","v":0},{"$f":"COUNTIFS((Kõik!G8:G224),\"=Tartumaa\",(Kõik!E8:E224),\"=Katlamaja\")","v":0},{"$f":"COUNTIFS((Kõik!G8:G224),\"=Valgamaa\",(Kõik!E8:E224),\"=Katlamaja\")","v":0},{"$f":"COUNTIFS((Kõik!G8:G224),\"=Viljandimaa\",(Kõik!E8:E224),\"=Katlamaja\")","v":0},{"$f":"COUNTIFS((Kõik!G8:G224),\"=Võrumaa\",(Kõik!E8:E224),\"=Katlamaja\")","v":0},4]
["Kloor",{"$f":"COUNTIFS((Kõik!G8:G224),\"=Harjumaa\",(Kõik!E8:E224),\"=Kloor\")","v":1},{"$f":"COUNTIFS((Kõik!G8:G224),\"=Hiiumaa\",(Kõik!E8:E224),\"=Kloor\")","v":0},{"$f":"COUNTIFS((Kõik!G8:G224),\"=Ida-Virumaa\",(Kõik!E8:E224),\"=Kloor\")","v":1},{"$f":"COUNTIFS((Kõik!G8:G224),\"=Jõgevamaa\",(Kõik!E8:E224),\"=Kloor\")","v":0},{"$f":"COUNTIFS((Kõik!G8:G224),\"=Järvamaa\",(Kõik!E8:E224),\"=Kloor\")","v":0},{"$f":"COUNTIFS((Kõik!G8:G224),\"=Läänemaa\",(Kõik!E8:E224),\"=Kloor\")","v":0},{"$f":"COUNTIFS((Kõik!G8:G224),\"=Lääne-Virumaa\",(Kõik!E8:E224),\"=Kloor\")","v":0},{"$f":"COUNTIFS((Kõik!G8:G224),\"=Põlvamaa\",(Kõik!E8:E224),\"=Kloor\")","v":0},{"$f":"COUNTIFS((Kõik!G8:G224),\"=Pärnumaa\",(Kõik!E8:E224),\"=Kloor\")","v":0},{"$f":"COUNTIFS((Kõik!G8:G224),\"=Raplamaa\",(Kõik!E8:E224),\"=Kloor\")","v":0},{"$f":"COUNTIFS((Kõik!G8:G224),\"=Saaremaa\",(Kõik!E8:E224),\"=Kloor\")","v":0},{"$f":"COUNTIFS((Kõik!G8:G224),\"=Tartumaa\",(Kõik!E8:E224),\"=Kloor\")","v":0},{"$f":"COUNTIFS((Kõik!G8:G224),\"=Valgamaa\",(Kõik!E8:E224),\"=Kloor\")","v":0},{"$f":"COUNTIFS((Kõik!G8:G224),\"=Viljandimaa\",(Kõik!E8:E224),\"=Kloor\")","v":0},{"$f":"COUNTIFS((Kõik!G8:G224),\"=Võrumaa\",(Kõik!E8:E224),\"=Kloor\")","v":0},2]
["Kroom",{"$f":"COUNTIFS((Kõik!G8:G224),\"=Harjumaa\",(Kõik!E8:E224),\"=Kroom\")","v":1},{"$f":"COUNTIFS((Kõik!G8:G224),\"=Hiiumaa\",(Kõik!E8:E224),\"=Kroom\")","v":0},{"$f":"COUNTIFS((Kõik!G8:G224),\"=Ida-Virumaa\",(Kõik!E8:E224),\"=Kroom\")","v":0},{"$f":"COUNTIFS((Kõik!G8:G224),\"=Jõgevamaa\",(Kõik!E8:E224),\"=Kroom\")","v":0},{"$f":"COUNTIFS((Kõik!G8:G224),\"=Järvamaa\",(Kõik!E8:E224),\"=Kroom\")","v":0},{"$f":"COUNTIFS((Kõik!G8:G224),\"=Läänemaa\",(Kõik!E8:E224),\"=Kroom\")","v":0},{"$f":"COUNTIFS((Kõik!G8:G224),\"=Lääne-Virumaa\",(Kõik!E8:E224),\"=Kroom\")","v":0},{"$f":"COUNTIFS((Kõik!G8:G224),\"=Põlvamaa\",(Kõik!E8:E224),\"=Kroom\")","v":0},{"$f":"COUNTIFS((Kõik!G8:G224),\"=Pärnumaa\",(Kõik!E8:E224),\"=Kroom\")","v":0},{"$f":"COUNTIFS((Kõik!G8:G224),\"=Raplamaa\",(Kõik!E8:E224),\"=Kroom\")","v":0},{"$f":"COUNTIFS((Kõik!G8:G224),\"=Saaremaa\",(Kõik!E8:E224),\"=Kroom\")","v":0},{"$f":"COUNTIFS((Kõik!G8:G224),\"=Tartumaa\",(Kõik!E8:E224),\"=Kroom\")","v":0},{"$f":"COUNTIFS((Kõik!G8:G224),\"=Valgamaa\",(Kõik!E8:E224),\"=Kroom\")","v":0},{"$f":"COUNTIFS((Kõik!G8:G224),\"=Viljandimaa\",(Kõik!E8:E224),\"=Kroom\")","v":0},{"$f":"COUNTIFS((Kõik!G8:G224),\"=Võrumaa\",(Kõik!E8:E224),\"=Kroom\")","v":0},1]
["Külmhoone",{"$f":"COUNTIFS((Kõik!G8:G224),\"=Harjumaa\",(Kõik!E8:E224),\"=Külmhoone\")","v":13},{"$f":"COUNTIFS((Kõik!G8:G224),\"=Hiiumaa\",(Kõik!E8:E224),\"=Külmhoone\")","v":0},{"$f":"COUNTIFS((Kõik!G8:G224),\"=Ida-Virumaa\",(Kõik!E8:E224),\"=Külmhoone\")","v":1},{"$f":"COUNTIFS((Kõik!G8:G224),\"=Jõgevamaa\",(Kõik!E8:E224),\"=Külmhoone\")","v":0},{"$f":"COUNTIFS((Kõik!G8:G224),\"=Järvamaa\",(Kõik!E8:E224),\"=Külmhoone\")","v":0},{"$f":"COUNTIFS((Kõik!G8:G224),\"=Läänemaa\",(Kõik!E8:E224),\"=Külmhoone\")","v":0},{"$f":"COUNTIFS((Kõik!G8:G224),\"=Lääne-Virumaa\",(Kõik!E8:E224),\"=Külmhoone\")","v":2},{"$f":"COUNTIFS((Kõik!G8:G224),\"=Põlvamaa\",(Kõik!E8:E224),\"=Külmhoone\")","v":1},{"$f":"COUNTIFS((Kõik!G8:G224),\"=Pärnumaa\",(Kõik!E8:E224),\"=Külmhoone\")","v":2},{"$f":"COUNTIFS((Kõik!G8:G224),\"=Raplamaa\",(Kõik!E8:E224),\"=Külmhoone\")","v":1},{"$f":"COUNTIFS((Kõik!G8:G224),\"=Saaremaa\",(Kõik!E8:E224),\"=Külmhoone\")","v":3},{"$f":"COUNTIFS((Kõik!G8:G224),\"=Tartumaa\",(Kõik!E8:E224),\"=Külmhoone\")","v":2},{"$f":"COUNTIFS((Kõik!G8:G224),\"=Valgamaa\",(Kõik!E8:E224),\"=Külmhoone\")","v":1},{"$f":"COUNTIFS((Kõik!G8:G224),\"=Viljandimaa\",(Kõik!E8:E224),\"=Külmhoone\")","v":1},{"$f":"COUNTIFS((Kõik!G8:G224),\"=Võrumaa\",(Kõik!E8:E224),\"=Külmhoone\")","v":0},27]
["Lõhkematerjal",{"$f":"COUNTIFS((Kõik!G8:G224),\"=Harjumaa\",(Kõik!E8:E224),\"=Lõhkematerjal\")","v":1},{"$f":"COUNTIFS((Kõik!G8:G224),\"=Hiiumaa\",(Kõik!E8:E224),\"=Lõhkematerjal\")","v":0},{"$f":"COUNTIFS((Kõik!G8:G224),\"=Ida-Virumaa\",(Kõik!E8:E224),\"=Lõhkematerjal\")","v":1},{"$f":"COUNTIFS((Kõik!G8:G224),\"=Jõgevamaa\",(Kõik!E8:E224),\"=Lõhkematerjal\")","v":0},{"$f":"COUNTIFS((Kõik!G8:G224),\"=Järvamaa\",(Kõik!E8:E224),\"=Lõhkematerjal\")","v":0},{"$f":"COUNTIFS((Kõik!G8:G224),\"=Läänemaa\",(Kõik!E8:E224),\"=Lõhkematerjal\")","v":0},{"$f":"COUNTIFS((Kõik!G8:G224),\"=Lääne-Virumaa\",(Kõik!E8:E224),\"=Lõhkematerjal\")","v":2},{"$f":"COUNTIFS((Kõik!G8:G224),\"=Põlvamaa\",(Kõik!E8:E224),\"=Lõhkematerjal\")","v":0},{"$f":"COUNTIFS((Kõik!G8:G224),\"=Pärnumaa\",(Kõik!E8:E224),\"=Lõhkematerjal\")","v":0},{"$f":"COUNTIFS((Kõik!G8:G224),\"=Raplamaa\",(Kõik!E8:E224),\"=Lõhkematerjal\")","v":0},{"$f":"COUNTIFS((Kõik!G8:G224),\"=Saaremaa\",(Kõik!E8:E224),\"=Lõhkematerjal\")","v":0},{"$f":"COUNTIFS((Kõik!G8:G224),\"=Tartumaa\",(Kõik!E8:E224),\"=Lõhkematerjal\")","v":0},{"$f":"COUNTIFS((Kõik!G8:G224),\"=Valgamaa\",(Kõik!E8:E224),\"=Lõhkematerjal\")","v":0},{"$f":"COUNTIFS((Kõik!G8:G224),\"=Viljandimaa\",(Kõik!E8:E224),\"=Lõhkematerjal\")","v":0},{"$f":"COUNTIFS((Kõik!G8:G224),\"=Võrumaa\",(Kõik!E8:E224),\"=Lõhkematerjal\")","v":0},4]
["Muldmetallid",{"$f":"COUNTIFS((Kõik!G8:G224),\"=Harjumaa\",(Kõik!E8:E224),\"=Muldmetallid\")","v":0},{"$f":"COUNTIFS((Kõik!G8:G224),\"=Hiiumaa\",(Kõik!E8:E224),\"=Muldmetallid\")","v":0},{"$f":"COUNTIFS((Kõik!G8:G224),\"=Ida-Virumaa\",(Kõik!E8:E224),\"=Muldmetallid\")","v":1},{"$f":"COUNTIFS((Kõik!G8:G224),\"=Jõgevamaa\",(Kõik!E8:E224),\"=Muldmetallid\")","v":0},{"$f":"COUNTIFS((Kõik!G8:G224),\"=Järvamaa\",(Kõik!E8:E224),\"=Muldmetallid\")","v":0},{"$f":"COUNTIFS((Kõik!G8:G224),\"=Läänemaa\",(Kõik!E8:E224),\"=Muldmetallid\")","v":0},{"$f":"COUNTIFS((Kõik!G8:G224),\"=Lääne-Virumaa\",(Kõik!E8:E224),\"=Muldmetallid\")","v":0},{"$f":"COUNTIFS((Kõik!G8:G224),\"=Põlvamaa\",(Kõik!E8:E224),\"=Muldmetallid\")","v":0},{"$f":"COUNTIFS((Kõik!G8:G224),\"=Pärnumaa\",(Kõik!E8:E224),\"=Muldmetallid\")","v":0},{"$f":"COUNTIFS((Kõik!G8:G224),\"=Raplamaa\",(Kõik!E8:E224),\"=Muldmetallid\")","v":0},{"$f":"COUNTIFS((Kõik!G8:G224),\"=Saaremaa\",(Kõik!E8:E224),\"=Muldmetallid\")","v":0},{"$f":"COUNTIFS((Kõik!G8:G224),\"=Tartumaa\",(Kõik!E8:E224),\"=Muldmetallid\")","v":0},{"$f":"COUNTIFS((Kõik!G8:G224),\"=Valgamaa\",(Kõik!E8:E224),\"=Muldmetallid\")","v":0},{"$f":"COUNTIFS((Kõik!G8:G224),\"=Viljandimaa\",(Kõik!E8:E224),\"=Muldmetallid\")","v":0},{"$f":"COUNTIFS((Kõik!G8:G224),\"=Võrumaa\",(Kõik!E8:E224),\"=Muldmetallid\")","v":0},1]
["Paber",{"$f":"COUNTIFS((Kõik!G8:G225),\"=Harjumaa\",(Kõik!E8:E225),\"=Paber\")","v":1},{"$f":"COUNTIFS((Kõik!G8:G225),\"=Hiiumaa\",(Kõik!E8:E225),\"=Paber\")","v":0},{"$f":"COUNTIFS((Kõik!G8:G225),\"=Ida-Virumaa\",(Kõik!E8:E225),\"=Paber\")","v":0},{"$f":"COUNTIFS((Kõik!G8:G225),\"=Jõgevamaa\",(Kõik!E8:E225),\"=Paber\")","v":0},{"$f":"COUNTIFS((Kõik!G8:G225),\"=Järvamaa\",(Kõik!E8:E225),\"=Paber\")","v":0},{"$f":"COUNTIFS((Kõik!G8:G225),\"=Läänemaa\",(Kõik!E8:E225),\"=Paber\")","v":0},{"$f":"COUNTIFS((Kõik!G8:G225),\"=Lääne-Virumaa\",(Kõik!E8:E225),\"=Paber\")","v":0},{"$f":"COUNTIFS((Kõik!G8:G225),\"=Põlvamaa\",(Kõik!E8:E225),\"=Paber\")","v":0},{"$f":"COUNTIFS((Kõik!G8:G225),\"=Pärnumaa\",(Kõik!E8:E225),\"=Paber\")","v":0},{"$f":"COUNTIFS((Kõik!G8:G225),\"=Raplamaa\",(Kõik!E8:E225),\"=Paber\")","v":0},{"$f":"COUNTIFS((Kõik!G8:G225),\"=Saaremaa\",(Kõik!E8:E225),\"=Paber\")","v":0},{"$f":"COUNTIFS((Kõik!G8:G225),\"=Tartumaa\",(Kõik!E8:E225),\"=Paber\")","v":0},{"$f":"COUNTIFS((Kõik!G8:G225),\"=Valgamaa\",(Kõik!E8:E225),\"=Paber\")","v":0},{"$f":"COUNTIFS((Kõik!G8:G225),\"=Viljandimaa\",(Kõik!E8:E225),\"=Paber\")","v":0},{"$f":"COUNTIFS((Kõik!G8:G225),\"=Võrumaa\",(Kõik!E8:E225),\"=Paber\")","v":0},{"$f":"SUM(B19:P19)","v":1}]
["Poroloon",{"$f":"COUNTIFS((Kõik!G11:G226),\"=Harjumaa\",(Kõik!E11:E226),\"=Poroloon\")","v":2},{"$f":"COUNTIFS((Kõik!G11:G226),\"=Hiiumaa\",(Kõik!E11:E226),\"=Poroloon\")","v":0},{"$f":"COUNTIFS((Kõik!G11:G226),\"=Ida-Virumaa\",(Kõik!E11:E226),\"=Poroloon\")","v":0},{"$f":"COUNTIFS((Kõik!G11:G226),\"=Jõgevamaa\",(Kõik!E11:E226),\"=Poroloon\")","v":0},{"$f":"COUNTIFS((Kõik!G11:G226),\"=Järvamaa\",(Kõik!E11:E226),\"=Poroloon\")","v":0},{"$f":"COUNTIFS((Kõik!G11:G226),\"=Läänemaa\",(Kõik!E11:E226),\"=Poroloon\")","v":0},{"$f":"COUNTIFS((Kõik!G11:G226),\"=Lääne-Virumaa\",(Kõik!E11:E226),\"=Poroloon\")","v":0},{"$f":"COUNTIFS((Kõik!G11:G226),\"=Põlvamaa\",(Kõik!E11:E226),\"=Poroloon\")","v":0},{"$f":"COUNTIFS((Kõik!G11:G226),\"=Pärnumaa\",(Kõik!E11:E226),\"=Poroloon\")","v":0},{"$f":"COUNTIFS((Kõik!G11:G226),\"=Raplamaa\",(Kõik!E11:E226),\"=Poroloon\")","v":0},{"$f":"COUNTIFS((Kõik!G11:G226),\"=Saaremaa\",(Kõik!E11:E226),\"=Poroloon\")","v":0},{"$f":"COUNTIFS((Kõik!G11:G226),\"=Tartumaa\",(Kõik!E11:E226),\"=Poroloon\")","v":0},{"$f":"COUNTIFS((Kõik!G11:G226),\"=Valgamaa\",(Kõik!E11:E226),\"=Poroloon\")","v":0},{"$f":"COUNTIFS((Kõik!G11:G226),\"=Viljandimaa\",(Kõik!E11:E226),\"=Poroloon\")","v":0},{"$f":"COUNTIFS((Kõik!G11:G226),\"=Võrumaa\",(Kõik!E11:E226),\"=Poroloon\")","v":0},2]
["Põlevkiviõli",{"$f":"COUNTIFS((Kõik!G8:G224),\"=Harjumaa\",(Kõik!E8:E224),\"=Põlevkiviõli\")","v":0},{"$f":"COUNTIFS((Kõik!G8:G224),\"=Hiiumaa\",(Kõik!E8:E224),\"=Põlevkiviõli\")","v":0},{"$f":"COUNTIFS((Kõik!G8:G224),\"=Ida-Virumaa\",(Kõik!E8:E224),\"=Põlevkiviõli\")","v":8},{"$f":"COUNTIFS((Kõik!G8:G224),\"=Jõgevamaa\",(Kõik!E8:E224),\"=Põlevkiviõli\")","v":0},{"$f":"COUNTIFS((Kõik!G8:G224),\"=Järvamaa\",(Kõik!E8:E224),\"=Põlevkiviõli\")","v":0},{"$f":"COUNTIFS((Kõik!G8:G224),\"=Läänemaa\",(Kõik!E8:E224),\"=Põlevkiviõli\")","v":0},{"$f":"COUNTIFS((Kõik!G8:G224),\"=Lääne-Virumaa\",(Kõik!E8:E224),\"=Põlevkiviõli\")","v":0},{"$f":"COUNTIFS((Kõik!G8:G224),\"=Põlvamaa\",(Kõik!E8:E224),\"=Põlevkiviõli\")","v":0},{"$f":"COUNTIFS((Kõik!G8:G224),\"=Pärnumaa\",(Kõik!E8:E224),\"=Põlevkiviõli\")","v":0},{"$f":"COUNTIFS((Kõik!G8:G224),\"=Raplamaa\",(Kõik!E8:E224),\"=Põlevkiviõli\")","v":0},{"$f":"COUNTIFS((Kõik!G8:G224),\"=Saaremaa\",(Kõik!E8:E224),\"=Põlevkiviõli\")","v":0},{"$f":"COUNTIFS((Kõik!G8:G224),\"=Tartumaa\",(Kõik!E8:E224),\"=Põlevkiviõli\")","v":0},{"$f":"COUNTIFS((Kõik!G8:G224),\"=Valgamaa\",(Kõik!E8:E224),\"=Põlevkiviõli\")","v":0},{"$f":"COUNTIFS((Kõik!G8:G224),\"=Viljandimaa\",(Kõik!E8:E224),\"=Põlevkiviõli\")","v":0},{"$f":"COUNTIFS((Kõik!G8:G224),\"=Võrumaa\",(Kõik!E8:E224),\"=Põlevkiviõli\")","v":0},8]
["Pärm",{"$f":"COUNTIFS((Kõik!G8:G225),\"=Harjumaa\",(Kõik!E8:E225),\"=Pärm\")","v":0},{"$f":"COUNTIFS((Kõik!G8:G225),\"=Hiiumaa\",(Kõik!E8:E225),\"=Pärm\")","v":0},{"$f":"COUNTIFS((Kõik!G8:G225),\"=Ida-Virumaa\",(Kõik!E8:E225),\"=Pärm\")","v":0},{"$f":"COUNTIFS((Kõik!G8:G225),\"=Jõgevamaa\",(Kõik!E8:E225),\"=Pärm\")","v":0},{"$f":"COUNTIFS((Kõik!G8:G225),\"=Järvamaa\",(Kõik!E8:E225),\"=Pärm\")","v":0},{"$f":"COUNTIFS((Kõik!G8:G225),\"=Läänemaa\",(Kõik!E8:E225),\"=Pärm\")","v":0},{"$f":"COUNTIFS((Kõik!G8:G225),\"=Lääne-Virumaa\",(Kõik!E8:E225),\"=Pärm\")","v":0},{"$f":"COUNTIFS((Kõik!G8:G225),\"=Põlvamaa\",(Kõik!E8:E225),\"=Pärm\")","v":0},{"$f":"COUNTIFS((Kõik!G8:G225),\"=Pärnumaa\",(Kõik!E8:E225),\"=Pärm\")","v":0},{"$f":"COUNTIFS((Kõik!G8:G225),\"=Raplamaa\",(Kõik!E8:E225),\"=Pärm\")","v":1},{"$f":"COUNTIFS((Kõik!G8:G225),\"=Saaremaa\",(Kõik!E8:E225),\"=Pärm\")","v":0},{"$f":"COUNTIFS((Kõik!G8:G225),\"=Tartumaa\",(Kõik!E8:E225),\"=Pärm\")","v":0},{"$f":"COUNTIFS((Kõik!G8:G225),\"=Valgamaa\",(Kõik!E8:E225),\"=Pärm\")","v":0},{"$f":"COUNTIFS((Kõik!G8:G225),\"=Viljandimaa\",(Kõik!E8:E225),\"=Pärm\")","v":0},{"$f":"COUNTIFS((Kõik!G8:G225),\"=Võrumaa\",(Kõik!E8:E225),\"=Pärm\")","v":0},{"$f":"SUM(B22:P22)","v":1}]
["Pürotehnika",{"$f":"COUNTIFS((Kõik!G8:G224),\"=Harjumaa\",(Kõik!E8:E224),\"=Pürotehnika\")","v":3},{"$f":"COUNTIFS((Kõik!G8:G224),\"=Hiiumaa\",(Kõik!E8:E224),\"=Pürotehnika\")","v":0},{"$f":"COUNTIFS((Kõik!G8:G224),\"=Ida-Virumaa\",(Kõik!E8:E224),\"=Pürotehnika\")","v":0},{"$f":"COUNTIFS((Kõik!G8:G224),\"=Jõgevamaa\",(Kõik!E8:E224),\"=Pürotehnika\")","v":0},{"$f":"COUNTIFS((Kõik!G8:G224),\"=Järvamaa\",(Kõik!E8:E224),\"=Pürotehnika\")","v":0},{"$f":"COUNTIFS((Kõik!G8:G224),\"=Läänemaa\",(Kõik!E8:E224),\"=Pürotehnika\")","v":0},{"$f":"COUNTIFS((Kõik!G8:G224),\"=Lääne-Virumaa\",(Kõik!E8:E224),\"=Pürotehnika\")","v":1},{"$f":"COUNTIFS((Kõik!G8:G224),\"=Põlvamaa\",(Kõik!E8:E224),\"=Pürotehnika\")","v":0},{"$f":"COUNTIFS((Kõik!G8:G224),\"=Pärnumaa\",(Kõik!E8:E224),\"=Pürotehnika\")","v":0},{"$f":"COUNTIFS((Kõik!G8:G224),\"=Raplamaa\",(Kõik!E8:E224),\"=Pürotehnika\")","v":0},{"$f":"COUNTIFS((Kõik!G8:G224),\"=Saaremaa\",(Kõik!E8:E224),\"=Pürotehnika\")","v":0},{"$f":"COUNTIFS((Kõik!G8:G224),\"=Tartumaa\",(Kõik!E8:E224),\"=Pürotehnika\")","v":2},{"$f":"COUNTIFS((Kõik!G8:G224),\"=Valgamaa\",(Kõik!E8:E224),\"=Pürotehnika\")","v":0},{"$f":"COUNTIFS((Kõik!G8:G224),\"=Viljandimaa\",(Kõik!E8:E224),\"=Pürotehnika\")","v":2},{"$f":"COUNTIFS((Kõik!G8:G224),\"=Võrumaa\",(Kõik!E8:E224),\"=Pürotehnika\")","v":1},9]
["Tankla",{"$f":"COUNTIFS((Kõik!G8:G224),\"=Harjumaa\",(Kõik!E8:E224),\"=Tankla\")","v":18},{"$f":"COUNTIFS((Kõik!G8:G224),\"=Hiiumaa\",(Kõik!E8:E224),\"=Tankla\")","v":0},{"$f":"COUNTIFS((Kõik!G8:G224),\"=Ida-Virumaa\",(Kõik!E8:E224),\"=Tankla\")","v":2},{"$f":"COUNTIFS((Kõik!G8:G224),\"=Jõgevamaa\",(Kõik!E8:E224),\"=Tankla\")","v":2},{"$f":"COUNTIFS((Kõik!G8:G224),\"=Järvamaa\",(Kõik!E8:E224),\"=Tankla\")","v":1},{"$f":"COUNTIFS((Kõik!G8:G224),\"=Läänemaa\",(Kõik!E8:E224),\"=Tankla\")","v":1},{"$f":"COUNTIFS((Kõik!G8:G224),\"=Lääne-Virumaa\",(Kõik!E8:E224),\"=Tankla\")","v":1},{"$f":"COUNTIFS((Kõik!G8:G224),\"=Põlvamaa\",(Kõik!E8:E224),\"=Tankla\")","v":2},{"$f":"COUNTIFS((Kõik!G8:G224),\"=Pärnumaa\",(Kõik!E8:E224),\"=Tankla\")","v":4},{"$f":"COUNTIFS((Kõik!G8:G224),\"=Raplamaa\",(Kõik!E8:E224),\"=Tankla\")","v":0},{"$f":"COUNTIFS((Kõik!G8:G224),\"=Saaremaa\",(Kõik!E8:E224),\"=Tankla\")","v":2},{"$f":"COUNTIFS((Kõik!G8:G224),\"=Tartumaa\",(Kõik!E8:E224),\"=Tankla\")","v":9},{"$f":"COUNTIFS((Kõik!G8:G224),\"=Valgamaa\",(Kõik!E8:E224),\"=Tankla\")","v":1},{"$f":"COUNTIFS((Kõik!G8:G224),\"=Viljandimaa\",(Kõik!E8:E224),\"=Tankla\")","v":2},{"$f":"COUNTIFS((Kõik!G8:G224),\"=Võrumaa\",(Kõik!E8:E224),\"=Tankla\")","v":1},46]
["Terminal",{"$f":"COUNTIFS((Kõik!G8:G224),\"=Harjumaa\",(Kõik!E8:E224),\"=Terminal\")","v":17},{"$f":"COUNTIFS((Kõik!G8:G224),\"=Hiiumaa\",(Kõik!E8:E224),\"=Terminal\")","v":0},{"$f":"COUNTIFS((Kõik!G8:G224),\"=Ida-Virumaa\",(Kõik!E8:E224),\"=Terminal\")","v":3},{"$f":"COUNTIFS((Kõik!G8:G224),\"=Jõgevamaa\",(Kõik!E8:E224),\"=Terminal\")","v":0},{"$f":"COUNTIFS((Kõik!G8:G224),\"=Järvamaa\",(Kõik!E8:E224),\"=Terminal\")","v":0},{"$f":"COUNTIFS((Kõik!G8:G224),\"=Läänemaa\",(Kõik!E8:E224),\"=Terminal\")","v":0},{"$f":"COUNTIFS((Kõik!G8:G224),\"=Lääne-Virumaa\",(Kõik!E8:E224),\"=Terminal\")","v":4},{"$f":"COUNTIFS((Kõik!G8:G224),\"=Põlvamaa\",(Kõik!E8:E224),\"=Terminal\")","v":0},{"$f":"COUNTIFS((Kõik!G8:G224),\"=Pärnumaa\",(Kõik!E8:E224),\"=Terminal\")","v":0},{"$f":"COUNTIFS((Kõik!G8:G224),\"=Raplamaa\",(Kõik!E8:E224),\"=Terminal\")","v":0},{"$f":"COUNTIFS((Kõik!G8:G224),\"=Saaremaa\",(Kõik!E8:E224),\"=Terminal\")","v":0},{"$f":"COUNTIFS((Kõik!G8:G224),\"=Tartumaa\",(Kõik!E8:E224),\"=Terminal\")","v":1},{"$f":"COUNTIFS((Kõik!G8:G224),\"=Valgamaa\",(Kõik!E8:E224),\"=Terminal\")","v":0},{"$f":"COUNTIFS((Kõik!G8:G224),\"=Viljandimaa\",(Kõik!E8:E224),\"=Terminal\")","v":1},{"$f":"COUNTIFS((Kõik!G8:G224),\"=Võrumaa\",(Kõik!E8:E224),\"=Terminal\")","v":0},26]
["Vahud",{"$f":"COUNTIFS((Kõik!G8:G224),\"=Harjumaa\",(Kõik!E8:E224),\"=Vahud\")","v":1},{"$f":"COUNTIFS((Kõik!G8:G224),\"=Hiiumaa\",(Kõik!E8:E224),\"=Vahud\")","v":0},{"$f":"COUNTIFS((Kõik!G8:G224),\"=Ida-Virumaa\",(Kõik!E8:E224),\"=Vahud\")","v":0},{"$f":"COUNTIFS((Kõik!G8:G224),\"=Jõgevamaa\",(Kõik!E8:E224),\"=Vahud\")","v":0},{"$f":"COUNTIFS((Kõik!G8:G224),\"=Järvamaa\",(Kõik!E8:E224),\"=Vahud\")","v":0},{"$f":"COUNTIFS((Kõik!G8:G224),\"=Läänemaa\",(Kõik!E8:E224),\"=Vahud\")","v":0},{"$f":"COUNTIFS((Kõik!G8:G224),\"=Lääne-Virumaa\",(Kõik!E8:E224),\"=Vahud\")","v":0},{"$f":"COUNTIFS((Kõik!G8:G224),\"=Põlvamaa\",(Kõik!E8:E224),\"=Vahud\")","v":0},{"$f":"COUNTIFS((Kõik!G8:G224),\"=Pärnumaa\",(Kõik!E8:E224),\"=Vahud\")","v":1},{"$f":"COUNTIFS((Kõik!G8:G224),\"=Raplamaa\",(Kõik!E8:E224),\"=Vahud\")","v":0},{"$f":"COUNTIFS((Kõik!G8:G224),\"=Saaremaa\",(Kõik!E8:E224),\"=Vahud\")","v":0},{"$f":"COUNTIFS((Kõik!G8:G224),\"=Tartumaa\",(Kõik!E8:E224),\"=Vahud\")","v":0},{"$f":"COUNTIFS((Kõik!G8:G224),\"=Valgamaa\",(Kõik!E8:E224),\"=Vahud\")","v":0},{"$f":"COUNTIFS((Kõik!G8:G224),\"=Viljandimaa\",(Kõik!E8:E224),\"=Vahud\")","v":0},{"$f":"COUNTIFS((Kõik!G8:G224),\"=Võrumaa\",(Kõik!E8:E224),\"=Vahud\")","v":0},2]
["Vaigud",{"$f":"COUNTIFS((Kõik!G8:G225),\"=Harjumaa\",(Kõik!E8:E225),\"=Vaigud\")","v":0},{"$f":"COUNTIFS((Kõik!G8:G225),\"=Hiiumaa\",(Kõik!E8:E225),\"=Vaigud\")","v":0},{"$f":"COUNTIFS((Kõik!G8:G225),\"=Ida-Virumaa\",(Kõik!E8:E225),\"=Vaigud\")","v":1},{"$f":"COUNTIFS((Kõik!G8:G225),\"=Jõgevamaa\",(Kõik!E8:E225),\"=Vaigud\")","v":0},{"$f":"COUNTIFS((Kõik!G8:G225),\"=Järvamaa\",(Kõik!E8:E225),\"=Vaigud\")","v":0},{"$f":"COUNTIFS((Kõik!G8:G225),\"=Läänemaa\",(Kõik!E8:E225),\"=Vaigud\")","v":0},{"$f":"COUNTIFS((Kõik!G8:G225),\"=Lääne-Virumaa\",(Kõik!E8:E225),\"=Vaigud\")","v":0},{"$f":"COUNTIFS((Kõik!G8:G225),\"=Põlvamaa\",(Kõik!E8:E225),\"=Vaigud\")","v":0},{"$f":"COUNTIFS((Kõik!G8:G225),\"=Pärnumaa\",(Kõik!E8:E225),\"=Vaigud\")","v":0},{"$f":"COUNTIFS((Kõik!G8:G225),\"=Raplamaa\",(Kõik!E8:E225),\"=Vaigud\")","v":0},{"$f":"COUNTIFS((Kõik!G8:G225),\"=Saaremaa\",(Kõik!E8:E225),\"=Vaigud\")","v":0},{"$f":"COUNTIFS((Kõik!G8:G225),\"=Tartumaa\",(Kõik!E8:E225),\"=Vaigud\")","v":0},{"$f":"COUNTIFS((Kõik!G8:G225),\"=Valgamaa\",(Kõik!E8:E225),\"=Vaigud\")","v":0},{"$f":"COUNTIFS((Kõik!G8:G225),\"=Viljandimaa\",(Kõik!E8:E225),\"=Vaigud\")","v":0},{"$f":"COUNTIFS((Kõik!G8:G225),\"=Võrumaa\",(Kõik!E8:E225),\"=Vaigud\")","v":0},{"$f":"SUM(B27:P27)","v":1}]
["Vesinikperoksiid",{"$f":"COUNTIFS((Kõik!G11:G226),\"=Harjumaa\",(Kõik!E11:E226),\"=Vesinikperoksiid\")","v":0},{"$f":"COUNTIFS((Kõik!G11:G226),\"=Hiiumaa\",(Kõik!E11:E226),\"=Vesinikperoksiid\")","v":0},{"$f":"COUNTIFS((Kõik!G11:G226),\"=Ida-Virumaa\",(Kõik!E11:E226),\"=Vesinikperoksiid\")","v":0},{"$f":"COUNTIFS((Kõik!G11:G226),\"=Jõgevamaa\",(Kõik!E11:E226),\"=Vesinikperoksiid\")","v":0},{"$f":"COUNTIFS((Kõik!G11:G226),\"=Järvamaa\",(Kõik!E11:E226),\"=Vesinikperoksiid\")","v":0},{"$f":"COUNTIFS((Kõik!G11:G226),\"=Läänemaa\",(Kõik!E11:E226),\"=Vesinikperoksiid\")","v":0},{"$f":"COUNTIFS((Kõik!G11:G226),\"=Lääne-Virumaa\",(Kõik!E11:E226),\"=Vesinikperoksiid\")","v":1},{"$f":"COUNTIFS((Kõik!G11:G226),\"=Põlvamaa\",(Kõik!E11:E226),\"=Vesinikperoksiid\")","v":0},{"$f":"COUNTIFS((Kõik!G11:G226),\"=Pärnumaa\",(Kõik!E11:E226),\"=Vesinikperoksiid\")","v":0},{"$f":"COUNTIFS((Kõik!G11:G226),\"=Raplamaa\",(Kõik!E11:E226),\"=Vesinikperoksiid\")","v":0},{"$f":"COUNTIFS((Kõik!G11:G226),\"=Saaremaa\",(Kõik!E11:E226),\"=Vesinikperoksiid\")","v":0},{"$f":"COUNTIFS((Kõik!G11:G226),\"=Tartumaa\",(Kõik!E11:E226),\"=Vesinikperoksiid\")","v":0},{"$f":"COUNTIFS((Kõik!G11:G226),\"=Valgamaa\",(Kõik!E11:E226),\"=Vesinikperoksiid\")","v":0},{"$f":"COUNTIFS((Kõik!G11:G226),\"=Viljandimaa\",(Kõik!E11:E226),\"=Vesinikperoksiid\")","v":0},{"$f":"COUNTIFS((Kõik!G11:G226),\"=Võrumaa\",(Kõik!E11:E226),\"=Vesinikperoksiid\")","v":0},1]
["Väetised",{"$f":"COUNTIFS((Kõik!G8:G224),\"=Harjumaa\",(Kõik!E8:E224),\"=Väetised\")","v":6},{"$f":"COUNTIFS((Kõik!G8:G224),\"=Hiiumaa\",(Kõik!E8:E224),\"=Väetised\")","v":0},{"$f":"COUNTIFS((Kõik!G8:G224),\"=Ida-Virumaa\",(Kõik!E8:E224),\"=Väetised\")","v":1},{"$f":"COUNTIFS((Kõik!G8:G224),\"=Jõgevamaa\",(Kõik!E8:E224),\"=Väetised\")","v":1},{"$f":"COUNTIFS((Kõik!G8:G224),\"=Järvamaa\",(Kõik!E8:E224),\"=Väetised\")","v":0},{"$f":"COUNTIFS((Kõik!G8:G224),\"=Läänemaa\",(Kõik!E8:E224),\"=Väetised\")","v":0},{"$f":"COUNTIFS((Kõik!G8:G224),\"=Lääne-Virumaa\",(Kõik!E8:E224),\"=Väetised\")","v":0},{"$f":"COUNTIFS((Kõik!G8:G224),\"=Põlvamaa\",(Kõik!E8:E224),\"=Väetised\")","v":0},{"$f":"COUNTIFS((Kõik!G8:G224),\"=Pärnumaa\",(Kõik!E8:E224),\"=Väetised\")","v":0},{"$f":"COUNTIFS((Kõik!G8:G224),\"=Raplamaa\",(Kõik!E8:E224),\"=Väetised\")","v":0},{"$f":"COUNTIFS((Kõik!G8:G224),\"=Saaremaa\",(Kõik!E8:E224),\"=Väetised\")","v":0},{"$f":"COUNTIFS((Kõik!G8:G224),\"=Tartumaa\",(Kõik!E8:E224),\"=Väetised\")","v":1},{"$f":"COUNTIFS((Kõik!G8:G224),\"=Valgamaa\",(Kõik!E8:E224),\"=Väetised\")","v":0},{"$f":"COUNTIFS((Kõik!G8:G224),\"=Viljandimaa\",(Kõik!E8:E224),\"=Väetised\")","v":0},{"$f":"COUNTIFS((Kõik!G8:G224),\"=Võrumaa\",(Kõik!E8:E224),\"=Väetised\")","v":0},9]
["Värvid",{"$f":"COUNTIFS((Kõik!G8:G224),\"=Harjumaa\",(Kõik!E8:E224),\"=Värvid\")","v":2},{"$f":"COUNTIFS((Kõik!G8:G224),\"=Hiiumaa\",(Kõik!E8:E224),\"=Värvid\")","v":0},{"$f":"COUNTIFS((Kõik!G8:G224),\"=Ida-Virumaa\",(Kõik!E8:E224),\"=Värvid\")","v":0},{"$f":"COUNTIFS((Kõik!G8:G224),\"=Jõgevamaa\",(Kõik!E8:E224),\"=Värvid\")","v":0},{"$f":"COUNTIFS((Kõik!G8:G224),\"=Järvamaa\",(Kõik!E8:E224),\"=Värvid\")","v":0},{"$f":"COUNTIFS((Kõik!G8:G224),\"=Läänemaa\",(Kõik!E8:E224),\"=Värvid\")","v":0},{"$f":"COUNTIFS((Kõik!G8:G224),\"=Lääne-Virumaa\",(Kõik!E8:E224),\"=Värvid\")","v":0},{"$f":"COUNTIFS((Kõik!G8:G224),\"=Põlvamaa\",(Kõik!E8:E224),\"=Värvid\")","v":0},{"$f":"COUNTIFS((Kõik!G8:G224),\"=Pärnumaa\",(Kõik!E8:E224),\"=Värvid\")","v":0},{"$f":"COUNTIFS((Kõik!G8:G224),\"=Raplamaa\",(Kõik!E8:E224),\"=Värvid\")","v":1},{"$f":"COUNTIFS((Kõik!G8:G224),\"=Saaremaa\",(Kõik!E8:E224),\"=Värvid\")","v":0},{"$f":"COUNTIFS((Kõik!G8:G224),\"=Tartumaa\",(Kõik!E8:E224),\"=Värvid\")","v":0},{"$f":"COUNTIFS((Kõik!G8:G224),\"=Valgamaa\",(Kõik!E8:E224),\"=Värvid\")","v":0},{"$f":"COUNTIFS((Kõik!G8:G224),\"=Viljandimaa\",(Kõik!E8:E224),\"=Värvid\")","v":0},{"$f":"COUNTIFS((Kõik!G8:G224),\"=Võrumaa\",(Kõik!E8:E224),\"=Värvid\")","v":0},3]
["KOKKU",{"$f":"SUM(B2:B30)","v":91},{"$f":"SUM(C2:C30)","v":0},29,4,6,3,17,3,9,6,7,24,4,8,6,217]

{"sheet":"Kustutatud","index":8,"n_rows":15,"n_cols":35,"rows_kept":15,"cut":false,"hidden":false,"merged":[]}
["Kustutatud","Käitis","kommentaarid","KAT","EKTL","Tegevus","Seveso","Maakond","Linn","Vald","Küla","Aadress","Oht","Domino","TL asi","TL kp","RA asi","RA kp","HOLP asi","HOLP kp","OTS asi","OTS kp","OA asi","OA kp","Luba","Loa nr","Loa kp","e-mail","JVIS",2015,"2016","2017","2018","2019","2020"]
["2016-02-29","VKG Soojus AS Tipp- ja reservkatlamaja kompleks","150 t; ei ole ohtlik","C","x","Põlevkiviõli","kütuste ladustamine (sh kütmine, jaemüük jne)","Ida-Virumaa","Kohtla-Järve",null,null,"Ristika 1",50,null,"14-0075","2014-02-11","14-0075","2014-10-30",{"$nulls":6},"THS","KKL/319098","2010-11-05","vkgsoojus@vkg.ee",null,null,"TJA","PA"]
["2016-03-03","Eraküte AS Kuperjanovi tn katlamaja","100 t; ei ole ohtlik","C",null,"Katlamaja","kütuste ladustamine (sh kütmine, jaemüük jne)","Valgamaa","Valga",null,null,"Kuperjanovi 99a",45,null,"13-0211","2013-01-28","13-0211","2013-03-26","13-0211","2013-04-30",{"$nulls":4},"KemS","OKK-02-13","2013-05-03","erakyte@erakyte.ee",null,null,"PA"]
["2016-03-03","Eraküte AS Valga keskkatlamaja","400 t; ei ole ohtlik","B",null,"Katlamaja","kütuste ladustamine (sh kütmine, jaemüük jne)","Valgamaa","Valga",null,null,"Pärna pst 15",47,null,"13-0211","2013-01-28","13-0211","2013-03-26","13-0211","2013-04-30","13-0211","2013-03-26",null,null,"KemS","OKK-01-13","2013-05-03","valga@erakyte.ee",null,"PA",null,null,"PA"]
["2016-03-03","Eraküte AS Haapsalu katlamaja","800 t; ei ole ohtlik","A",null,"Katlamaja","kütuste ladustamine (sh kütmine, jaemüük jne)","Läänemaa","Haapsalu",null,null,"Niine 47a",105,null,"13-0211","2014-06-18","13-0211","2014-09-18","13-0211","2014-12-04","13-0211","2014-09-18","13-0211","2014-09-18","KemS","OKK-54-14","2014-12-08","haapsalu@erakyte.ee",null,"PA",null,null,"PA"]
["2016-03-07","Sillamäe SEJ AS","900 t; ei ole ohtlik","A",null,"Põlevkiviõli","kütuste ladustamine (sh kütmine, jaemüük jne)","Ida-Virumaa","Sillamäe",null,null,"Kesk 4",null,null,"12-1672","2012-10-12",{"$nulls":8},"THS","L.KKL.IV-197728","2008-12-31","silpower@silpower.ee ",null,null,"TJA","PA",null,null,"PA"]
["2016-03-08","Põltsamaa Felix AS katlamaja","85 t; ei ole ohtlik","C",null,"Katlamaja","kütuste ladustamine (sh kütmine, jaemüük jne)","Jõgevamaa","Põltsamaa",null,null,"Tallinna mnt 1",null,null,"12-1242","2012-05-21","12-1242","2012-07-11","12-1242","2012-11-05",{"$nulls":4},"KemS","OKK-08-14","2014-04-17","info@poltsamaafelix.ee",null,null,null,"PA",null,null,"PA"]
["2016-03-08","Elveso AS","190 t; ei ole ohtli","C",null,"Katlamaja","kütuste ladustamine (sh kütmine, jaemüük jne)","Harjumaa",null,"Rae","Jüri","Ehituse 9",58,null,"14-1572","2014-10-30","14-1572","2014-12-19","14-1572","2015-01-06",{"$nulls":4},"KemS","OKK-05-15","2015-01-13","info@elveso.ee",null,"PA",null,null,"PA"]
["2016-05-17","Reola Gaas AS - Laanekuru OÜ viljakuivati","29.04.2016 teade, et mahuti demonteeritud","C",null,"Gaas","vedelgaasi ladustamine","Viljandimaa",null,"Viljandi","Marna","Marna Kuivati",392,null,"14-1613","2014-12-04","14-1613","2015-02-17","14-1613","2016-04-08",{"$nulls":4},"Taotlus","taotlus sees","2015-11-04","reola@reolagaas.ee",null,"PA",{"$nulls":4},"PA"]
["2016-05-17","Reola Gaas AS - Tamme Kuivatid OÜ viljakuivati","06.05.2016 teade, et mahuti demonteeritud ja loa menetluse lõpetamist","C",null,"Gaas","vedelgaasi ladustamine","Tartumaa",null,"Mäksa","Tammevaldma","Kuivati",392,null,"14-1613","2014-12-04","14-1613","2015-02-17","14-1613","2016-04-08",{"$nulls":4},"Taotlus","taotlus sees","2015-11-04","reola@reolagaas.ee",null,"PA",{"$nulls":4},"PA"]
["2016-07-01","Elme Messer Gaas AS",null,"C",null,"Gaas","keemiatööstuskäitised - tööstusgaasid","Harjumaa","Tallinn ",null,null,"Kopli 103",200,null,"13-1694","2013-09-02","13-1694","2014-01-21","13-1694","2014-09-19",{"$nulls":4},"THS","L.KKL.HA-222649 ","2006-01-09","emg@emg.blrt.ee","2013-07-31",null,null,"PA","TJA",null,"PA"]
["2016-08-31","Valio Eesti AS - Võru Juustutööstus","ei ole ohtlik","C",null,"Külmhoone","toiduainete ja jookide tootmine","Võrumaa","Võru",null,null,"Pikk 23",398,null,"12-2353","2016-08-19","12-2353","2013-01-28","12-2353","2013-12-20",{"$nulls":4},"THS","L.KKL.VÕ-187008","2008-10-22","valio@valio.ee","2016-08-19",null,"TJA/PA",null,null,"PA"]
["2016-10-28","Valio Eesti AS - Laeva Meierei","ei ole ohtlik - TJA kiri 04.10.2016, ettevõtja taotlus 12.10.16","C",null,"Külmhoone","toiduainete ja jookide tootmine","Tartumaa",null,"Laeva","Valmaotsa","Alma",407,null,"13-1915","2016-09-19","13-1915","2014-04-08","13-1915","2014-07-14",{"$nulls":4},"KemS","OKK-52-14","2014-12-08","valio@valio.ee","2016-08-18",null,"PA",null,"TJA","PA"]
["2016-10-28","Mistra-Autex AS","100 t; ei ole ohtlik - tühistamise taotlus 127.10.2016","C",null,"Põlevkiviõli","kütuste ladustamine (sh kütmine, jaemüük jne)","Harjumaa",null,"Raasiku","Raasiku","Paju 2",null,null,"12-0869","2013-11-25","12-0869","2012-09-28","12-0869","2012-04-05",{"$nulls":4},"KemS","OKK-10-13","2013-12-03"," mistra@mistra-autex.ee ","2014-04-16",null,"PA",null,null,"TJA/PA"]
["2016-11-15","MARSALIS METALL OÜ","endine Loksa Laevaremonditehas AS - ei ole ohtlik","C",null,"Gaas","vedelgaasi ladustamine","Harjumaa","Loksa",null,null,"Tallinna 2",233,null,"16-1691","2016-11-10","13-2295","2014-03-10",{"$nulls":6},"THS","L.KKL.HA-216935","2005-02-11","loksa@marsalis.ee","2013-10-24",null,null,"PA","TJA",null,"PA"]

{"sheet":"Peatatud","index":9,"n_rows":2,"n_cols":35,"rows_kept":2,"cut":false,"hidden":false,"merged":[]}
["Luba peatatud","Käitis","kommentaarid","KAT","EKTL","Tegevus","Seveso","Maakond","Linn","Vald","Küla","Aadress","Oht","Domino","TL asi","TL kp","RA asi","RA kp","HOLP asi","HOLP kp","OTS asi","OTS kp","OA asi","OA kp","Luba","Loa nr","Loa kp","e-mail","JVIS",2015,"2016","2017","2018","2019","2020"]
["2016-06-08","VKG Energia OÜ Lõuna SEJ","ei ole ohtlik","C","x","Põlevkiviõli","kütuste ladustamine (sh kütmine, jaemüük jne)","Ida-Virumaa","Kohtla-Järve",null,null,"Keemia 2a",null,null,"11-1412","2011-11-17","12-1163","2012-11-27","12-1163","2011-09-12",{"$nulls":4},"KemS","OKK-04-15","2015-02-20","vkgenergia@vkg.ee","2012-10-25","PA",null,"TJA/PA"]